{"text_format":"3","workbook":"xlsx","n_sheets":18,"sheets":["Controles de Ley","ListaD","BasePA_GEN","PA_GEN","BasePA_VID","PA_VID","BaseRS_GEN","RS_GEN","BaseRS_VID","RS_VID","BaseRA_GEN","RA_GEN","BaseRA_VID","RA_VID","BaseCM_GEN","CM_GEN","BaseCM_VID","CM_VID"],"not_rendered":{"images":1,"defined_names":3},"read":"whole","date_system":"1900"}

{"sheet":"Controles de Ley","index":0,"n_rows":21,"n_cols":3,"rows_kept":21}
[]
[]
[]
[null,null,"CONTROLES DE LEY"]
[]
[]
[null,null,"Patrimonio Adecuado y Patrimonio Técnico - Seguros Generales"]
[]
[null,null,"Patrimonio Adecuado y Patrimonio Técnico - Seguros de Vida"]
[]
[null,null,"Riesgo de Suscripción - Seguros Generales"]
[]
[null,null,"Riesgo de Suscripción - Seguros de Vida"]
[]
[null,null,"Riesgo de Activos - Seguros Generales"]
[]
[null,null,"Riesgo de Activos - Seguros de Vida"]
[]
[null,null,"Capitales Mínimos - Seguros Generales"]
[]
[null,null,"Capitales Mínimos - Seguros de Vida"]

{"sheet":"ListaD","index":1,"n_rows":977,"n_cols":2,"rows_kept":977,"hidden":true}
["2025-04-30","Fecha"]
["2025-05-31","2016-12-31"]
["2025-06-30","2017-01-31"]
[null,"2017-02-28"]
[null,"2017-03-31"]
[null,"2017-04-30"]
[null,"2017-05-31"]
[null,"2017-06-30"]
[null,"2017-07-31"]
[null,"2017-08-31"]
[null,"2017-09-30"]
[null,"2017-10-31"]
[null,"2017-11-30"]
[null,"2017-12-31"]
[null,"2018-01-31"]
[null,"2018-02-28"]
[null,"2018-03-31"]
[null,"2018-04-30"]
[null,"2018-05-31"]
[null,"2018-06-30"]
[null,"2018-07-31"]
[null,"2018-08-31"]
[null,"2018-09-30"]
[null,"2018-10-31"]
[null,"2018-11-30"]
[null,"2018-12-31"]
[null,"2019-01-31"]
[null,"2019-02-28"]
[null,"2019-03-31"]
[null,"2019-04-30"]
[null,"2019-05-31"]
[null,"2019-06-30"]
[null,"2019-07-31"]
[null,"2019-08-31"]
[null,"2019-09-30"]
[null,"2019-10-31"]
[null,"2019-11-30"]
[null,"2019-12-31"]
[null,"2020-01-31"]
[null,"2020-02-29"]
[null,"2020-03-31"]
[null,"2020-04-30"]
[null,"2020-05-31"]
[null,"2020-06-30"]
[null,"2020-07-31"]
[null,"2020-08-31"]
[null,"2020-09-30"]
[null,"2020-10-31"]
[null,"2020-11-30"]
[null,"2020-12-31"]
[null,"2021-01-31"]
[null,"2021-02-28"]
[null,"2021-03-31"]
[null,"2021-04-30"]
[null,"2021-05-31"]
[null,"2021-06-30"]
[null,"2021-07-31"]
[null,"2021-08-31"]
[null,"2021-09-30"]
[null,"2021-10-31"]
[null,"2021-11-30"]
[null,"2021-12-31"]
[null,"2022-01-31"]
[null,"2022-02-28"]
[null,"2022-03-31"]
[null,"2022-04-30"]
[null,"2022-05-31"]
[null,"2022-06-30"]
[null,"2022-07-31"]
[null,"2022-08-31"]
[null,"2022-09-30"]
[null,"2022-10-31"]
[null,"2022-11-30"]
[null,"2022-12-31"]
[null,"2023-01-31"]
[null,"2023-02-28"]
[null,"2023-03-31"]
[null,"2023-04-30"]
[null,"2023-05-31"]
[null,"2023-06-30"]
[null,"2023-07-31"]
[null,"2023-08-31"]
[null,"2023-09-30"]
[null,"2023-10-31"]
[null,"2023-11-30"]
[null,"2023-12-31"]
[null,"2024-01-31"]
[null,"2024-02-29"]
[null,"2024-03-31"]
[null,"2024-04-30"]
[null,"2024-05-31"]
[null,"2024-06-30"]
[null,"2024-07-31"]
[null,"2024-08-31"]
[null,"2024-09-30"]
[null,"2024-10-31"]
[null,"2024-11-30"]
[null,"2024-12-31"]
[null,"2025-01-31"]
[null,"2025-02-28"]
[null,"2025-03-31"]
[null,"2025-04-30"]
[null,"2025-05-31"]
[null,"2025-06-30"]
[null,"2025-07-31"]
[null,"2025-08-31"]
[null,"2025-09-30"]
[null,"2025-10-31"]
[null,"2025-11-30"]
[null,"2025-12-31"]
[null,"2026-01-31"]
[null,"2026-02-28"]
[null,"2026-03-31"]
[null,"2026-04-30"]
[null,"2026-05-31"]
[null,"2026-06-30"]
[null,"2026-07-31"]
[null,"2026-08-31"]
[null,"2026-09-30"]
[null,"2026-10-31"]
[null,"2026-11-30"]
[null,"2026-12-31"]
[null,"2027-01-31"]
[null,"2027-02-28"]
[null,"2027-03-31"]
[null,"2027-04-30"]
[null,"2027-05-31"]
[null,"2027-06-30"]
[null,"2027-07-31"]
[null,"2027-08-31"]
[null,"2027-09-30"]
[null,"2027-10-31"]
[null,"2027-11-30"]
[null,"2027-12-31"]
[null,"2028-01-31"]
[null,"2028-02-29"]
[null,"2028-03-31"]
[null,"2028-04-30"]
[null,"2028-05-31"]
[null,"2028-06-30"]
[null,"2028-07-31"]
[null,"2028-08-31"]
[null,"2028-09-30"]
[null,"2028-10-31"]
[null,"2028-11-30"]
[null,"2028-12-31"]
[null,"2029-01-31"]
[null,"2029-02-28"]
[null,"2029-03-31"]
[null,"2029-04-30"]
[null,"2029-05-31"]
[null,"2029-06-30"]
[null,"2029-07-31"]
[null,"2029-08-31"]
[null,"2029-09-30"]
[null,"2029-10-31"]
[null,"2029-11-30"]
[null,"2029-12-31"]
[null,"2030-01-31"]
[null,"2030-02-28"]
[null,"2030-03-31"]
[null,"2030-04-30"]
[null,"2030-05-31"]
[null,"2030-06-30"]
[null,"2030-07-31"]
[null,"2030-08-31"]
[null,"2030-09-30"]
[null,"2030-10-31"]
[null,"2030-11-30"]
[null,"2030-12-31"]
[null,"2031-01-31"]
[null,"2031-02-28"]
[null,"2031-03-31"]
[null,"2031-04-30"]
[null,"2031-05-31"]
[null,"2031-06-30"]
[null,"2031-07-31"]
[null,"2031-08-31"]
[null,"2031-09-30"]
[null,"2031-10-31"]
[null,"2031-11-30"]
[null,"2031-12-31"]
[null,"2032-01-31"]
[null,"2032-02-29"]
[null,"2032-03-31"]
[null,"2032-04-30"]
[null,"2032-05-31"]
[null,"2032-06-30"]
[null,"2032-07-31"]
[null,"2032-08-31"]
[null,"2032-09-30"]
[null,"2032-10-31"]
[null,"2032-11-30"]
[null,"2032-12-31"]
[null,"2033-01-31"]
[null,"2033-02-28"]
[null,"2033-03-31"]
[null,"2033-04-30"]
[null,"2033-05-31"]
[null,"2033-06-30"]
[null,"2033-07-31"]
[null,"2033-08-31"]
[null,"2033-09-30"]
[null,"2033-10-31"]
[null,"2033-11-30"]
[null,"2033-12-31"]
[null,"2034-01-31"]
[null,"2034-02-28"]
[null,"2034-03-31"]
[null,"2034-04-30"]
[null,"2034-05-31"]
[null,"2034-06-30"]
[null,"2034-07-31"]
[null,"2034-08-31"]
[null,"2034-09-30"]
[null,"2034-10-31"]
[null,"2034-11-30"]
[null,"2034-12-31"]
[null,"2035-01-31"]
[null,"2035-02-28"]
[null,"2035-03-31"]
[null,"2035-04-30"]
[null,"2035-05-31"]
[null,"2035-06-30"]
[null,"2035-07-31"]
[null,"2035-08-31"]
[null,"2035-09-30"]
[null,"2035-10-31"]
[null,"2035-11-30"]
[null,"2035-12-31"]
[null,"2036-01-31"]
[null,"2036-02-29"]
[null,"2036-03-31"]
[null,"2036-04-30"]
[null,"2036-05-31"]
[null,"2036-06-30"]
[null,"2036-07-31"]
[null,"2036-08-31"]
[null,"2036-09-30"]
[null,"2036-10-31"]
[null,"2036-11-30"]
[null,"2036-12-31"]
[null,"2037-01-31"]
[null,"2037-02-28"]
[null,"2037-03-31"]
[null,"2037-04-30"]
[null,"2037-05-31"]
[null,"2037-06-30"]
[null,"2037-07-31"]
[null,"2037-08-31"]
[null,"2037-09-30"]
[null,"2037-10-31"]
[null,"2037-11-30"]
[null,"2037-12-31"]
[null,"2038-01-31"]
[null,"2038-02-28"]
[null,"2038-03-31"]
[null,"2038-04-30"]
[null,"2038-05-31"]
[null,"2038-06-30"]
[null,"2038-07-31"]
[null,"2038-08-31"]
[null,"2038-09-30"]
[null,"2038-10-31"]
[null,"2038-11-30"]
[null,"2038-12-31"]
[null,"2039-01-31"]
[null,"2039-02-28"]
[null,"2039-03-31"]
[null,"2039-04-30"]
[null,"2039-05-31"]
[null,"2039-06-30"]
[null,"2039-07-31"]
[null,"2039-08-31"]
[null,"2039-09-30"]
[null,"2039-10-31"]
[null,"2039-11-30"]
[null,"2039-12-31"]
[null,"2040-01-31"]
[null,"2040-02-29"]
[null,"2040-03-31"]
[null,"2040-04-30"]
[null,"2040-05-31"]
[null,"2040-06-30"]
[null,"2040-07-31"]
[null,"2040-08-31"]
[null,"2040-09-30"]
[null,"2040-10-31"]
[null,"2040-11-30"]
[null,"2040-12-31"]
[null,"2041-01-31"]
[null,"2041-02-28"]
[null,"2041-03-31"]
[null,"2041-04-30"]
[null,"2041-05-31"]
[null,"2041-06-30"]
[null,"2041-07-31"]
[null,"2041-08-31"]
[null,"2041-09-30"]
[null,"2041-10-31"]
[null,"2041-11-30"]
[null,"2041-12-31"]
[null,"2042-01-31"]
[null,"2042-02-28"]
[null,"2042-03-31"]
[null,"2042-04-30"]
[null,"2042-05-31"]
[null,"2042-06-30"]
[null,"2042-07-31"]
[null,"2042-08-31"]
[null,"2042-09-30"]
[null,"2042-10-31"]
[null,"2042-11-30"]
[null,"2042-12-31"]
[null,"2043-01-31"]
[null,"2043-02-28"]
[null,"2043-03-31"]
[null,"2043-04-30"]
[null,"2043-05-31"]
[null,"2043-06-30"]
[null,"2043-07-31"]
[null,"2043-08-31"]
[null,"2043-09-30"]
[null,"2043-10-31"]
[null,"2043-11-30"]
[null,"2043-12-31"]
[null,"2044-01-31"]
[null,"2044-02-29"]
[null,"2044-03-31"]
[null,"2044-04-30"]
[null,"2044-05-31"]
[null,"2044-06-30"]
[null,"2044-07-31"]
[null,"2044-08-31"]
[null,"2044-09-30"]
[null,"2044-10-31"]
[null,"2044-11-30"]
[null,"2044-12-31"]
[null,"2045-01-31"]
[null,"2045-02-28"]
[null,"2045-03-31"]
[null,"2045-04-30"]
[null,"2045-05-31"]
[null,"2045-06-30"]
[null,"2045-07-31"]
[null,"2045-08-31"]
[null,"2045-09-30"]
[null,"2045-10-31"]
[null,"2045-11-30"]
[null,"2045-12-31"]
[null,"2046-01-31"]
[null,"2046-02-28"]
[null,"2046-03-31"]
[null,"2046-04-30"]
[null,"2046-05-31"]
[null,"2046-06-30"]
[null,"2046-07-31"]
[null,"2046-08-31"]
[null,"2046-09-30"]
[null,"2046-10-31"]
[null,"2046-11-30"]
[null,"2046-12-31"]
[null,"2047-01-31"]
[null,"2047-02-28"]
[null,"2047-03-31"]
[null,"2047-04-30"]
[null,"2047-05-31"]
[null,"2047-06-30"]
[null,"2047-07-31"]
[null,"2047-08-31"]
[null,"2047-09-30"]
[null,"2047-10-31"]
[null,"2047-11-30"]
[null,"2047-12-31"]
[null,"2048-01-31"]
[null,"2048-02-29"]
[null,"2048-03-31"]
[null,"2048-04-30"]
[null,"2048-05-31"]
[null,"2048-06-30"]
[null,"2048-07-31"]
[null,"2048-08-31"]
[null,"2048-09-30"]
[null,"2048-10-31"]
[null,"2048-11-30"]
[null,"2048-12-31"]
[null,"2049-01-31"]
[null,"2049-02-28"]
[null,"2049-03-31"]
[null,"2049-04-30"]
[null,"2049-05-31"]
[null,"2049-06-30"]
[null,"2049-07-31"]
[null,"2049-08-31"]
[null,"2049-09-30"]
[null,"2049-10-31"]
[null,"2049-11-30"]
[null,"2049-12-31"]
[null,"2050-01-31"]
[null,"2050-02-28"]
[null,"2050-03-31"]
[null,"2050-04-30"]
[null,"2050-05-31"]
[null,"2050-06-30"]
[null,"2050-07-31"]
[null,"2050-08-31"]
[null,"2050-09-30"]
[null,"2050-10-31"]
[null,"2050-11-30"]
[null,"2050-12-31"]
[null,"2051-01-31"]
[null,"2051-02-28"]
[null,"2051-03-31"]
[null,"2051-04-30"]
[null,"2051-05-31"]
[null,"2051-06-30"]
[null,"2051-07-31"]
[null,"2051-08-31"]
[null,"2051-09-30"]
[null,"2051-10-31"]
[null,"2051-11-30"]
[null,"2051-12-31"]
[null,"2052-01-31"]
[null,"2052-02-29"]
[null,"2052-03-31"]
[null,"2052-04-30"]
[null,"2052-05-31"]
[null,"2052-06-30"]
[null,"2052-07-31"]
[null,"2052-08-31"]
[null,"2052-09-30"]
[null,"2052-10-31"]
[null,"2052-11-30"]
[null,"2052-12-31"]
[null,"2053-01-31"]
[null,"2053-02-28"]
[null,"2053-03-31"]
[null,"2053-04-30"]
[null,"2053-05-31"]
[null,"2053-06-30"]
[null,"2053-07-31"]
[null,"2053-08-31"]
[null,"2053-09-30"]
[null,"2053-10-31"]
[null,"2053-11-30"]
[null,"2053-12-31"]
[null,"2054-01-31"]
[null,"2054-02-28"]
[null,"2054-03-31"]
[null,"2054-04-30"]
[null,"2054-05-31"]
[null,"2054-06-30"]
[null,"2054-07-31"]
[null,"2054-08-31"]
[null,"2054-09-30"]
[null,"2054-10-31"]
[null,"2054-11-30"]
[null,"2054-12-31"]
[null,"2055-01-31"]
[null,"2055-02-28"]
[null,"2055-03-31"]
[null,"2055-04-30"]
[null,"2055-05-31"]
[null,"2055-06-30"]
[null,"2055-07-31"]
[null,"2055-08-31"]
[null,"2055-09-30"]
[null,"2055-10-31"]
[null,"2055-11-30"]
[null,"2055-12-31"]
[null,"2056-01-31"]
[null,"2056-02-29"]
[null,"2056-03-31"]
[null,"2056-04-30"]
[null,"2056-05-31"]
[null,"2056-06-30"]
[null,"2056-07-31"]
[null,"2056-08-31"]
[null,"2056-09-30"]
[null,"2056-10-31"]
[null,"2056-11-30"]
[null,"2056-12-31"]
[null,"2057-01-31"]
[null,"2057-02-28"]
[null,"2057-03-31"]
[null,"2057-04-30"]
[null,"2057-05-31"]
[null,"2057-06-30"]
[null,"2057-07-31"]
[null,"2057-08-31"]
[null,"2057-09-30"]
[null,"2057-10-31"]
[null,"2057-11-30"]
[null,"2057-12-31"]
[null,"2058-01-31"]
[null,"2058-02-28"]
[null,"2058-03-31"]
[null,"2058-04-30"]
[null,"2058-05-31"]
[null,"2058-06-30"]
[null,"2058-07-31"]
[null,"2058-08-31"]
[null,"2058-09-30"]
[null,"2058-10-31"]
[null,"2058-11-30"]
[null,"2058-12-31"]
[null,"2059-01-31"]
[null,"2059-02-28"]
[null,"2059-03-31"]
[null,"2059-04-30"]
[null,"2059-05-31"]
[null,"2059-06-30"]
[null,"2059-07-31"]
[null,"2059-08-31"]
[null,"2059-09-30"]
[null,"2059-10-31"]
[null,"2059-11-30"]
[null,"2059-12-31"]
[null,"2060-01-31"]
[null,"2060-02-29"]
[null,"2060-03-31"]
[null,"2060-04-30"]
[null,"2060-05-31"]
[null,"2060-06-30"]
[null,"2060-07-31"]
[null,"2060-08-31"]
[null,"2060-09-30"]
[null,"2060-10-31"]
[null,"2060-11-30"]
[null,"2060-12-31"]
[null,"2061-01-31"]
[null,"2061-02-28"]
[null,"2061-03-31"]
[null,"2061-04-30"]
[null,"2061-05-31"]
[null,"2061-06-30"]
[null,"2061-07-31"]
[null,"2061-08-31"]
[null,"2061-09-30"]
[null,"2061-10-31"]
[null,"2061-11-30"]
[null,"2061-12-31"]
[null,"2062-01-31"]
[null,"2062-02-28"]
[null,"2062-03-31"]
[null,"2062-04-30"]
[null,"2062-05-31"]
[null,"2062-06-30"]
[null,"2062-07-31"]
[null,"2062-08-31"]
[null,"2062-09-30"]
[null,"2062-10-31"]
[null,"2062-11-30"]
[null,"2062-12-31"]
[null,"2063-01-31"]
[null,"2063-02-28"]
[null,"2063-03-31"]
[null,"2063-04-30"]
[null,"2063-05-31"]
[null,"2063-06-30"]
[null,"2063-07-31"]
[null,"2063-08-31"]
[null,"2063-09-30"]
[null,"2063-10-31"]
[null,"2063-11-30"]
[null,"2063-12-31"]
[null,"2064-01-31"]
[null,"2064-02-29"]
[null,"2064-03-31"]
[null,"2064-04-30"]
[null,"2064-05-31"]
[null,"2064-06-30"]
[null,"2064-07-31"]
[null,"2064-08-31"]
[null,"2064-09-30"]
[null,"2064-10-31"]
[null,"2064-11-30"]
[null,"2064-12-31"]
[null,"2065-01-31"]
[null,"2065-02-28"]
[null,"2065-03-31"]
[null,"2065-04-30"]
[null,"2065-05-31"]
[null,"2065-06-30"]
[null,"2065-07-31"]
[null,"2065-08-31"]
[null,"2065-09-30"]
[null,"2065-10-31"]
[null,"2065-11-30"]
[null,"2065-12-31"]
[null,"2066-01-31"]
[null,"2066-02-28"]
[null,"2066-03-31"]
[null,"2066-04-30"]
[null,"2066-05-31"]
[null,"2066-06-30"]
[null,"2066-07-31"]
[null,"2066-08-31"]
[null,"2066-09-30"]
[null,"2066-10-31"]
[null,"2066-11-30"]
[null,"2066-12-31"]
[null,"2067-01-31"]
[null,"2067-02-28"]
[null,"2067-03-31"]
[null,"2067-04-30"]
[null,"2067-05-31"]
[null,"2067-06-30"]
[null,"2067-07-31"]
[null,"2067-08-31"]
[null,"2067-09-30"]
[null,"2067-10-31"]
[null,"2067-11-30"]
[null,"2067-12-31"]
[null,"2068-01-31"]
[null,"2068-02-29"]
[null,"2068-03-31"]
[null,"2068-04-30"]
[null,"2068-05-31"]
[null,"2068-06-30"]
[null,"2068-07-31"]
[null,"2068-08-31"]
[null,"2068-09-30"]
[null,"2068-10-31"]
[null,"2068-11-30"]
[null,"2068-12-31"]
[null,"2069-01-31"]
[null,"2069-02-28"]
[null,"2069-03-31"]
[null,"2069-04-30"]
[null,"2069-05-31"]
[null,"2069-06-30"]
[null,"2069-07-31"]
[null,"2069-08-31"]
[null,"2069-09-30"]
[null,"2069-10-31"]
[null,"2069-11-30"]
[null,"2069-12-31"]
[null,"2070-01-31"]
[null,"2070-02-28"]
[null,"2070-03-31"]
[null,"2070-04-30"]
[null,"2070-05-31"]
[null,"2070-06-30"]
[null,"2070-07-31"]
[null,"2070-08-31"]
[null,"2070-09-30"]
[null,"2070-10-31"]
[null,"2070-11-30"]
[null,"2070-12-31"]
[null,"2071-01-31"]
[null,"2071-02-28"]
[null,"2071-03-31"]
[null,"2071-04-30"]
[null,"2071-05-31"]
[null,"2071-06-30"]
[null,"2071-07-31"]
[null,"2071-08-31"]
[null,"2071-09-30"]
[null,"2071-10-31"]
[null,"2071-11-30"]
[null,"2071-12-31"]
[null,"2072-01-31"]
[null,"2072-02-29"]
[null,"2072-03-31"]
[null,"2072-04-30"]
[null,"2072-05-31"]
[null,"2072-06-30"]
[null,"2072-07-31"]
[null,"2072-08-31"]
[null,"2072-09-30"]
[null,"2072-10-31"]
[null,"2072-11-30"]
[null,"2072-12-31"]
[null,"2073-01-31"]
[null,"2073-02-28"]
[null,"2073-03-31"]
[null,"2073-04-30"]
[null,"2073-05-31"]
[null,"2073-06-30"]
[null,"2073-07-31"]
[null,"2073-08-31"]
[null,"2073-09-30"]
[null,"2073-10-31"]
[null,"2073-11-30"]
[null,"2073-12-31"]
[null,"2074-01-31"]
[null,"2074-02-28"]
[null,"2074-03-31"]
[null,"2074-04-30"]
[null,"2074-05-31"]
[null,"2074-06-30"]
[null,"2074-07-31"]
[null,"2074-08-31"]
[null,"2074-09-30"]
[null,"2074-10-31"]
[null,"2074-11-30"]
[null,"2074-12-31"]
[null,"2075-01-31"]
[null,"2075-02-28"]
[null,"2075-03-31"]
[null,"2075-04-30"]
[null,"2075-05-31"]
[null,"2075-06-30"]
[null,"2075-07-31"]
[null,"2075-08-31"]
[null,"2075-09-30"]
[null,"2075-10-31"]
[null,"2075-11-30"]
[null,"2075-12-31"]
[null,"2076-01-31"]
[null,"2076-02-29"]
[null,"2076-03-31"]
[null,"2076-04-30"]
[null,"2076-05-31"]
[null,"2076-06-30"]
[null,"2076-07-31"]
[null,"2076-08-31"]
[null,"2076-09-30"]
[null,"2076-10-31"]
[null,"2076-11-30"]
[null,"2076-12-31"]
[null,"2077-01-31"]
[null,"2077-02-28"]
[null,"2077-03-31"]
[null,"2077-04-30"]
[null,"2077-05-31"]
[null,"2077-06-30"]
[null,"2077-07-31"]
[null,"2077-08-31"]
[null,"2077-09-30"]
[null,"2077-10-31"]
[null,"2077-11-30"]
[null,"2077-12-31"]
[null,"2078-01-31"]
[null,"2078-02-28"]
[null,"2078-03-31"]
[null,"2078-04-30"]
[null,"2078-05-31"]
[null,"2078-06-30"]
[null,"2078-07-31"]
[null,"2078-08-31"]
[null,"2078-09-30"]
[null,"2078-10-31"]
[null,"2078-11-30"]
[null,"2078-12-31"]
[null,"2079-01-31"]
[null,"2079-02-28"]
[null,"2079-03-31"]
[null,"2079-04-30"]
[null,"2079-05-31"]
[null,"2079-06-30"]
[null,"2079-07-31"]
[null,"2079-08-31"]
[null,"2079-09-30"]
[null,"2079-10-31"]
[null,"2079-11-30"]
[null,"2079-12-31"]
[null,"2080-01-31"]
[null,"2080-02-29"]
[null,"2080-03-31"]
[null,"2080-04-30"]
[null,"2080-05-31"]
[null,"2080-06-30"]
[null,"2080-07-31"]
[null,"2080-08-31"]
[null,"2080-09-30"]
[null,"2080-10-31"]
[null,"2080-11-30"]
[null,"2080-12-31"]
[null,"2081-01-31"]
[null,"2081-02-28"]
[null,"2081-03-31"]
[null,"2081-04-30"]
[null,"2081-05-31"]
[null,"2081-06-30"]
[null,"2081-07-31"]
[null,"2081-08-31"]
[null,"2081-09-30"]
[null,"2081-10-31"]
[null,"2081-11-30"]
[null,"2081-12-31"]
[null,"2082-01-31"]
[null,"2082-02-28"]
[null,"2082-03-31"]
[null,"2082-04-30"]
[null,"2082-05-31"]
[null,"2082-06-30"]
[null,"2082-07-31"]
[null,"2082-08-31"]
[null,"2082-09-30"]
[null,"2082-10-31"]
[null,"2082-11-30"]
[null,"2082-12-31"]
[null,"2083-01-31"]
[null,"2083-02-28"]
[null,"2083-03-31"]
[null,"2083-04-30"]
[null,"2083-05-31"]
[null,"2083-06-30"]
[null,"2083-07-31"]
[null,"2083-08-31"]
[null,"2083-09-30"]
[null,"2083-10-31"]
[null,"2083-11-30"]
[null,"2083-12-31"]
[null,"2084-01-31"]
[null,"2084-02-29"]
[null,"2084-03-31"]
[null,"2084-04-30"]
[null,"2084-05-31"]
[null,"2084-06-30"]
[null,"2084-07-31"]
[null,"2084-08-31"]
[null,"2084-09-30"]
[null,"2084-10-31"]
[null,"2084-11-30"]
[null,"2084-12-31"]
[null,"2085-01-31"]
[null,"2085-02-28"]
[null,"2085-03-31"]
[null,"2085-04-30"]
[null,"2085-05-31"]
[null,"2085-06-30"]
[null,"2085-07-31"]
[null,"2085-08-31"]
[null,"2085-09-30"]
[null,"2085-10-31"]
[null,"2085-11-30"]
[null,"2085-12-31"]
[null,"2086-01-31"]
[null,"2086-02-28"]
[null,"2086-03-31"]
[null,"2086-04-30"]
[null,"2086-05-31"]
[null,"2086-06-30"]
[null,"2086-07-31"]
[null,"2086-08-31"]
[null,"2086-09-30"]
[null,"2086-10-31"]
[null,"2086-11-30"]
[null,"2086-12-31"]
[null,"2087-01-31"]
[null,"2087-02-28"]
[null,"2087-03-31"]
[null,"2087-04-30"]
[null,"2087-05-31"]
[null,"2087-06-30"]
[null,"2087-07-31"]
[null,"2087-08-31"]
[null,"2087-09-30"]
[null,"2087-10-31"]
[null,"2087-11-30"]
[null,"2087-12-31"]
[null,"2088-01-31"]
[null,"2088-02-29"]
[null,"2088-03-31"]
[null,"2088-04-30"]
[null,"2088-05-31"]
[null,"2088-06-30"]
[null,"2088-07-31"]
[null,"2088-08-31"]
[null,"2088-09-30"]
[null,"2088-10-31"]
[null,"2088-11-30"]
[null,"2088-12-31"]
[null,"2089-01-31"]
[null,"2089-02-28"]
[null,"2089-03-31"]
[null,"2089-04-30"]
[null,"2089-05-31"]
[null,"2089-06-30"]
[null,"2089-07-31"]
[null,"2089-08-31"]
[null,"2089-09-30"]
[null,"2089-10-31"]
[null,"2089-11-30"]
[null,"2089-12-31"]
[null,"2090-01-31"]
[null,"2090-02-28"]
[null,"2090-03-31"]
[null,"2090-04-30"]
[null,"2090-05-31"]
[null,"2090-06-30"]
[null,"2090-07-31"]
[null,"2090-08-31"]
[null,"2090-09-30"]
[null,"2090-10-31"]
[null,"2090-11-30"]
[null,"2090-12-31"]
[null,"2091-01-31"]
[null,"2091-02-28"]
[null,"2091-03-31"]
[null,"2091-04-30"]
[null,"2091-05-31"]
[null,"2091-06-30"]
[null,"2091-07-31"]
[null,"2091-08-31"]
[null,"2091-09-30"]
[null,"2091-10-31"]
[null,"2091-11-30"]
[null,"2091-12-31"]
[null,"2092-01-31"]
[null,"2092-02-29"]
[null,"2092-03-31"]
[null,"2092-04-30"]
[null,"2092-05-31"]
[null,"2092-06-30"]
[null,"2092-07-31"]
[null,"2092-08-31"]
[null,"2092-09-30"]
[null,"2092-10-31"]
[null,"2092-11-30"]
[null,"2092-12-31"]
[null,"2093-01-31"]
[null,"2093-02-28"]
[null,"2093-03-31"]
[null,"2093-04-30"]
[null,"2093-05-31"]
[null,"2093-06-30"]
[null,"2093-07-31"]
[null,"2093-08-31"]
[null,"2093-09-30"]
[null,"2093-10-31"]
[null,"2093-11-30"]
[null,"2093-12-31"]
[null,"2094-01-31"]
[null,"2094-02-28"]
[null,"2094-03-31"]
[null,"2094-04-30"]
[null,"2094-05-31"]
[null,"2094-06-30"]
[null,"2094-07-31"]
[null,"2094-08-31"]
[null,"2094-09-30"]
[null,"2094-10-31"]
[null,"2094-11-30"]
[null,"2094-12-31"]
[null,"2095-01-31"]
[null,"2095-02-28"]
[null,"2095-03-31"]
[null,"2095-04-30"]
[null,"2095-05-31"]
[null,"2095-06-30"]
[null,"2095-07-31"]
[null,"2095-08-31"]
[null,"2095-09-30"]
[null,"2095-10-31"]
[null,"2095-11-30"]
[null,"2095-12-31"]
[null,"2096-01-31"]
[null,"2096-02-29"]
[null,"2096-03-31"]
[null,"2096-04-30"]
[null,"2096-05-31"]
[null,"2096-06-30"]
[null,"2096-07-31"]
[null,"2096-08-31"]
[null,"2096-09-30"]
[null,"2096-10-31"]
[null,"2096-11-30"]
[null,"2096-12-31"]
[null,"2097-01-31"]
[null,"2097-02-28"]
[null,"2097-03-31"]
[null,"2097-04-30"]
[null,"2097-05-31"]
[null,"2097-06-30"]
[null,"2097-07-31"]
[null,"2097-08-31"]
[null,"2097-09-30"]
[null,"2097-10-31"]
[null,"2097-11-30"]
[null,"2097-12-31"]
[null,"2098-01-31"]
[null,"2098-02-28"]
[null,"2098-03-31"]

{"sheet":"BasePA_GEN","index":2,"n_rows":82,"n_cols":13,"rows_kept":82,"hidden":true}
[{"$nulls":3},"Riesgo de Suscripción","Riesgo de Activo","Riesgo de Mercado","TOTAL PATRIMONIO ADECUADO","Patrimonio Básico Ordinario antes de deducciones","Deducciones del Patrimonio Básico Ordinario","Patrimonio Básico Ordinario","Patrimonio Adicional (computable)","PATRIMONIO TÉCNICO","EXCESO (DEFECTO)"]
[{"$f":"+B2&C2","v":"ALFA45777"},"ALFA","2025-04-30",{"v":34212,"d":"34,212"},{"v":5444,"d":"5,444"},776,{"v":40432,"d":"40,432"},{"v":144820.38,"d":"144,820.38"},{"v":44937.28,"d":"44,937.28"},{"v":99883,"d":"99,883"},0,{"v":99883,"d":"99,883"},{"v":59452,"d":"59,452"}]
[{"$f":"+B3&C3","v":"ALFA45808"},"ALFA","2025-05-31",{"v":34443,"d":"34,443"},{"v":5843,"d":"5,843"},{"v":1735,"d":"1,735"},{"v":42022,"d":"42,022"},{"v":148124.95,"d":"148,124.95"},{"v":47006.76,"d":"47,006.76"},{"v":101118,"d":"101,118"},0,{"v":101118,"d":"101,118"},{"v":59097,"d":"59,097"}]
["ALFA45838","ALFA","2025-06-30",{"v":32583,"d":"32,583"},{"v":5977,"d":"5,977"},{"v":1504,"d":"1,504"},{"v":40064,"d":"40,064"},{"v":147950.78,"d":"147,950.78"},{"v":45997.5,"d":"45,997.50"},{"v":101953,"d":"101,953"},0,{"v":101953,"d":"101,953"},{"v":61889,"d":"61,889"}]
["ALLIANZ45777","ALLIANZ","2025-04-30",{"v":184408,"d":"184,408"},{"v":7426,"d":"7,426"},{"v":1789,"d":"1,789"},{"v":193623,"d":"193,623"},{"v":364248.25,"d":"364,248.25"},{"v":20714.78,"d":"20,714.78"},{"v":343533,"d":"343,533"},{"v":5496,"d":"5,496"},{"v":349030,"d":"349,030"},{"v":155406,"d":"155,406"}]
["ALLIANZ45808","ALLIANZ","2025-05-31",{"v":182549,"d":"182,549"},{"v":7267,"d":"7,267"},{"v":2151,"d":"2,151"},{"v":191967,"d":"191,967"},{"v":375271.78,"d":"375,271.78"},{"v":21302.02,"d":"21,302.02"},{"v":353970,"d":"353,970"},{"v":5496,"d":"5,496"},{"v":359466,"d":"359,466"},{"v":167499,"d":"167,499"}]
["ALLIANZ45838","ALLIANZ","2025-06-30",{"v":183751,"d":"183,751"},{"v":7498,"d":"7,498"},{"v":1887,"d":"1,887"},{"v":193137,"d":"193,137"},{"v":379277.8,"d":"379,277.80"},{"v":22141.37,"d":"22,141.37"},{"v":357136,"d":"357,136"},{"v":6574,"d":"6,574"},{"v":363710,"d":"363,710"},{"v":170573,"d":"170,573"}]
["AXA COLPATRIA45777","AXA COLPATRIA","2025-04-30",{"v":331117,"d":"331,117"},{"v":21508,"d":"21,508"},{"v":25499,"d":"25,499"},{"v":378123,"d":"378,123"},{"v":532110.41,"d":"532,110.41"},{"v":66528.82,"d":"66,528.82"},{"v":465582,"d":"465,582"},{"v":56718,"d":"56,718"},{"v":522300,"d":"522,300"},{"v":144177,"d":"144,177"}]
["AXA COLPATRIA45808","AXA COLPATRIA","2025-05-31",{"v":320795,"d":"320,795"},{"v":22593,"d":"22,593"},{"v":22625,"d":"22,625"},{"v":366013,"d":"366,013"},{"v":544160.41,"d":"544,160.41"},{"v":65591.92,"d":"65,591.92"},{"v":478568,"d":"478,568"},{"v":54902,"d":"54,902"},{"v":533470,"d":"533,470"},{"v":167458,"d":"167,458"}]
["AXA COLPATRIA45838","AXA COLPATRIA","2025-06-30",{"v":320785,"d":"320,785"},{"v":21655,"d":"21,655"},{"v":21830,"d":"21,830"},{"v":364271,"d":"364,271"},{"v":547326.09,"d":"547,326.09"},{"v":67754.12,"d":"67,754.12"},{"v":479572,"d":"479,572"},{"v":54641,"d":"54,641"},{"v":534213,"d":"534,213"},{"v":169942,"d":"169,942"}]
["BBVA SEGUROS45777","BBVA SEGUROS","2025-04-30",{"v":29016,"d":"29,016"},{"v":6918,"d":"6,918"},851,{"v":36786,"d":"36,786"},{"v":166029.55,"d":"166,029.55"},{"v":6439.45,"d":"6,439.45"},{"v":159590,"d":"159,590"},{"v":2149,"d":"2,149"},{"v":161739,"d":"161,739"},{"v":124953,"d":"124,953"}]
["BBVA SEGUROS45808","BBVA SEGUROS","2025-05-31",{"v":29167,"d":"29,167"},{"v":7353,"d":"7,353"},{"v":1403,"d":"1,403"},{"v":37922,"d":"37,922"},{"v":166046.86,"d":"166,046.86"},{"v":5786.4,"d":"5,786.40"},{"v":160260,"d":"160,260"},{"v":1562,"d":"1,562"},{"v":161822,"d":"161,822"},{"v":123900,"d":"123,900"}]
["BBVA SEGUROS45838","BBVA SEGUROS","2025-06-30",{"v":28507,"d":"28,507"},{"v":7481,"d":"7,481"},{"v":1566,"d":"1,566"},{"v":37554,"d":"37,554"},{"v":169513.95,"d":"169,513.95"},{"v":5769.53,"d":"5,769.53"},{"v":163744,"d":"163,744"},{"v":1604,"d":"1,604"},{"v":165349,"d":"165,349"},{"v":127795,"d":"127,795"}]
["BERKLEY45777","BERKLEY","2025-04-30",{"v":13978,"d":"13,978"},409,{"v":3567,"d":"3,567"},{"v":17954,"d":"17,954"},{"v":41315.51,"d":"41,315.51"},{"v":2321.72,"d":"2,321.72"},{"v":38994,"d":"38,994"},{"v":2322,"d":"2,322"},{"v":41316,"d":"41,316"},{"v":23361,"d":"23,361"}]
["BERKLEY45808","BERKLEY","2025-05-31",{"v":14169,"d":"14,169"},{"v":1000,"d":"1,000"},{"v":4185,"d":"4,185"},{"v":19354,"d":"19,354"},{"v":41941.11,"d":"41,941.11"},{"v":2321.72,"d":"2,321.72"},{"v":39619,"d":"39,619"},{"v":2322,"d":"2,322"},{"v":41941,"d":"41,941"},{"v":22587,"d":"22,587"}]
["BERKLEY45838","BERKLEY","2025-06-30",{"v":14351,"d":"14,351"},{"v":1053,"d":"1,053"},{"v":4524,"d":"4,524"},{"v":19927,"d":"19,927"},{"v":41753.17,"d":"41,753.17"},{"v":2739.37,"d":"2,739.37"},{"v":39014,"d":"39,014"},{"v":2739,"d":"2,739"},{"v":41753,"d":"41,753"},{"v":21826,"d":"21,826"}]
["BOLIVAR45777","BOLIVAR","2025-04-30",{"v":229623,"d":"229,623"},{"v":17056,"d":"17,056"},{"v":54764,"d":"54,764"},{"v":301443,"d":"301,443"},{"v":1623182.48,"d":"1,623,182.48"},{"v":1074756.6,"d":"1,074,756.60"},{"v":548426,"d":"548,426"},{"v":9477,"d":"9,477"},{"v":557903,"d":"557,903"},{"v":256460,"d":"256,460"}]
["BOLIVAR45808","BOLIVAR","2025-05-31",{"v":231260,"d":"231,260"},{"v":25080,"d":"25,080"},{"v":54226,"d":"54,226"},{"v":310566,"d":"310,566"},{"v":1626742.53,"d":"1,626,742.53"},{"v":1067768.38,"d":"1,067,768.38"},{"v":558974,"d":"558,974"},0,{"v":558974,"d":"558,974"},{"v":248408,"d":"248,408"}]
["BOLIVAR45838","BOLIVAR","2025-06-30",{"v":229081,"d":"229,081"},{"v":22259,"d":"22,259"},{"v":50526,"d":"50,526"},{"v":301865,"d":"301,865"},{"v":1644820.2,"d":"1,644,820.20"},{"v":1074075.07,"d":"1,074,075.07"},{"v":570745,"d":"570,745"},{"v":4391,"d":"4,391"},{"v":575136,"d":"575,136"},{"v":273270,"d":"273,270"}]
["CARDIF45777","CARDIF","2025-04-30",{"v":225444,"d":"225,444"},{"v":9324,"d":"9,324"},{"v":8586,"d":"8,586"},{"v":243354,"d":"243,354"},{"v":586172.6,"d":"586,172.60"},{"v":51939.79,"d":"51,939.79"},{"v":534233,"d":"534,233"},{"v":28405,"d":"28,405"},{"v":562638,"d":"562,638"},{"v":319284,"d":"319,284"}]
["CARDIF45808","CARDIF","2025-05-31",{"v":225658,"d":"225,658"},{"v":9351,"d":"9,351"},{"v":8145,"d":"8,145"},{"v":243154,"d":"243,154"},{"v":466366.39,"d":"466,366.39"},{"v":49001.73,"d":"49,001.73"},{"v":417365,"d":"417,365"},{"v":25886,"d":"25,886"},{"v":443251,"d":"443,251"},{"v":200097,"d":"200,097"}]
["CARDIF45838","CARDIF","2025-06-30",{"v":224954,"d":"224,954"},{"v":9337,"d":"9,337"},{"v":8411,"d":"8,411"},{"v":242702,"d":"242,702"},{"v":475284.55,"d":"475,284.55"},{"v":46799.74,"d":"46,799.74"},{"v":428485,"d":"428,485"},{"v":24067,"d":"24,067"},{"v":452552,"d":"452,552"},{"v":209850,"d":"209,850"}]
["CHUBB45777","CHUBB","2025-04-30",{"v":81130,"d":"81,130"},{"v":13609,"d":"13,609"},{"v":58263,"d":"58,263"},{"v":153002,"d":"153,002"},{"v":321578.92,"d":"321,578.92"},{"v":23408.6,"d":"23,408.60"},{"v":298170,"d":"298,170"},{"v":17356,"d":"17,356"},{"v":315527,"d":"315,527"},{"v":162525,"d":"162,525"}]
["CHUBB45808","CHUBB","2025-05-31",{"v":78883,"d":"78,883"},{"v":16922,"d":"16,922"},{"v":57561,"d":"57,561"},{"v":153365,"d":"153,365"},{"v":321585.52,"d":"321,585.52"},{"v":27698.68,"d":"27,698.68"},{"v":293887,"d":"293,887"},{"v":21646,"d":"21,646"},{"v":315533,"d":"315,533"},{"v":162168,"d":"162,168"}]
["CHUBB45838","CHUBB","2025-06-30",{"v":76915,"d":"76,915"},{"v":15700,"d":"15,700"},{"v":56500,"d":"56,500"},{"v":149116,"d":"149,116"},{"v":320645.7,"d":"320,645.70"},{"v":32244.63,"d":"32,244.63"},{"v":288401,"d":"288,401"},{"v":22367,"d":"22,367"},{"v":310768,"d":"310,768"},{"v":161653,"d":"161,653"}]
["COFACE45777","COFACE","2025-04-30",{"v":2541,"d":"2,541"},592,310,{"v":3443,"d":"3,443"},{"v":24214.15,"d":"24,214.15"},{"v":2501.43,"d":"2,501.43"},{"v":21713,"d":"21,713"},516,{"v":22229,"d":"22,229"},{"v":18786,"d":"18,786"}]
["COFACE45808","COFACE","2025-05-31",{"v":2540,"d":"2,540"},396,302,{"v":3238,"d":"3,238"},{"v":24300.76,"d":"24,300.76"},{"v":2602.47,"d":"2,602.47"},{"v":21698,"d":"21,698"},486,{"v":22184,"d":"22,184"},{"v":18946,"d":"18,946"}]
["COFACE45838","COFACE","2025-06-30",{"v":2540,"d":"2,540"},373,314,{"v":3226,"d":"3,226"},{"v":27064.3,"d":"27,064.30"},{"v":2596.62,"d":"2,596.62"},{"v":24468,"d":"24,468"},484,{"v":24952,"d":"24,952"},{"v":21726,"d":"21,726"}]
["COLMENA45777","COLMENA","2025-04-30",{"v":7803,"d":"7,803"},{"v":3562,"d":"3,562"},{"v":1170,"d":"1,170"},{"v":12536,"d":"12,536"},{"v":97190.39,"d":"97,190.39"},720.62,{"v":96470,"d":"96,470"},721,{"v":97190,"d":"97,190"},{"v":84655,"d":"84,655"}]
["COLMENA45808","COLMENA","2025-05-31",{"v":8063,"d":"8,063"},{"v":2770,"d":"2,770"},{"v":1159,"d":"1,159"},{"v":11991,"d":"11,991"},{"v":97839.7,"d":"97,839.70"},720.62,{"v":97119,"d":"97,119"},721,{"v":97840,"d":"97,840"},{"v":85849,"d":"85,849"}]
["COLMENA45838","COLMENA","2025-06-30",{"v":8142,"d":"8,142"},{"v":2700,"d":"2,700"},{"v":1146,"d":"1,146"},{"v":11988,"d":"11,988"},{"v":97861.47,"d":"97,861.47"},706.86,{"v":97155,"d":"97,155"},707,{"v":97861,"d":"97,861"},{"v":85873,"d":"85,873"}]
["CONFIANZA45777","CONFIANZA","2025-04-30",{"v":20304,"d":"20,304"},{"v":9743,"d":"9,743"},{"v":7714,"d":"7,714"},{"v":37762,"d":"37,762"},{"v":144087.19,"d":"144,087.19"},{"v":17908.59,"d":"17,908.59"},{"v":126179,"d":"126,179"},{"v":4032,"d":"4,032"},{"v":130211,"d":"130,211"},{"v":92448,"d":"92,448"}]
["CONFIANZA45808","CONFIANZA","2025-05-31",{"v":20353,"d":"20,353"},{"v":10255,"d":"10,255"},{"v":8297,"d":"8,297"},{"v":38904,"d":"38,904"},{"v":146103.97,"d":"146,103.97"},{"v":17883.92,"d":"17,883.92"},{"v":128220,"d":"128,220"},{"v":3821,"d":"3,821"},{"v":132041,"d":"132,041"},{"v":93137,"d":"93,137"}]
["CONFIANZA45838","CONFIANZA","2025-06-30",{"v":20627,"d":"20,627"},{"v":11056,"d":"11,056"},{"v":7670,"d":"7,670"},{"v":39352,"d":"39,352"},{"v":145600.44,"d":"145,600.44"},{"v":17993.02,"d":"17,993.02"},{"v":127607,"d":"127,607"},{"v":4451,"d":"4,451"},{"v":132059,"d":"132,059"},{"v":92706,"d":"92,706"}]
["EQUIDAD45777","EQUIDAD","2025-04-30",{"v":55609,"d":"55,609"},{"v":7918,"d":"7,918"},734,{"v":64261,"d":"64,261"},{"v":112005.58,"d":"112,005.58"},{"v":31649.04,"d":"31,649.04"},{"v":80357,"d":"80,357"},0,{"v":80357,"d":"80,357"},{"v":16095,"d":"16,095"}]
["EQUIDAD45808","EQUIDAD","2025-05-31",{"v":54806,"d":"54,806"},{"v":7131,"d":"7,131"},675,{"v":62611,"d":"62,611"},{"v":113368.02,"d":"113,368.02"},{"v":31376.73,"d":"31,376.73"},{"v":81991,"d":"81,991"},0,{"v":81991,"d":"81,991"},{"v":19380,"d":"19,380"}]
["EQUIDAD45838","EQUIDAD","2025-06-30",{"v":53995,"d":"53,995"},{"v":7234,"d":"7,234"},{"v":1013,"d":"1,013"},{"v":62243,"d":"62,243"},{"v":112458.2,"d":"112,458.20"},{"v":31437.14,"d":"31,437.14"},{"v":81021,"d":"81,021"},0,{"v":81021,"d":"81,021"},{"v":18778,"d":"18,778"}]
["ESTADO45777","ESTADO","2025-04-30",{"v":179681,"d":"179,681"},{"v":39765,"d":"39,765"},{"v":28670,"d":"28,670"},{"v":248116,"d":"248,116"},{"v":385779.59,"d":"385,779.59"},{"v":31678.53,"d":"31,678.53"},{"v":354101,"d":"354,101"},{"v":23375,"d":"23,375"},{"v":377476,"d":"377,476"},{"v":129360,"d":"129,360"}]
["ESTADO45808","ESTADO","2025-05-31",{"v":178595,"d":"178,595"},{"v":40041,"d":"40,041"},{"v":29653,"d":"29,653"},{"v":248289,"d":"248,289"},{"v":403676.58,"d":"403,676.58"},{"v":31827.41,"d":"31,827.41"},{"v":371849,"d":"371,849"},{"v":23902,"d":"23,902"},{"v":395751,"d":"395,751"},{"v":147462,"d":"147,462"}]
["ESTADO45838","ESTADO","2025-06-30",{"v":179328,"d":"179,328"},{"v":39169,"d":"39,169"},{"v":25772,"d":"25,772"},{"v":244269,"d":"244,269"},{"v":398930.61,"d":"398,930.61"},{"v":34437.57,"d":"34,437.57"},{"v":364493,"d":"364,493"},{"v":26890,"d":"26,890"},{"v":391383,"d":"391,383"},{"v":147114,"d":"147,114"}]
["EVEREST45777","EVEREST","2025-04-30",844,249,339,{"v":1433,"d":"1,433"},{"v":38672.26,"d":"38,672.26"},{"v":7230.97,"d":"7,230.97"},{"v":31441,"d":"31,441"},215,{"v":31656,"d":"31,656"},{"v":30224,"d":"30,224"}]
["EVEREST45808","EVEREST","2025-05-31",{"v":1198,"d":"1,198"},344,332,{"v":1874,"d":"1,874"},{"v":38403.75,"d":"38,403.75"},{"v":7407.24,"d":"7,407.24"},{"v":30997,"d":"30,997"},281,{"v":31278,"d":"31,278"},{"v":29404,"d":"29,404"}]
["EVEREST45838","EVEREST","2025-06-30",{"v":1481,"d":"1,481"},668,332,{"v":2481,"d":"2,481"},{"v":102550,"d":"102,550.00"},{"v":8639.21,"d":"8,639.21"},{"v":93911,"d":"93,911"},372,{"v":94283,"d":"94,283"},{"v":91802,"d":"91,802"}]
["JMALUCELLI TRAVELERS45777","JMALUCELLI TRAVELERS","2025-04-30",{"v":3612,"d":"3,612"},343,575,{"v":4529,"d":"4,529"},{"v":45059.26,"d":"45,059.26"},{"v":2288.77,"d":"2,288.77"},{"v":42770,"d":"42,770"},156,{"v":42926,"d":"42,926"},{"v":38397,"d":"38,397"}]
["JMALUCELLI TRAVELERS45808","JMALUCELLI TRAVELERS","2025-05-31",{"v":3456,"d":"3,456"},445,559,{"v":4459,"d":"4,459"},{"v":45059.26,"d":"45,059.26"},{"v":1995.44,"d":"1,995.44"},{"v":43064,"d":"43,064"},156,{"v":43220,"d":"43,220"},{"v":38760,"d":"38,760"}]
["JMALUCELLI TRAVELERS45838","JMALUCELLI TRAVELERS","2025-06-30",{"v":3636,"d":"3,636"},{"v":1280,"d":"1,280"},510,{"v":5426,"d":"5,426"},{"v":45059.26,"d":"45,059.26"},{"v":2215.71,"d":"2,215.71"},{"v":42844,"d":"42,844"},195,{"v":43038,"d":"43,038"},{"v":37612,"d":"37,612"}]
["HDI SEGUROS45777","HDI SEGUROS","2025-04-30",{"v":204502,"d":"204,502"},{"v":13888,"d":"13,888"},{"v":13514,"d":"13,514"},{"v":231904,"d":"231,904"},{"v":541804.03,"d":"541,804.03"},{"v":96984.4,"d":"96,984.40"},{"v":444820,"d":"444,820"},{"v":34786,"d":"34,786"},{"v":479605,"d":"479,605"},{"v":247701,"d":"247,701"}]
["HDI SEGUROS45808","HDI SEGUROS","2025-05-31",{"v":204071,"d":"204,071"},{"v":12391,"d":"12,391"},{"v":13716,"d":"13,716"},{"v":230177,"d":"230,177"},{"v":554462.66,"d":"554,462.66"},{"v":96422.3,"d":"96,422.30"},{"v":458040,"d":"458,040"},{"v":34527,"d":"34,527"},{"v":492567,"d":"492,567"},{"v":262390,"d":"262,390"}]
["HDI SEGUROS45838","HDI SEGUROS","2025-06-30",{"v":206355,"d":"206,355"},{"v":14330,"d":"14,330"},{"v":13249,"d":"13,249"},{"v":233934,"d":"233,934"},{"v":566070.54,"d":"566,070.54"},{"v":95516.5,"d":"95,516.50"},{"v":470554,"d":"470,554"},{"v":35090,"d":"35,090"},{"v":505644,"d":"505,644"},{"v":271710,"d":"271,710"}]
["MAPFRE45777","MAPFRE","2025-04-30",{"v":166315,"d":"166,315"},{"v":20773,"d":"20,773"},{"v":42355,"d":"42,355"},{"v":229443,"d":"229,443"},{"v":512385.6,"d":"512,385.60"},{"v":141028.96,"d":"141,028.96"},{"v":371357,"d":"371,357"},{"v":34416,"d":"34,416"},{"v":405773,"d":"405,773"},{"v":176330,"d":"176,330"}]
["MAPFRE45808","MAPFRE","2025-05-31",{"v":203855,"d":"203,855"},{"v":21702,"d":"21,702"},{"v":40325,"d":"40,325"},{"v":265882,"d":"265,882"},{"v":522275,"d":"522,275.00"},{"v":139575.5,"d":"139,575.50"},{"v":382699,"d":"382,699"},{"v":39882,"d":"39,882"},{"v":422582,"d":"422,582"},{"v":156700,"d":"156,700"}]
["MAPFRE45838","MAPFRE","2025-06-30",{"v":199742,"d":"199,742"},{"v":19058,"d":"19,058"},{"v":40575,"d":"40,575"},{"v":259374,"d":"259,374"},{"v":532189.62,"d":"532,189.62"},{"v":133199.3,"d":"133,199.30"},{"v":398990,"d":"398,990"},{"v":38906,"d":"38,906"},{"v":437896,"d":"437,896"},{"v":178522,"d":"178,522"}]
["MUNDIAL45777","MUNDIAL","2025-04-30",{"v":160068,"d":"160,068"},{"v":12521,"d":"12,521"},{"v":3812,"d":"3,812"},{"v":176401,"d":"176,401"},{"v":253090.21,"d":"253,090.21"},{"v":23308.42,"d":"23,308.42"},{"v":229782,"d":"229,782"},468,{"v":230250,"d":"230,250"},{"v":53849,"d":"53,849"}]
["MUNDIAL45808","MUNDIAL","2025-05-31",{"v":160647,"d":"160,647"},{"v":12989,"d":"12,989"},{"v":4551,"d":"4,551"},{"v":178187,"d":"178,187"},{"v":258763.51,"d":"258,763.51"},{"v":22443.55,"d":"22,443.55"},{"v":236320,"d":"236,320"},468,{"v":236788,"d":"236,788"},{"v":58601,"d":"58,601"}]
["MUNDIAL45838","MUNDIAL","2025-06-30",{"v":162877,"d":"162,877"},{"v":13300,"d":"13,300"},{"v":4302,"d":"4,302"},{"v":180478,"d":"180,478"},{"v":240191.88,"d":"240,191.88"},{"v":21566.94,"d":"21,566.94"},{"v":218625,"d":"218,625"},468,{"v":219093,"d":"219,093"},{"v":38615,"d":"38,615"}]
["NACIONAL45777","NACIONAL","2025-04-30",{"v":14430,"d":"14,430"},{"v":4853,"d":"4,853"},{"v":1290,"d":"1,290"},{"v":20573,"d":"20,573"},{"v":100370.18,"d":"100,370.18"},{"v":1901.49,"d":"1,901.49"},{"v":98469,"d":"98,469"},0,{"v":98469,"d":"98,469"},{"v":77895,"d":"77,895"}]
["NACIONAL45808","NACIONAL","2025-05-31",{"v":14409,"d":"14,409"},{"v":4892,"d":"4,892"},{"v":1524,"d":"1,524"},{"v":20825,"d":"20,825"},{"v":101873.33,"d":"101,873.33"},{"v":1901.49,"d":"1,901.49"},{"v":99972,"d":"99,972"},0,{"v":99972,"d":"99,972"},{"v":79146,"d":"79,146"}]
["NACIONAL45838","NACIONAL","2025-06-30",{"v":14724,"d":"14,724"},{"v":5641,"d":"5,641"},{"v":1801,"d":"1,801"},{"v":22166,"d":"22,166"},{"v":103324.88,"d":"103,324.88"},{"v":1901.49,"d":"1,901.49"},{"v":101423,"d":"101,423"},0,{"v":101423,"d":"101,423"},{"v":79257,"d":"79,257"}]
[{"$f":"+B59&C59","v":"PREVISORA45777"},"PREVISORA","2025-04-30",{"v":420298,"d":"420,298"},{"v":40898,"d":"40,898"},{"v":74523,"d":"74,523"},{"v":535719,"d":"535,719"},{"v":853933.52,"d":"853,933.52"},{"v":168440.68,"d":"168,440.68"},{"v":685493,"d":"685,493"},0,{"v":685493,"d":"685,493"},{"v":149774,"d":"149,774"}]
["PREVISORA45808","PREVISORA","2025-05-31",{"v":424070,"d":"424,070"},{"v":39980,"d":"39,980"},{"v":73152,"d":"73,152"},{"v":537203,"d":"537,203"},{"v":864671.47,"d":"864,671.47"},{"v":168590.36,"d":"168,590.36"},{"v":696081,"d":"696,081"},0,{"v":696081,"d":"696,081"},{"v":158878,"d":"158,878"}]
["PREVISORA45838","PREVISORA","2025-06-30",{"v":412888,"d":"412,888"},{"v":40462,"d":"40,462"},{"v":75182,"d":"75,182"},{"v":528532,"d":"528,532"},{"v":882602.57,"d":"882,602.57"},{"v":170832.27,"d":"170,832.27"},{"v":711770,"d":"711,770"},0,{"v":711770,"d":"711,770"},{"v":183238,"d":"183,238"}]
["QUALITAS45777","QUALITAS","2025-04-30",129,89,64,282,{"v":37941.43,"d":"37,941.43"},{"v":7123.15,"d":"7,123.15"},{"v":30818,"d":"30,818"},0,{"v":30818,"d":"30,818"},{"v":30536,"d":"30,536"}]
["QUALITAS45808","QUALITAS","2025-05-31",234,89,62,386,{"v":37946.78,"d":"37,946.78"},{"v":8261.88,"d":"8,261.88"},{"v":29685,"d":"29,685"},0,{"v":29685,"d":"29,685"},{"v":29299,"d":"29,299"}]
["QUALITAS45838","QUALITAS","2025-06-30",360,134,92,586,{"v":47916.32,"d":"47,916.32"},{"v":9168.85,"d":"9,168.85"},{"v":38747,"d":"38,747"},0,{"v":38747,"d":"38,747"},{"v":38162,"d":"38,162"}]
["SBS SEGUROS45777","SBS SEGUROS","2025-04-30",{"v":123086,"d":"123,086"},{"v":9176,"d":"9,176"},{"v":38890,"d":"38,890"},{"v":171152,"d":"171,152"},{"v":302369.26,"d":"302,369.26"},{"v":38926.52,"d":"38,926.52"},{"v":263443,"d":"263,443"},{"v":11221,"d":"11,221"},{"v":274664,"d":"274,664"},{"v":103512,"d":"103,512"}]
["SBS SEGUROS45808","SBS SEGUROS","2025-05-31",{"v":125719,"d":"125,719"},{"v":10649,"d":"10,649"},{"v":39015,"d":"39,015"},{"v":175383,"d":"175,383"},{"v":309013.57,"d":"309,013.57"},{"v":38651.25,"d":"38,651.25"},{"v":270362,"d":"270,362"},{"v":10726,"d":"10,726"},{"v":281089,"d":"281,089"},{"v":105706,"d":"105,706"}]
["SBS SEGUROS45838","SBS SEGUROS","2025-06-30",{"v":127199,"d":"127,199"},{"v":8565,"d":"8,565"},{"v":42305,"d":"42,305"},{"v":178069,"d":"178,069"},{"v":311850.43,"d":"311,850.43"},{"v":39168.53,"d":"39,168.53"},{"v":272682,"d":"272,682"},{"v":10949,"d":"10,949"},{"v":283631,"d":"283,631"},{"v":105562,"d":"105,562"}]
["SEGUREXPO45777","SEGUREXPO","2025-04-30",{"v":6728,"d":"6,728"},{"v":2359,"d":"2,359"},{"v":1274,"d":"1,274"},{"v":10361,"d":"10,361"},{"v":34495.45,"d":"34,495.45"},{"v":1365.4,"d":"1,365.40"},{"v":33130,"d":"33,130"},0,{"v":33130,"d":"33,130"},{"v":22769,"d":"22,769"}]
["SEGUREXPO45808","SEGUREXPO","2025-05-31",{"v":6870,"d":"6,870"},{"v":2318,"d":"2,318"},{"v":1153,"d":"1,153"},{"v":10342,"d":"10,342"},{"v":33984.23,"d":"33,984.23"},{"v":1365.4,"d":"1,365.40"},{"v":32619,"d":"32,619"},0,{"v":32619,"d":"32,619"},{"v":22277,"d":"22,277"}]
["SEGUREXPO45838","SEGUREXPO","2025-06-30",{"v":6912,"d":"6,912"},{"v":2428,"d":"2,428"},{"v":1173,"d":"1,173"},{"v":10514,"d":"10,514"},{"v":33386.95,"d":"33,386.95"},{"v":1365.4,"d":"1,365.40"},{"v":32022,"d":"32,022"},0,{"v":32022,"d":"32,022"},{"v":21508,"d":"21,508"}]
["SOLIDARIA45777","SOLIDARIA","2025-04-30",{"v":84539,"d":"84,539"},{"v":7663,"d":"7,663"},0,{"v":92202,"d":"92,202"},{"v":369984.88,"d":"369,984.88"},{"v":7684.48,"d":"7,684.48"},{"v":362300,"d":"362,300"},0,{"v":362300,"d":"362,300"},{"v":270098,"d":"270,098"}]
["SOLIDARIA45808","SOLIDARIA","2025-05-31",{"v":83493,"d":"83,493"},{"v":7481,"d":"7,481"},0,{"v":90974,"d":"90,974"},{"v":372500.43,"d":"372,500.43"},{"v":7684.48,"d":"7,684.48"},{"v":364816,"d":"364,816"},0,{"v":364816,"d":"364,816"},{"v":273842,"d":"273,842"}]
["SOLIDARIA45838","SOLIDARIA","2025-06-30",{"v":83081,"d":"83,081"},{"v":7499,"d":"7,499"},0,{"v":90581,"d":"90,581"},{"v":378126.95,"d":"378,126.95"},{"v":7684.48,"d":"7,684.48"},{"v":370442,"d":"370,442"},0,{"v":370442,"d":"370,442"},{"v":279862,"d":"279,862"}]
["SOLUNION45777","SOLUNION","2025-04-30",{"v":9725,"d":"9,725"},{"v":1218,"d":"1,218"},{"v":1665,"d":"1,665"},{"v":12608,"d":"12,608"},{"v":52247.77,"d":"52,247.77"},559.65,{"v":51688,"d":"51,688"},267,{"v":51956,"d":"51,956"},{"v":39347,"d":"39,347"}]
["SOLUNION45808","SOLUNION","2025-05-31",{"v":9877,"d":"9,877"},{"v":1376,"d":"1,376"},{"v":1753,"d":"1,753"},{"v":13005,"d":"13,005"},{"v":51646.5,"d":"51,646.50"},559.65,{"v":51087,"d":"51,087"},267,{"v":51354,"d":"51,354"},{"v":38349,"d":"38,349"}]
["SOLUNION45838","SOLUNION","2025-06-30",{"v":10138,"d":"10,138"},{"v":1036,"d":"1,036"},{"v":1683,"d":"1,683"},{"v":12858,"d":"12,858"},{"v":52567.87,"d":"52,567.87"},559.65,{"v":52008,"d":"52,008"},267,{"v":52276,"d":"52,276"},{"v":39417,"d":"39,417"}]
["SURAMERICANA45777","SURAMERICANA","2025-04-30",{"v":400759,"d":"400,759"},{"v":56322,"d":"56,322"},{"v":40834,"d":"40,834"},{"v":497915,"d":"497,915"},{"v":914116.44,"d":"914,116.44"},{"v":178608.34,"d":"178,608.34"},{"v":735508,"d":"735,508"},0,{"v":735508,"d":"735,508"},{"v":237593,"d":"237,593"}]
["SURAMERICANA45808","SURAMERICANA","2025-05-31",{"v":397440,"d":"397,440"},{"v":51330,"d":"51,330"},{"v":40511,"d":"40,511"},{"v":489282,"d":"489,282"},{"v":931833.96,"d":"931,833.96"},{"v":177645.39,"d":"177,645.39"},{"v":754189,"d":"754,189"},0,{"v":754189,"d":"754,189"},{"v":264907,"d":"264,907"}]
["SURAMERICANA45838","SURAMERICANA","2025-06-30",{"v":385892,"d":"385,892"},{"v":58204,"d":"58,204"},{"v":39352,"d":"39,352"},{"v":483449,"d":"483,449"},{"v":941241.46,"d":"941,241.46"},{"v":176495.68,"d":"176,495.68"},{"v":764746,"d":"764,746"},0,{"v":764746,"d":"764,746"},{"v":281297,"d":"281,297"}]
["ZURICH45777","ZURICH","2025-04-30",{"v":55532,"d":"55,532"},{"v":14569,"d":"14,569"},{"v":7040,"d":"7,040"},{"v":77141,"d":"77,141"},{"v":301707.79,"d":"301,707.79"},{"v":206460.17,"d":"206,460.17"},{"v":95248,"d":"95,248"},{"v":11571,"d":"11,571"},{"v":106819,"d":"106,819"},{"v":29678,"d":"29,678"}]
["ZURICH45808","ZURICH","2025-05-31",{"v":54574,"d":"54,574"},{"v":13538,"d":"13,538"},{"v":6725,"d":"6,725"},{"v":74837,"d":"74,837"},{"v":301707.79,"d":"301,707.79"},{"v":212444.14,"d":"212,444.14"},{"v":89264,"d":"89,264"},{"v":11226,"d":"11,226"},{"v":100489,"d":"100,489"},{"v":25652,"d":"25,652"}]
["ZURICH45838","ZURICH","2025-06-30",{"v":55699,"d":"55,699"},{"v":14811,"d":"14,811"},{"v":6574,"d":"6,574"},{"v":77084,"d":"77,084"},{"v":301707.79,"d":"301,707.79"},{"v":213802.28,"d":"213,802.28"},{"v":87906,"d":"87,906"},{"v":11563,"d":"11,563"},{"v":99468,"d":"99,468"},{"v":22384,"d":"22,384"}]

{"sheet":"PA_GEN","index":3,"n_rows":33,"n_cols":11,"rows_kept":33,"merged":[[0,1,0,8],[1,1,1,8],[2,4,2,5],[3,1,3,8],[4,0,5,0],[4,1,4,4],[4,5,4,10]]}
[null,"COMPAÑÍAS DE SEGUROS GENERALES"]
[null,"PATRIMONIO ADECUADO Y PATRIMONIO TÉCNICO"]
[{"$nulls":4},"2025-06-30"]
[null,"CIFRAS EN MILLONES DE PESOS"]
["COMPAÑÍAS","PATRIMONIO ADECUADO",{"$nulls":3},"PATRIMONIO TÉCNICO"]
[null,"Riesgo de suscripción","Riesgo de activo","Riesgo de mercado","Total patrimonio adecuado","PBO antes de deducciones","Deducciones de PBO","Patrimonio Básico Ordinario","Patrimonio Adicional","Patrimonio técnico","Exceso (defecto)"]
["ALFA",{"$f":"+IFERROR(VLOOKUP($A7&$E$3,BasePA_GEN!$A$2:$K$835,4,0),\"N.A.\")","v":{"v":32583,"d":"32,583"}},{"$f":"+IFERROR(VLOOKUP($A7&$E$3,BasePA_GEN!$A$2:$K$835,5,0),\"N.A.\")","v":{"v":5977,"d":"5,977"}},{"$f":"+IFERROR(VLOOKUP($A7&$E$3,BasePA_GEN!$A$2:$K$835,6,0),\"N.A.\")","v":{"v":1504,"d":"1,504"}},{"$f":"+IFERROR(VLOOKUP($A7&$E$3,BasePA_GEN!$A$2:$K$835,7,0),\"N.A.\")","v":{"v":40064,"d":"40,064"}},{"$f":"+IFERROR(VLOOKUP($A7&$E$3,BasePA_GEN!$A$2:$K$835,8,0),\"N.A.\")","v":{"v":147950.78,"d":"147,951"}},{"$f":"+IFERROR(VLOOKUP($A7&$E$3,BasePA_GEN!$A$2:$K$835,9,0),\"N.A.\")","v":{"v":45997.5,"d":"45,998"}},{"$f":"+IFERROR(VLOOKUP($A7&$E$3,BasePA_GEN!$A$2:$K$835,10,0),\"N.A.\")","v":{"v":101953,"d":"101,953"}},{"$f":"+IFERROR(VLOOKUP($A7&$E$3,BasePA_GEN!$A$2:$M$835,11,0),\"N.A.\")","v":0},{"$f":"+IFERROR(VLOOKUP($A7&$E$3,BasePA_GEN!$A$2:$M$835,12,0),\"N.A.\")","v":{"v":101953,"d":"101,953"}},{"$f":"+IFERROR(VLOOKUP($A7&$E$3,BasePA_GEN!$A$2:$M$835,13,0),\"N.A.\")","v":{"v":61889,"d":"61,889"}}]
["ALLIANZ",{"$f":"+IFERROR(VLOOKUP($A8&$E$3,BasePA_GEN!$A$2:$K$835,4,0),\"N.A.\")","v":{"v":183751,"d":"183,751"}},{"$f":"+IFERROR(VLOOKUP($A8&$E$3,BasePA_GEN!$A$2:$K$835,5,0),\"N.A.\")","v":{"v":7498,"d":"7,498"}},{"$f":"+IFERROR(VLOOKUP($A8&$E$3,BasePA_GEN!$A$2:$K$835,6,0),\"N.A.\")","v":{"v":1887,"d":"1,887"}},{"$f":"+IFERROR(VLOOKUP($A8&$E$3,BasePA_GEN!$A$2:$K$835,7,0),\"N.A.\")","v":{"v":193137,"d":"193,137"}},{"$f":"+IFERROR(VLOOKUP($A8&$E$3,BasePA_GEN!$A$2:$K$835,8,0),\"N.A.\")","v":{"v":379277.8,"d":"379,278"}},{"$f":"+IFERROR(VLOOKUP($A8&$E$3,BasePA_GEN!$A$2:$K$835,9,0),\"N.A.\")","v":{"v":22141.37,"d":"22,141"}},{"$f":"+IFERROR(VLOOKUP($A8&$E$3,BasePA_GEN!$A$2:$K$835,10,0),\"N.A.\")","v":{"v":357136,"d":"357,136"}},{"$f":"+IFERROR(VLOOKUP($A8&$E$3,BasePA_GEN!$A$2:$M$835,11,0),\"N.A.\")","v":{"v":6574,"d":"6,574"}},{"$f":"+IFERROR(VLOOKUP($A8&$E$3,BasePA_GEN!$A$2:$M$835,12,0),\"N.A.\")","v":{"v":363710,"d":"363,710"}},{"$f":"+IFERROR(VLOOKUP($A8&$E$3,BasePA_GEN!$A$2:$M$835,13,0),\"N.A.\")","v":{"v":170573,"d":"170,573"}}]
["AXA COLPATRIA",{"$f":"+IFERROR(VLOOKUP($A9&$E$3,BasePA_GEN!$A$2:$K$835,4,0),\"N.A.\")","v":{"v":320785,"d":"320,785"}},{"$f":"+IFERROR(VLOOKUP($A9&$E$3,BasePA_GEN!$A$2:$K$835,5,0),\"N.A.\")","v":{"v":21655,"d":"21,655"}},{"$f":"+IFERROR(VLOOKUP($A9&$E$3,BasePA_GEN!$A$2:$K$835,6,0),\"N.A.\")","v":{"v":21830,"d":"21,830"}},{"$f":"+IFERROR(VLOOKUP($A9&$E$3,BasePA_GEN!$A$2:$K$835,7,0),\"N.A.\")","v":{"v":364271,"d":"364,271"}},{"$f":"+IFERROR(VLOOKUP($A9&$E$3,BasePA_GEN!$A$2:$K$835,8,0),\"N.A.\")","v":{"v":547326.09,"d":"547,326"}},{"$f":"+IFERROR(VLOOKUP($A9&$E$3,BasePA_GEN!$A$2:$K$835,9,0),\"N.A.\")","v":{"v":67754.12,"d":"67,754"}},{"$f":"+IFERROR(VLOOKUP($A9&$E$3,BasePA_GEN!$A$2:$K$835,10,0),\"N.A.\")","v":{"v":479572,"d":"479,572"}},{"$f":"+IFERROR(VLOOKUP($A9&$E$3,BasePA_GEN!$A$2:$M$835,11,0),\"N.A.\")","v":{"v":54641,"d":"54,641"}},{"$f":"+IFERROR(VLOOKUP($A9&$E$3,BasePA_GEN!$A$2:$M$835,12,0),\"N.A.\")","v":{"v":534213,"d":"534,213"}},{"$f":"+IFERROR(VLOOKUP($A9&$E$3,BasePA_GEN!$A$2:$M$835,13,0),\"N.A.\")","v":{"v":169942,"d":"169,942"}}]
["BBVA SEGUROS",{"$f":"+IFERROR(VLOOKUP($A10&$E$3,BasePA_GEN!$A$2:$K$835,4,0),\"N.A.\")","v":{"v":28507,"d":"28,507"}},{"$f":"+IFERROR(VLOOKUP($A10&$E$3,BasePA_GEN!$A$2:$K$835,5,0),\"N.A.\")","v":{"v":7481,"d":"7,481"}},{"$f":"+IFERROR(VLOOKUP($A10&$E$3,BasePA_GEN!$A$2:$K$835,6,0),\"N.A.\")","v":{"v":1566,"d":"1,566"}},{"$f":"+IFERROR(VLOOKUP($A10&$E$3,BasePA_GEN!$A$2:$K$835,7,0),\"N.A.\")","v":{"v":37554,"d":"37,554"}},{"$f":"+IFERROR(VLOOKUP($A10&$E$3,BasePA_GEN!$A$2:$K$835,8,0),\"N.A.\")","v":{"v":169513.95,"d":"169,514"}},{"$f":"+IFERROR(VLOOKUP($A10&$E$3,BasePA_GEN!$A$2:$K$835,9,0),\"N.A.\")","v":{"v":5769.53,"d":"5,770"}},{"$f":"+IFERROR(VLOOKUP($A10&$E$3,BasePA_GEN!$A$2:$K$835,10,0),\"N.A.\")","v":{"v":163744,"d":"163,744"}},{"$f":"+IFERROR(VLOOKUP($A10&$E$3,BasePA_GEN!$A$2:$M$835,11,0),\"N.A.\")","v":{"v":1604,"d":"1,604"}},{"$f":"+IFERROR(VLOOKUP($A10&$E$3,BasePA_GEN!$A$2:$M$835,12,0),\"N.A.\")","v":{"v":165349,"d":"165,349"}},{"$f":"+IFERROR(VLOOKUP($A10&$E$3,BasePA_GEN!$A$2:$M$835,13,0),\"N.A.\")","v":{"v":127795,"d":"127,795"}}]
["BERKLEY",{"$f":"+IFERROR(VLOOKUP($A11&$E$3,BasePA_GEN!$A$2:$K$835,4,0),\"N.A.\")","v":{"v":14351,"d":"14,351"}},{"$f":"+IFERROR(VLOOKUP($A11&$E$3,BasePA_GEN!$A$2:$K$835,5,0),\"N.A.\")","v":{"v":1053,"d":"1,053"}},{"$f":"+IFERROR(VLOOKUP($A11&$E$3,BasePA_GEN!$A$2:$K$835,6,0),\"N.A.\")","v":{"v":4524,"d":"4,524"}},{"$f":"+IFERROR(VLOOKUP($A11&$E$3,BasePA_GEN!$A$2:$K$835,7,0),\"N.A.\")","v":{"v":19927,"d":"19,927"}},{"$f":"+IFERROR(VLOOKUP($A11&$E$3,BasePA_GEN!$A$2:$K$835,8,0),\"N.A.\")","v":{"v":41753.17,"d":"41,753"}},{"$f":"+IFERROR(VLOOKUP($A11&$E$3,BasePA_GEN!$A$2:$K$835,9,0),\"N.A.\")","v":{"v":2739.37,"d":"2,739"}},{"$f":"+IFERROR(VLOOKUP($A11&$E$3,BasePA_GEN!$A$2:$K$835,10,0),\"N.A.\")","v":{"v":39014,"d":"39,014"}},{"$f":"+IFERROR(VLOOKUP($A11&$E$3,BasePA_GEN!$A$2:$M$835,11,0),\"N.A.\")","v":{"v":2739,"d":"2,739"}},{"$f":"+IFERROR(VLOOKUP($A11&$E$3,BasePA_GEN!$A$2:$M$835,12,0),\"N.A.\")","v":{"v":41753,"d":"41,753"}},{"$f":"+IFERROR(VLOOKUP($A11&$E$3,BasePA_GEN!$A$2:$M$835,13,0),\"N.A.\")","v":{"v":21826,"d":"21,826"}}]
["BOLIVAR",{"$f":"+IFERROR(VLOOKUP($A12&$E$3,BasePA_GEN!$A$2:$K$835,4,0),\"N.A.\")","v":{"v":229081,"d":"229,081"}},{"$f":"+IFERROR(VLOOKUP($A12&$E$3,BasePA_GEN!$A$2:$K$835,5,0),\"N.A.\")","v":{"v":22259,"d":"22,259"}},{"$f":"+IFERROR(VLOOKUP($A12&$E$3,BasePA_GEN!$A$2:$K$835,6,0),\"N.A.\")","v":{"v":50526,"d":"50,526"}},{"$f":"+IFERROR(VLOOKUP($A12&$E$3,BasePA_GEN!$A$2:$K$835,7,0),\"N.A.\")","v":{"v":301865,"d":"301,865"}},{"$f":"+IFERROR(VLOOKUP($A12&$E$3,BasePA_GEN!$A$2:$K$835,8,0),\"N.A.\")","v":{"v":1644820.2,"d":"1,644,820"}},{"$f":"+IFERROR(VLOOKUP($A12&$E$3,BasePA_GEN!$A$2:$K$835,9,0),\"N.A.\")","v":{"v":1074075.07,"d":"1,074,075"}},{"$f":"+IFERROR(VLOOKUP($A12&$E$3,BasePA_GEN!$A$2:$K$835,10,0),\"N.A.\")","v":{"v":570745,"d":"570,745"}},{"$f":"+IFERROR(VLOOKUP($A12&$E$3,BasePA_GEN!$A$2:$M$835,11,0),\"N.A.\")","v":{"v":4391,"d":"4,391"}},{"$f":"+IFERROR(VLOOKUP($A12&$E$3,BasePA_GEN!$A$2:$M$835,12,0),\"N.A.\")","v":{"v":575136,"d":"575,136"}},{"$f":"+IFERROR(VLOOKUP($A12&$E$3,BasePA_GEN!$A$2:$M$835,13,0),\"N.A.\")","v":{"v":273270,"d":"273,270"}}]
["CARDIF",{"$f":"+IFERROR(VLOOKUP($A13&$E$3,BasePA_GEN!$A$2:$K$835,4,0),\"N.A.\")","v":{"v":224954,"d":"224,954"}},{"$f":"+IFERROR(VLOOKUP($A13&$E$3,BasePA_GEN!$A$2:$K$835,5,0),\"N.A.\")","v":{"v":9337,"d":"9,337"}},{"$f":"+IFERROR(VLOOKUP($A13&$E$3,BasePA_GEN!$A$2:$K$835,6,0),\"N.A.\")","v":{"v":8411,"d":"8,411"}},{"$f":"+IFERROR(VLOOKUP($A13&$E$3,BasePA_GEN!$A$2:$K$835,7,0),\"N.A.\")","v":{"v":242702,"d":"242,702"}},{"$f":"+IFERROR(VLOOKUP($A13&$E$3,BasePA_GEN!$A$2:$K$835,8,0),\"N.A.\")","v":{"v":475284.55,"d":"475,285"}},{"$f":"+IFERROR(VLOOKUP($A13&$E$3,BasePA_GEN!$A$2:$K$835,9,0),\"N.A.\")","v":{"v":46799.74,"d":"46,800"}},{"$f":"+IFERROR(VLOOKUP($A13&$E$3,BasePA_GEN!$A$2:$K$835,10,0),\"N.A.\")","v":{"v":428485,"d":"428,485"}},{"$f":"+IFERROR(VLOOKUP($A13&$E$3,BasePA_GEN!$A$2:$M$835,11,0),\"N.A.\")","v":{"v":24067,"d":"24,067"}},{"$f":"+IFERROR(VLOOKUP($A13&$E$3,BasePA_GEN!$A$2:$M$835,12,0),\"N.A.\")","v":{"v":452552,"d":"452,552"}},{"$f":"+IFERROR(VLOOKUP($A13&$E$3,BasePA_GEN!$A$2:$M$835,13,0),\"N.A.\")","v":{"v":209850,"d":"209,850"}}]
["CHUBB",{"$f":"+IFERROR(VLOOKUP($A14&$E$3,BasePA_GEN!$A$2:$K$835,4,0),\"N.A.\")","v":{"v":76915,"d":"76,915"}},{"$f":"+IFERROR(VLOOKUP($A14&$E$3,BasePA_GEN!$A$2:$K$835,5,0),\"N.A.\")","v":{"v":15700,"d":"15,700"}},{"$f":"+IFERROR(VLOOKUP($A14&$E$3,BasePA_GEN!$A$2:$K$835,6,0),\"N.A.\")","v":{"v":56500,"d":"56,500"}},{"$f":"+IFERROR(VLOOKUP($A14&$E$3,BasePA_GEN!$A$2:$K$835,7,0),\"N.A.\")","v":{"v":149116,"d":"149,116"}},{"$f":"+IFERROR(VLOOKUP($A14&$E$3,BasePA_GEN!$A$2:$K$835,8,0),\"N.A.\")","v":{"v":320645.7,"d":"320,646"}},{"$f":"+IFERROR(VLOOKUP($A14&$E$3,BasePA_GEN!$A$2:$K$835,9,0),\"N.A.\")","v":{"v":32244.63,"d":"32,245"}},{"$f":"+IFERROR(VLOOKUP($A14&$E$3,BasePA_GEN!$A$2:$K$835,10,0),\"N.A.\")","v":{"v":288401,"d":"288,401"}},{"$f":"+IFERROR(VLOOKUP($A14&$E$3,BasePA_GEN!$A$2:$M$835,11,0),\"N.A.\")","v":{"v":22367,"d":"22,367"}},{"$f":"+IFERROR(VLOOKUP($A14&$E$3,BasePA_GEN!$A$2:$M$835,12,0),\"N.A.\")","v":{"v":310768,"d":"310,768"}},{"$f":"+IFERROR(VLOOKUP($A14&$E$3,BasePA_GEN!$A$2:$M$835,13,0),\"N.A.\")","v":{"v":161653,"d":"161,653"}}]
["COFACE",{"$f":"+IFERROR(VLOOKUP($A15&$E$3,BasePA_GEN!$A$2:$K$835,4,0),\"N.A.\")","v":{"v":2540,"d":"2,540"}},{"$f":"+IFERROR(VLOOKUP($A15&$E$3,BasePA_GEN!$A$2:$K$835,5,0),\"N.A.\")","v":373},{"$f":"+IFERROR(VLOOKUP($A15&$E$3,BasePA_GEN!$A$2:$K$835,6,0),\"N.A.\")","v":314},{"$f":"+IFERROR(VLOOKUP($A15&$E$3,BasePA_GEN!$A$2:$K$835,7,0),\"N.A.\")","v":{"v":3226,"d":"3,226"}},{"$f":"+IFERROR(VLOOKUP($A15&$E$3,BasePA_GEN!$A$2:$K$835,8,0),\"N.A.\")","v":{"v":27064.3,"d":"27,064"}},{"$f":"+IFERROR(VLOOKUP($A15&$E$3,BasePA_GEN!$A$2:$K$835,9,0),\"N.A.\")","v":{"v":2596.62,"d":"2,597"}},{"$f":"+IFERROR(VLOOKUP($A15&$E$3,BasePA_GEN!$A$2:$K$835,10,0),\"N.A.\")","v":{"v":24468,"d":"24,468"}},{"$f":"+IFERROR(VLOOKUP($A15&$E$3,BasePA_GEN!$A$2:$M$835,11,0),\"N.A.\")","v":484},{"$f":"+IFERROR(VLOOKUP($A15&$E$3,BasePA_GEN!$A$2:$M$835,12,0),\"N.A.\")","v":{"v":24952,"d":"24,952"}},{"$f":"+IFERROR(VLOOKUP($A15&$E$3,BasePA_GEN!$A$2:$M$835,13,0),\"N.A.\")","v":{"v":21726,"d":"21,726"}}]
["COLMENA",{"$f":"+IFERROR(VLOOKUP($A16&$E$3,BasePA_GEN!$A$2:$K$835,4,0),\"N.A.\")","v":{"v":8142,"d":"8,142"}},{"$f":"+IFERROR(VLOOKUP($A16&$E$3,BasePA_GEN!$A$2:$K$835,5,0),\"N.A.\")","v":{"v":2700,"d":"2,700"}},{"$f":"+IFERROR(VLOOKUP($A16&$E$3,BasePA_GEN!$A$2:$K$835,6,0),\"N.A.\")","v":{"v":1146,"d":"1,146"}},{"$f":"+IFERROR(VLOOKUP($A16&$E$3,BasePA_GEN!$A$2:$K$835,7,0),\"N.A.\")","v":{"v":11988,"d":"11,988"}},{"$f":"+IFERROR(VLOOKUP($A16&$E$3,BasePA_GEN!$A$2:$K$835,8,0),\"N.A.\")","v":{"v":97861.47,"d":"97,861"}},{"$f":"+IFERROR(VLOOKUP($A16&$E$3,BasePA_GEN!$A$2:$K$835,9,0),\"N.A.\")","v":{"v":706.86,"d":"707"}},{"$f":"+IFERROR(VLOOKUP($A16&$E$3,BasePA_GEN!$A$2:$K$835,10,0),\"N.A.\")","v":{"v":97155,"d":"97,155"}},{"$f":"+IFERROR(VLOOKUP($A16&$E$3,BasePA_GEN!$A$2:$M$835,11,0),\"N.A.\")","v":707},{"$f":"+IFERROR(VLOOKUP($A16&$E$3,BasePA_GEN!$A$2:$M$835,12,0),\"N.A.\")","v":{"v":97861,"d":"97,861"}},{"$f":"+IFERROR(VLOOKUP($A16&$E$3,BasePA_GEN!$A$2:$M$835,13,0),\"N.A.\")","v":{"v":85873,"d":"85,873"}}]
["CONFIANZA",{"$f":"+IFERROR(VLOOKUP($A17&$E$3,BasePA_GEN!$A$2:$K$835,4,0),\"N.A.\")","v":{"v":20627,"d":"20,627"}},{"$f":"+IFERROR(VLOOKUP($A17&$E$3,BasePA_GEN!$A$2:$K$835,5,0),\"N.A.\")","v":{"v":11056,"d":"11,056"}},{"$f":"+IFERROR(VLOOKUP($A17&$E$3,BasePA_GEN!$A$2:$K$835,6,0),\"N.A.\")","v":{"v":7670,"d":"7,670"}},{"$f":"+IFERROR(VLOOKUP($A17&$E$3,BasePA_GEN!$A$2:$K$835,7,0),\"N.A.\")","v":{"v":39352,"d":"39,352"}},{"$f":"+IFERROR(VLOOKUP($A17&$E$3,BasePA_GEN!$A$2:$K$835,8,0),\"N.A.\")","v":{"v":145600.44,"d":"145,600"}},{"$f":"+IFERROR(VLOOKUP($A17&$E$3,BasePA_GEN!$A$2:$K$835,9,0),\"N.A.\")","v":{"v":17993.02,"d":"17,993"}},{"$f":"+IFERROR(VLOOKUP($A17&$E$3,BasePA_GEN!$A$2:$K$835,10,0),\"N.A.\")","v":{"v":127607,"d":"127,607"}},{"$f":"+IFERROR(VLOOKUP($A17&$E$3,BasePA_GEN!$A$2:$M$835,11,0),\"N.A.\")","v":{"v":4451,"d":"4,451"}},{"$f":"+IFERROR(VLOOKUP($A17&$E$3,BasePA_GEN!$A$2:$M$835,12,0),\"N.A.\")","v":{"v":132059,"d":"132,059"}},{"$f":"+IFERROR(VLOOKUP($A17&$E$3,BasePA_GEN!$A$2:$M$835,13,0),\"N.A.\")","v":{"v":92706,"d":"92,706"}}]
["EQUIDAD",{"$f":"+IFERROR(VLOOKUP($A18&$E$3,BasePA_GEN!$A$2:$K$835,4,0),\"N.A.\")","v":{"v":53995,"d":"53,995"}},{"$f":"+IFERROR(VLOOKUP($A18&$E$3,BasePA_GEN!$A$2:$K$835,5,0),\"N.A.\")","v":{"v":7234,"d":"7,234"}},{"$f":"+IFERROR(VLOOKUP($A18&$E$3,BasePA_GEN!$A$2:$K$835,6,0),\"N.A.\")","v":{"v":1013,"d":"1,013"}},{"$f":"+IFERROR(VLOOKUP($A18&$E$3,BasePA_GEN!$A$2:$K$835,7,0),\"N.A.\")","v":{"v":62243,"d":"62,243"}},{"$f":"+IFERROR(VLOOKUP($A18&$E$3,BasePA_GEN!$A$2:$K$835,8,0),\"N.A.\")","v":{"v":112458.2,"d":"112,458"}},{"$f":"+IFERROR(VLOOKUP($A18&$E$3,BasePA_GEN!$A$2:$K$835,9,0),\"N.A.\")","v":{"v":31437.14,"d":"31,437"}},{"$f":"+IFERROR(VLOOKUP($A18&$E$3,BasePA_GEN!$A$2:$K$835,10,0),\"N.A.\")","v":{"v":81021,"d":"81,021"}},{"$f":"+IFERROR(VLOOKUP($A18&$E$3,BasePA_GEN!$A$2:$M$835,11,0),\"N.A.\")","v":0},{"$f":"+IFERROR(VLOOKUP($A18&$E$3,BasePA_GEN!$A$2:$M$835,12,0),\"N.A.\")","v":{"v":81021,"d":"81,021"}},{"$f":"+IFERROR(VLOOKUP($A18&$E$3,BasePA_GEN!$A$2:$M$835,13,0),\"N.A.\")","v":{"v":18778,"d":"18,778"}}]
["ESTADO",{"$f":"+IFERROR(VLOOKUP($A19&$E$3,BasePA_GEN!$A$2:$K$835,4,0),\"N.A.\")","v":{"v":179328,"d":"179,328"}},{"$f":"+IFERROR(VLOOKUP($A19&$E$3,BasePA_GEN!$A$2:$K$835,5,0),\"N.A.\")","v":{"v":39169,"d":"39,169"}},{"$f":"+IFERROR(VLOOKUP($A19&$E$3,BasePA_GEN!$A$2:$K$835,6,0),\"N.A.\")","v":{"v":25772,"d":"25,772"}},{"$f":"+IFERROR(VLOOKUP($A19&$E$3,BasePA_GEN!$A$2:$K$835,7,0),\"N.A.\")","v":{"v":244269,"d":"244,269"}},{"$f":"+IFERROR(VLOOKUP($A19&$E$3,BasePA_GEN!$A$2:$K$835,8,0),\"N.A.\")","v":{"v":398930.61,"d":"398,931"}},{"$f":"+IFERROR(VLOOKUP($A19&$E$3,BasePA_GEN!$A$2:$K$835,9,0),\"N.A.\")","v":{"v":34437.57,"d":"34,438"}},{"$f":"+IFERROR(VLOOKUP($A19&$E$3,BasePA_GEN!$A$2:$K$835,10,0),\"N.A.\")","v":{"v":364493,"d":"364,493"}},{"$f":"+IFERROR(VLOOKUP($A19&$E$3,BasePA_GEN!$A$2:$M$835,11,0),\"N.A.\")","v":{"v":26890,"d":"26,890"}},{"$f":"+IFERROR(VLOOKUP($A19&$E$3,BasePA_GEN!$A$2:$M$835,12,0),\"N.A.\")","v":{"v":391383,"d":"391,383"}},{"$f":"+IFERROR(VLOOKUP($A19&$E$3,BasePA_GEN!$A$2:$M$835,13,0),\"N.A.\")","v":{"v":147114,"d":"147,114"}}]
["EVEREST",{"$f":"+IFERROR(VLOOKUP($A20&$E$3,BasePA_GEN!$A$2:$K$835,4,0),\"N.A.\")","v":{"v":1481,"d":"1,481"}},{"$f":"+IFERROR(VLOOKUP($A20&$E$3,BasePA_GEN!$A$2:$K$835,5,0),\"N.A.\")","v":668},{"$f":"+IFERROR(VLOOKUP($A20&$E$3,BasePA_GEN!$A$2:$K$835,6,0),\"N.A.\")","v":332},{"$f":"+IFERROR(VLOOKUP($A20&$E$3,BasePA_GEN!$A$2:$K$835,7,0),\"N.A.\")","v":{"v":2481,"d":"2,481"}},{"$f":"+IFERROR(VLOOKUP($A20&$E$3,BasePA_GEN!$A$2:$K$835,8,0),\"N.A.\")","v":{"v":102550,"d":"102,550"}},{"$f":"+IFERROR(VLOOKUP($A20&$E$3,BasePA_GEN!$A$2:$K$835,9,0),\"N.A.\")","v":{"v":8639.21,"d":"8,639"}},{"$f":"+IFERROR(VLOOKUP($A20&$E$3,BasePA_GEN!$A$2:$K$835,10,0),\"N.A.\")","v":{"v":93911,"d":"93,911"}},{"$f":"+IFERROR(VLOOKUP($A20&$E$3,BasePA_GEN!$A$2:$M$835,11,0),\"N.A.\")","v":372},{"$f":"+IFERROR(VLOOKUP($A20&$E$3,BasePA_GEN!$A$2:$M$835,12,0),\"N.A.\")","v":{"v":94283,"d":"94,283"}},{"$f":"+IFERROR(VLOOKUP($A20&$E$3,BasePA_GEN!$A$2:$M$835,13,0),\"N.A.\")","v":{"v":91802,"d":"91,802"}}]
["HDI SEGUROS",{"$f":"+IFERROR(VLOOKUP($A21&$E$3,BasePA_GEN!$A$2:$K$835,4,0),\"N.A.\")","v":{"v":206355,"d":"206,355"}},{"$f":"+IFERROR(VLOOKUP($A21&$E$3,BasePA_GEN!$A$2:$K$835,5,0),\"N.A.\")","v":{"v":14330,"d":"14,330"}},{"$f":"+IFERROR(VLOOKUP($A21&$E$3,BasePA_GEN!$A$2:$K$835,6,0),\"N.A.\")","v":{"v":13249,"d":"13,249"}},{"$f":"+IFERROR(VLOOKUP($A21&$E$3,BasePA_GEN!$A$2:$K$835,7,0),\"N.A.\")","v":{"v":233934,"d":"233,934"}},{"$f":"+IFERROR(VLOOKUP($A21&$E$3,BasePA_GEN!$A$2:$K$835,8,0),\"N.A.\")","v":{"v":566070.54,"d":"566,071"}},{"$f":"+IFERROR(VLOOKUP($A21&$E$3,BasePA_GEN!$A$2:$K$835,9,0),\"N.A.\")","v":{"v":95516.5,"d":"95,517"}},{"$f":"+IFERROR(VLOOKUP($A21&$E$3,BasePA_GEN!$A$2:$K$835,10,0),\"N.A.\")","v":{"v":470554,"d":"470,554"}},{"$f":"+IFERROR(VLOOKUP($A21&$E$3,BasePA_GEN!$A$2:$M$835,11,0),\"N.A.\")","v":{"v":35090,"d":"35,090"}},{"$f":"+IFERROR(VLOOKUP($A21&$E$3,BasePA_GEN!$A$2:$M$835,12,0),\"N.A.\")","v":{"v":505644,"d":"505,644"}},{"$f":"+IFERROR(VLOOKUP($A21&$E$3,BasePA_GEN!$A$2:$M$835,13,0),\"N.A.\")","v":{"v":271710,"d":"271,710"}}]
["JMALUCELLI TRAVELERS",{"$f":"+IFERROR(VLOOKUP($A22&$E$3,BasePA_GEN!$A$2:$K$835,4,0),\"N.A.\")","v":{"v":3636,"d":"3,636"}},{"$f":"+IFERROR(VLOOKUP($A22&$E$3,BasePA_GEN!$A$2:$K$835,5,0),\"N.A.\")","v":{"v":1280,"d":"1,280"}},{"$f":"+IFERROR(VLOOKUP($A22&$E$3,BasePA_GEN!$A$2:$K$835,6,0),\"N.A.\")","v":510},{"$f":"+IFERROR(VLOOKUP($A22&$E$3,BasePA_GEN!$A$2:$K$835,7,0),\"N.A.\")","v":{"v":5426,"d":"5,426"}},{"$f":"+IFERROR(VLOOKUP($A22&$E$3,BasePA_GEN!$A$2:$K$835,8,0),\"N.A.\")","v":{"v":45059.26,"d":"45,059"}},{"$f":"+IFERROR(VLOOKUP($A22&$E$3,BasePA_GEN!$A$2:$K$835,9,0),\"N.A.\")","v":{"v":2215.71,"d":"2,216"}},{"$f":"+IFERROR(VLOOKUP($A22&$E$3,BasePA_GEN!$A$2:$K$835,10,0),\"N.A.\")","v":{"v":42844,"d":"42,844"}},{"$f":"+IFERROR(VLOOKUP($A22&$E$3,BasePA_GEN!$A$2:$M$835,11,0),\"N.A.\")","v":195},{"$f":"+IFERROR(VLOOKUP($A22&$E$3,BasePA_GEN!$A$2:$M$835,12,0),\"N.A.\")","v":{"v":43038,"d":"43,038"}},{"$f":"+IFERROR(VLOOKUP($A22&$E$3,BasePA_GEN!$A$2:$M$835,13,0),\"N.A.\")","v":{"v":37612,"d":"37,612"}}]
["MAPFRE",{"$f":"+IFERROR(VLOOKUP($A23&$E$3,BasePA_GEN!$A$2:$K$835,4,0),\"N.A.\")","v":{"v":199742,"d":"199,742"}},{"$f":"+IFERROR(VLOOKUP($A23&$E$3,BasePA_GEN!$A$2:$K$835,5,0),\"N.A.\")","v":{"v":19058,"d":"19,058"}},{"$f":"+IFERROR(VLOOKUP($A23&$E$3,BasePA_GEN!$A$2:$K$835,6,0),\"N.A.\")","v":{"v":40575,"d":"40,575"}},{"$f":"+IFERROR(VLOOKUP($A23&$E$3,BasePA_GEN!$A$2:$K$835,7,0),\"N.A.\")","v":{"v":259374,"d":"259,374"}},{"$f":"+IFERROR(VLOOKUP($A23&$E$3,BasePA_GEN!$A$2:$K$835,8,0),\"N.A.\")","v":{"v":532189.62,"d":"532,190"}},{"$f":"+IFERROR(VLOOKUP($A23&$E$3,BasePA_GEN!$A$2:$K$835,9,0),\"N.A.\")","v":{"v":133199.3,"d":"133,199"}},{"$f":"+IFERROR(VLOOKUP($A23&$E$3,BasePA_GEN!$A$2:$K$835,10,0),\"N.A.\")","v":{"v":398990,"d":"398,990"}},{"$f":"+IFERROR(VLOOKUP($A23&$E$3,BasePA_GEN!$A$2:$M$835,11,0),\"N.A.\")","v":{"v":38906,"d":"38,906"}},{"$f":"+IFERROR(VLOOKUP($A23&$E$3,BasePA_GEN!$A$2:$M$835,12,0),\"N.A.\")","v":{"v":437896,"d":"437,896"}},{"$f":"+IFERROR(VLOOKUP($A23&$E$3,BasePA_GEN!$A$2:$M$835,13,0),\"N.A.\")","v":{"v":178522,"d":"178,522"}}]
["MUNDIAL",{"$f":"+IFERROR(VLOOKUP($A24&$E$3,BasePA_GEN!$A$2:$K$835,4,0),\"N.A.\")","v":{"v":162877,"d":"162,877"}},{"$f":"+IFERROR(VLOOKUP($A24&$E$3,BasePA_GEN!$A$2:$K$835,5,0),\"N.A.\")","v":{"v":13300,"d":"13,300"}},{"$f":"+IFERROR(VLOOKUP($A24&$E$3,BasePA_GEN!$A$2:$K$835,6,0),\"N.A.\")","v":{"v":4302,"d":"4,302"}},{"$f":"+IFERROR(VLOOKUP($A24&$E$3,BasePA_GEN!$A$2:$K$835,7,0),\"N.A.\")","v":{"v":180478,"d":"180,478"}},{"$f":"+IFERROR(VLOOKUP($A24&$E$3,BasePA_GEN!$A$2:$K$835,8,0),\"N.A.\")","v":{"v":240191.88,"d":"240,192"}},{"$f":"+IFERROR(VLOOKUP($A24&$E$3,BasePA_GEN!$A$2:$K$835,9,0),\"N.A.\")","v":{"v":21566.94,"d":"21,567"}},{"$f":"+IFERROR(VLOOKUP($A24&$E$3,BasePA_GEN!$A$2:$K$835,10,0),\"N.A.\")","v":{"v":218625,"d":"218,625"}},{"$f":"+IFERROR(VLOOKUP($A24&$E$3,BasePA_GEN!$A$2:$M$835,11,0),\"N.A.\")","v":468},{"$f":"+IFERROR(VLOOKUP($A24&$E$3,BasePA_GEN!$A$2:$M$835,12,0),\"N.A.\")","v":{"v":219093,"d":"219,093"}},{"$f":"+IFERROR(VLOOKUP($A24&$E$3,BasePA_GEN!$A$2:$M$835,13,0),\"N.A.\")","v":{"v":38615,"d":"38,615"}}]
["NACIONAL",{"$f":"+IFERROR(VLOOKUP($A25&$E$3,BasePA_GEN!$A$2:$K$835,4,0),\"N.A.\")","v":{"v":14724,"d":"14,724"}},{"$f":"+IFERROR(VLOOKUP($A25&$E$3,BasePA_GEN!$A$2:$K$835,5,0),\"N.A.\")","v":{"v":5641,"d":"5,641"}},{"$f":"+IFERROR(VLOOKUP($A25&$E$3,BasePA_GEN!$A$2:$K$835,6,0),\"N.A.\")","v":{"v":1801,"d":"1,801"}},{"$f":"+IFERROR(VLOOKUP($A25&$E$3,BasePA_GEN!$A$2:$K$835,7,0),\"N.A.\")","v":{"v":22166,"d":"22,166"}},{"$f":"+IFERROR(VLOOKUP($A25&$E$3,BasePA_GEN!$A$2:$K$835,8,0),\"N.A.\")","v":{"v":103324.88,"d":"103,325"}},{"$f":"+IFERROR(VLOOKUP($A25&$E$3,BasePA_GEN!$A$2:$K$835,9,0),\"N.A.\")","v":{"v":1901.49,"d":"1,901"}},{"$f":"+IFERROR(VLOOKUP($A25&$E$3,BasePA_GEN!$A$2:$K$835,10,0),\"N.A.\")","v":{"v":101423,"d":"101,423"}},{"$f":"+IFERROR(VLOOKUP($A25&$E$3,BasePA_GEN!$A$2:$M$835,11,0),\"N.A.\")","v":0},{"$f":"+IFERROR(VLOOKUP($A25&$E$3,BasePA_GEN!$A$2:$M$835,12,0),\"N.A.\")","v":{"v":101423,"d":"101,423"}},{"$f":"+IFERROR(VLOOKUP($A25&$E$3,BasePA_GEN!$A$2:$M$835,13,0),\"N.A.\")","v":{"v":79257,"d":"79,257"}}]
["PREVISORA",{"$f":"+IFERROR(VLOOKUP($A26&$E$3,BasePA_GEN!$A$2:$K$835,4,0),\"N.A.\")","v":{"v":412888,"d":"412,888"}},{"$f":"+IFERROR(VLOOKUP($A26&$E$3,BasePA_GEN!$A$2:$K$835,5,0),\"N.A.\")","v":{"v":40462,"d":"40,462"}},{"$f":"+IFERROR(VLOOKUP($A26&$E$3,BasePA_GEN!$A$2:$K$835,6,0),\"N.A.\")","v":{"v":75182,"d":"75,182"}},{"$f":"+IFERROR(VLOOKUP($A26&$E$3,BasePA_GEN!$A$2:$K$835,7,0),\"N.A.\")","v":{"v":528532,"d":"528,532"}},{"$f":"+IFERROR(VLOOKUP($A26&$E$3,BasePA_GEN!$A$2:$K$835,8,0),\"N.A.\")","v":{"v":882602.57,"d":"882,603"}},{"$f":"+IFERROR(VLOOKUP($A26&$E$3,BasePA_GEN!$A$2:$K$835,9,0),\"N.A.\")","v":{"v":170832.27,"d":"170,832"}},{"$f":"+IFERROR(VLOOKUP($A26&$E$3,BasePA_GEN!$A$2:$K$835,10,0),\"N.A.\")","v":{"v":711770,"d":"711,770"}},{"$f":"+IFERROR(VLOOKUP($A26&$E$3,BasePA_GEN!$A$2:$M$835,11,0),\"N.A.\")","v":0},{"$f":"+IFERROR(VLOOKUP($A26&$E$3,BasePA_GEN!$A$2:$M$835,12,0),\"N.A.\")","v":{"v":711770,"d":"711,770"}},{"$f":"+IFERROR(VLOOKUP($A26&$E$3,BasePA_GEN!$A$2:$M$835,13,0),\"N.A.\")","v":{"v":183238,"d":"183,238"}}]
["QUALITAS",{"$f":"+IFERROR(VLOOKUP($A27&$E$3,BasePA_GEN!$A$2:$K$835,4,0),\"N.A.\")","v":360},{"$f":"+IFERROR(VLOOKUP($A27&$E$3,BasePA_GEN!$A$2:$K$835,5,0),\"N.A.\")","v":134},{"$f":"+IFERROR(VLOOKUP($A27&$E$3,BasePA_GEN!$A$2:$K$835,6,0),\"N.A.\")","v":92},{"$f":"+IFERROR(VLOOKUP($A27&$E$3,BasePA_GEN!$A$2:$K$835,7,0),\"N.A.\")","v":586},{"$f":"+IFERROR(VLOOKUP($A27&$E$3,BasePA_GEN!$A$2:$K$835,8,0),\"N.A.\")","v":{"v":47916.32,"d":"47,916"}},{"$f":"+IFERROR(VLOOKUP($A27&$E$3,BasePA_GEN!$A$2:$K$835,9,0),\"N.A.\")","v":{"v":9168.85,"d":"9,169"}},{"$f":"+IFERROR(VLOOKUP($A27&$E$3,BasePA_GEN!$A$2:$K$835,10,0),\"N.A.\")","v":{"v":38747,"d":"38,747"}},{"$f":"+IFERROR(VLOOKUP($A27&$E$3,BasePA_GEN!$A$2:$M$835,11,0),\"N.A.\")","v":0},{"$f":"+IFERROR(VLOOKUP($A27&$E$3,BasePA_GEN!$A$2:$M$835,12,0),\"N.A.\")","v":{"v":38747,"d":"38,747"}},{"$f":"+IFERROR(VLOOKUP($A27&$E$3,BasePA_GEN!$A$2:$M$835,13,0),\"N.A.\")","v":{"v":38162,"d":"38,162"}}]
["SBS SEGUROS",{"$f":"+IFERROR(VLOOKUP($A28&$E$3,BasePA_GEN!$A$2:$K$835,4,0),\"N.A.\")","v":{"v":127199,"d":"127,199"}},{"$f":"+IFERROR(VLOOKUP($A28&$E$3,BasePA_GEN!$A$2:$K$835,5,0),\"N.A.\")","v":{"v":8565,"d":"8,565"}},{"$f":"+IFERROR(VLOOKUP($A28&$E$3,BasePA_GEN!$A$2:$K$835,6,0),\"N.A.\")","v":{"v":42305,"d":"42,305"}},{"$f":"+IFERROR(VLOOKUP($A28&$E$3,BasePA_GEN!$A$2:$K$835,7,0),\"N.A.\")","v":{"v":178069,"d":"178,069"}},{"$f":"+IFERROR(VLOOKUP($A28&$E$3,BasePA_GEN!$A$2:$K$835,8,0),\"N.A.\")","v":{"v":311850.43,"d":"311,850"}},{"$f":"+IFERROR(VLOOKUP($A28&$E$3,BasePA_GEN!$A$2:$K$835,9,0),\"N.A.\")","v":{"v":39168.53,"d":"39,169"}},{"$f":"+IFERROR(VLOOKUP($A28&$E$3,BasePA_GEN!$A$2:$K$835,10,0),\"N.A.\")","v":{"v":272682,"d":"272,682"}},{"$f":"+IFERROR(VLOOKUP($A28&$E$3,BasePA_GEN!$A$2:$M$835,11,0),\"N.A.\")","v":{"v":10949,"d":"10,949"}},{"$f":"+IFERROR(VLOOKUP($A28&$E$3,BasePA_GEN!$A$2:$M$835,12,0),\"N.A.\")","v":{"v":283631,"d":"283,631"}},{"$f":"+IFERROR(VLOOKUP($A28&$E$3,BasePA_GEN!$A$2:$M$835,13,0),\"N.A.\")","v":{"v":105562,"d":"105,562"}}]
["SEGUREXPO",{"$f":"+IFERROR(VLOOKUP($A29&$E$3,BasePA_GEN!$A$2:$K$835,4,0),\"N.A.\")","v":{"v":6912,"d":"6,912"}},{"$f":"+IFERROR(VLOOKUP($A29&$E$3,BasePA_GEN!$A$2:$K$835,5,0),\"N.A.\")","v":{"v":2428,"d":"2,428"}},{"$f":"+IFERROR(VLOOKUP($A29&$E$3,BasePA_GEN!$A$2:$K$835,6,0),\"N.A.\")","v":{"v":1173,"d":"1,173"}},{"$f":"+IFERROR(VLOOKUP($A29&$E$3,BasePA_GEN!$A$2:$K$835,7,0),\"N.A.\")","v":{"v":10514,"d":"10,514"}},{"$f":"+IFERROR(VLOOKUP($A29&$E$3,BasePA_GEN!$A$2:$K$835,8,0),\"N.A.\")","v":{"v":33386.95,"d":"33,387"}},{"$f":"+IFERROR(VLOOKUP($A29&$E$3,BasePA_GEN!$A$2:$K$835,9,0),\"N.A.\")","v":{"v":1365.4,"d":"1,365"}},{"$f":"+IFERROR(VLOOKUP($A29&$E$3,BasePA_GEN!$A$2:$K$835,10,0),\"N.A.\")","v":{"v":32022,"d":"32,022"}},{"$f":"+IFERROR(VLOOKUP($A29&$E$3,BasePA_GEN!$A$2:$M$835,11,0),\"N.A.\")","v":0},{"$f":"+IFERROR(VLOOKUP($A29&$E$3,BasePA_GEN!$A$2:$M$835,12,0),\"N.A.\")","v":{"v":32022,"d":"32,022"}},{"$f":"+IFERROR(VLOOKUP($A29&$E$3,BasePA_GEN!$A$2:$M$835,13,0),\"N.A.\")","v":{"v":21508,"d":"21,508"}}]
["SOLIDARIA",{"$f":"+IFERROR(VLOOKUP($A30&$E$3,BasePA_GEN!$A$2:$K$835,4,0),\"N.A.\")","v":{"v":83081,"d":"83,081"}},{"$f":"+IFERROR(VLOOKUP($A30&$E$3,BasePA_GEN!$A$2:$K$835,5,0),\"N.A.\")","v":{"v":7499,"d":"7,499"}},{"$f":"+IFERROR(VLOOKUP($A30&$E$3,BasePA_GEN!$A$2:$K$835,6,0),\"N.A.\")","v":0},{"$f":"+IFERROR(VLOOKUP($A30&$E$3,BasePA_GEN!$A$2:$K$835,7,0),\"N.A.\")","v":{"v":90581,"d":"90,581"}},{"$f":"+IFERROR(VLOOKUP($A30&$E$3,BasePA_GEN!$A$2:$K$835,8,0),\"N.A.\")","v":{"v":378126.95,"d":"378,127"}},{"$f":"+IFERROR(VLOOKUP($A30&$E$3,BasePA_GEN!$A$2:$K$835,9,0),\"N.A.\")","v":{"v":7684.48,"d":"7,684"}},{"$f":"+IFERROR(VLOOKUP($A30&$E$3,BasePA_GEN!$A$2:$K$835,10,0),\"N.A.\")","v":{"v":370442,"d":"370,442"}},{"$f":"+IFERROR(VLOOKUP($A30&$E$3,BasePA_GEN!$A$2:$M$835,11,0),\"N.A.\")","v":0},{"$f":"+IFERROR(VLOOKUP($A30&$E$3,BasePA_GEN!$A$2:$M$835,12,0),\"N.A.\")","v":{"v":370442,"d":"370,442"}},{"$f":"+IFERROR(VLOOKUP($A30&$E$3,BasePA_GEN!$A$2:$M$835,13,0),\"N.A.\")","v":{"v":279862,"d":"279,862"}}]
["SOLUNION",{"$f":"+IFERROR(VLOOKUP($A31&$E$3,BasePA_GEN!$A$2:$K$835,4,0),\"N.A.\")","v":{"v":10138,"d":"10,138"}},{"$f":"+IFERROR(VLOOKUP($A31&$E$3,BasePA_GEN!$A$2:$K$835,5,0),\"N.A.\")","v":{"v":1036,"d":"1,036"}},{"$f":"+IFERROR(VLOOKUP($A31&$E$3,BasePA_GEN!$A$2:$K$835,6,0),\"N.A.\")","v":{"v":1683,"d":"1,683"}},{"$f":"+IFERROR(VLOOKUP($A31&$E$3,BasePA_GEN!$A$2:$K$835,7,0),\"N.A.\")","v":{"v":12858,"d":"12,858"}},{"$f":"+IFERROR(VLOOKUP($A31&$E$3,BasePA_GEN!$A$2:$K$835,8,0),\"N.A.\")","v":{"v":52567.87,"d":"52,568"}},{"$f":"+IFERROR(VLOOKUP($A31&$E$3,BasePA_GEN!$A$2:$K$835,9,0),\"N.A.\")","v":{"v":559.65,"d":"560"}},{"$f":"+IFERROR(VLOOKUP($A31&$E$3,BasePA_GEN!$A$2:$K$835,10,0),\"N.A.\")","v":{"v":52008,"d":"52,008"}},{"$f":"+IFERROR(VLOOKUP($A31&$E$3,BasePA_GEN!$A$2:$M$835,11,0),\"N.A.\")","v":267},{"$f":"+IFERROR(VLOOKUP($A31&$E$3,BasePA_GEN!$A$2:$M$835,12,0),\"N.A.\")","v":{"v":52276,"d":"52,276"}},{"$f":"+IFERROR(VLOOKUP($A31&$E$3,BasePA_GEN!$A$2:$M$835,13,0),\"N.A.\")","v":{"v":39417,"d":"39,417"}}]
["SURAMERICANA",{"$f":"+IFERROR(VLOOKUP($A32&$E$3,BasePA_GEN!$A$2:$K$835,4,0),\"N.A.\")","v":{"v":385892,"d":"385,892"}},{"$f":"+IFERROR(VLOOKUP($A32&$E$3,BasePA_GEN!$A$2:$K$835,5,0),\"N.A.\")","v":{"v":58204,"d":"58,204"}},{"$f":"+IFERROR(VLOOKUP($A32&$E$3,BasePA_GEN!$A$2:$K$835,6,0),\"N.A.\")","v":{"v":39352,"d":"39,352"}},{"$f":"+IFERROR(VLOOKUP($A32&$E$3,BasePA_GEN!$A$2:$K$835,7,0),\"N.A.\")","v":{"v":483449,"d":"483,449"}},{"$f":"+IFERROR(VLOOKUP($A32&$E$3,BasePA_GEN!$A$2:$K$835,8,0),\"N.A.\")","v":{"v":941241.46,"d":"941,241"}},{"$f":"+IFERROR(VLOOKUP($A32&$E$3,BasePA_GEN!$A$2:$K$835,9,0),\"N.A.\")","v":{"v":176495.68,"d":"176,496"}},{"$f":"+IFERROR(VLOOKUP($A32&$E$3,BasePA_GEN!$A$2:$K$835,10,0),\"N.A.\")","v":{"v":764746,"d":"764,746"}},{"$f":"+IFERROR(VLOOKUP($A32&$E$3,BasePA_GEN!$A$2:$M$835,11,0),\"N.A.\")","v":0},{"$f":"+IFERROR(VLOOKUP($A32&$E$3,BasePA_GEN!$A$2:$M$835,12,0),\"N.A.\")","v":{"v":764746,"d":"764,746"}},{"$f":"+IFERROR(VLOOKUP($A32&$E$3,BasePA_GEN!$A$2:$M$835,13,0),\"N.A.\")","v":{"v":281297,"d":"281,297"}}]
["ZURICH",{"$f":"+IFERROR(VLOOKUP($A33&$E$3,BasePA_GEN!$A$2:$K$835,4,0),\"N.A.\")","v":{"v":55699,"d":"55,699"}},{"$f":"+IFERROR(VLOOKUP($A33&$E$3,BasePA_GEN!$A$2:$K$835,5,0),\"N.A.\")","v":{"v":14811,"d":"14,811"}},{"$f":"+IFERROR(VLOOKUP($A33&$E$3,BasePA_GEN!$A$2:$K$835,6,0),\"N.A.\")","v":{"v":6574,"d":"6,574"}},{"$f":"+IFERROR(VLOOKUP($A33&$E$3,BasePA_GEN!$A$2:$K$835,7,0),\"N.A.\")","v":{"v":77084,"d":"77,084"}},{"$f":"+IFERROR(VLOOKUP($A33&$E$3,BasePA_GEN!$A$2:$K$835,8,0),\"N.A.\")","v":{"v":301707.79,"d":"301,708"}},{"$f":"+IFERROR(VLOOKUP($A33&$E$3,BasePA_GEN!$A$2:$K$835,9,0),\"N.A.\")","v":{"v":213802.28,"d":"213,802"}},{"$f":"+IFERROR(VLOOKUP($A33&$E$3,BasePA_GEN!$A$2:$K$835,10,0),\"N.A.\")","v":{"v":87906,"d":"87,906"}},{"$f":"+IFERROR(VLOOKUP($A33&$E$3,BasePA_GEN!$A$2:$M$835,11,0),\"N.A.\")","v":{"v":11563,"d":"11,563"}},{"$f":"+IFERROR(VLOOKUP($A33&$E$3,BasePA_GEN!$A$2:$M$835,12,0),\"N.A.\")","v":{"v":99468,"d":"99,468"}},{"$f":"+IFERROR(VLOOKUP($A33&$E$3,BasePA_GEN!$A$2:$M$835,13,0),\"N.A.\")","v":{"v":22384,"d":"22,384"}}]

{"sheet":"BasePA_VID","index":4,"n_rows":64,"n_cols":13,"rows_kept":64,"hidden":true}
[{"$nulls":3},"Riesgo de Suscripción","Riesgo de Activo","TOTAL PATRIMONIO ADECUADO","Patrimonio Básico Ordinario antes de deducciones","Deducciones del Patrimonio Básico Ordinario","Patrimonio Básico Ordinario","Patrimonio Básico Adicional (computable)","Patrimonio Adicional (computable)","PATRIMONIO TÉCNICO","EXCESO (DEFECTO)"]
[{"$f":"+B2&C2","v":"ALFA VIDA45777"},"ALFA VIDA","2025-04-30",{"v":2079055,"d":"2,079,055"},{"v":228003,"d":"228,003"},{"v":2307058,"d":"2,307,058"},{"v":2188076.76,"d":"2,188,076.76"},{"v":24203.57,"d":"24,203.57"},{"v":2163873,"d":"2,163,873"},{"v":295000,"d":"295,000"},0,{"v":2458873,"d":"2,458,873"},{"v":151815,"d":"151,815"}]
[{"$f":"+B3&C3","v":"ALFA VIDA45808"},"ALFA VIDA","2025-05-31",{"v":2098884,"d":"2,098,884"},{"v":230478,"d":"230,478"},{"v":2329362,"d":"2,329,362"},{"v":2256351.81,"d":"2,256,351.81"},{"v":25461.09,"d":"25,461.09"},{"v":2230891,"d":"2,230,891"},{"v":295000,"d":"295,000"},0,{"v":2525891,"d":"2,525,891"},{"v":196529,"d":"196,529"}]
["ALFA VIDA45838","ALFA VIDA","2025-06-30",{"v":2122972,"d":"2,122,972"},{"v":231516,"d":"231,516"},{"v":2354488,"d":"2,354,488"},{"v":2280753.07,"d":"2,280,753.07"},{"v":25896.43,"d":"25,896.43"},{"v":2254857,"d":"2,254,857"},{"v":295000,"d":"295,000"},0,{"v":2549857,"d":"2,549,857"},{"v":195369,"d":"195,369"}]
["ALLIANZ VIDA45777","ALLIANZ VIDA","2025-04-30",{"v":184429,"d":"184,429"},{"v":6805,"d":"6,805"},{"v":191234,"d":"191,234"},{"v":305591.65,"d":"305,591.65"},{"v":13791.86,"d":"13,791.86"},{"v":291800,"d":"291,800"},0,0,{"v":291800,"d":"291,800"},{"v":100566,"d":"100,566"}]
["ALLIANZ VIDA45808","ALLIANZ VIDA","2025-05-31",{"v":184188,"d":"184,188"},{"v":6638,"d":"6,638"},{"v":190826,"d":"190,826"},{"v":323975.53,"d":"323,975.53"},{"v":14404.13,"d":"14,404.13"},{"v":309571,"d":"309,571"},0,0,{"v":309571,"d":"309,571"},{"v":118745,"d":"118,745"}]
["ALLIANZ VIDA45838","ALLIANZ VIDA","2025-06-30",{"v":185582,"d":"185,582"},{"v":6489,"d":"6,489"},{"v":192071,"d":"192,071"},{"v":324039.92,"d":"324,039.92"},{"v":14316.46,"d":"14,316.46"},{"v":309723,"d":"309,723"},0,0,{"v":309723,"d":"309,723"},{"v":117653,"d":"117,653"}]
["ANDINA45777","ANDINA","2025-04-30",{"v":32880,"d":"32,880"},196,{"v":33076,"d":"33,076"},{"v":66757.02,"d":"66,757.02"},{"v":963.3,"d":"963.30"},{"v":65794,"d":"65,794"},0,0,{"v":65794,"d":"65,794"},{"v":32718,"d":"32,718"}]
["ANDINA45808","ANDINA","2025-05-31",{"v":36708,"d":"36,708"},198,{"v":36905,"d":"36,905"},{"v":65295.92,"d":"65,295.92"},{"v":1044.56,"d":"1,044.56"},{"v":64251,"d":"64,251"},0,0,{"v":64251,"d":"64,251"},{"v":27346,"d":"27,346"}]
["ANDINA45838","ANDINA","2025-06-30",{"v":41164,"d":"41,164"},199,{"v":41363,"d":"41,363"},{"v":63556.26,"d":"63,556.26"},{"v":1025.6,"d":"1,025.60"},{"v":62531,"d":"62,531"},0,0,{"v":62531,"d":"62,531"},{"v":21168,"d":"21,168"}]
["ASULADO45777","ASULADO","2025-04-30",{"v":931522,"d":"931,522"},{"v":21503,"d":"21,503"},{"v":953024,"d":"953,024"},{"v":1181154.67,"d":"1,181,154.67"},{"v":0,"d":"0.00"},{"v":1181155,"d":"1,181,155"},0,0,{"v":1181155,"d":"1,181,155"},{"v":228130,"d":"228,130"}]
["ASULADO45808","ASULADO","2025-05-31",{"v":948971,"d":"948,971"},{"v":21531,"d":"21,531"},{"v":970502,"d":"970,502"},{"v":1200815.67,"d":"1,200,815.67"},{"v":0,"d":"0.00"},{"v":1200816,"d":"1,200,816"},0,0,{"v":1200816,"d":"1,200,816"},{"v":230314,"d":"230,314"}]
["ASULADO45838","ASULADO","2025-06-30",{"v":961361,"d":"961,361"},{"v":21335,"d":"21,335"},{"v":982697,"d":"982,697"},{"v":1212448.1,"d":"1,212,448.10"},{"v":0,"d":"0.00"},{"v":1212448,"d":"1,212,448"},0,0,{"v":1212448,"d":"1,212,448"},{"v":229751,"d":"229,751"}]
["AURORA VIDA45777","AURORA VIDA","2025-04-30",{"v":3564,"d":"3,564"},733,{"v":4297,"d":"4,297"},{"v":33811.39,"d":"33,811.39"},{"v":6367.53,"d":"6,367.53"},{"v":27444,"d":"27,444"},0,0,{"v":27444,"d":"27,444"},{"v":23147,"d":"23,147"}]
["AURORA VIDA45808","AURORA VIDA","2025-05-31",{"v":3642,"d":"3,642"},833,{"v":4475,"d":"4,475"},{"v":33811.39,"d":"33,811.39"},{"v":5050.09,"d":"5,050.09"},{"v":28761,"d":"28,761"},0,0,{"v":28761,"d":"28,761"},{"v":24286,"d":"24,286"}]
["AURORA VIDA45838","AURORA VIDA","2025-06-30",{"v":3805,"d":"3,805"},513,{"v":4318,"d":"4,318"},{"v":33811.39,"d":"33,811.39"},{"v":5592.03,"d":"5,592.03"},{"v":28219,"d":"28,219"},0,0,{"v":28219,"d":"28,219"},{"v":23902,"d":"23,902"}]
["AXA COLPATRIA VIDA45777","AXA COLPATRIA VIDA","2025-04-30",{"v":282733,"d":"282,733"},{"v":31998,"d":"31,998"},{"v":314732,"d":"314,732"},{"v":877676.69,"d":"877,676.69"},{"v":109007.12,"d":"109,007.12"},{"v":768670,"d":"768,670"},0,{"v":47210,"d":"47,210"},{"v":815879,"d":"815,879"},{"v":501148,"d":"501,148"}]
["AXA COLPATRIA VIDA45808","AXA COLPATRIA VIDA","2025-05-31",{"v":285917,"d":"285,917"},{"v":32248,"d":"32,248"},{"v":318165,"d":"318,165"},{"v":901185.4,"d":"901,185.40"},{"v":112637.05,"d":"112,637.05"},{"v":788548,"d":"788,548"},0,{"v":47725,"d":"47,725"},{"v":836273,"d":"836,273"},{"v":518108,"d":"518,108"}]
["AXA COLPATRIA VIDA45838","AXA COLPATRIA VIDA","2025-06-30",{"v":289355,"d":"289,355"},{"v":32178,"d":"32,178"},{"v":321533,"d":"321,533"},{"v":895817.15,"d":"895,817.15"},{"v":112039.73,"d":"112,039.73"},{"v":783777,"d":"783,777"},0,{"v":48230,"d":"48,230"},{"v":832007,"d":"832,007"},{"v":510474,"d":"510,474"}]
["BBVA SEGUROS VIDA45777","BBVA SEGUROS VIDA","2025-04-30",{"v":149432,"d":"149,432"},{"v":15598,"d":"15,598"},{"v":165030,"d":"165,030"},{"v":704585.77,"d":"704,585.77"},{"v":11129.84,"d":"11,129.84"},{"v":693456,"d":"693,456"},0,430,{"v":693886,"d":"693,886"},{"v":528856,"d":"528,856"}]
["BBVA SEGUROS VIDA45808","BBVA SEGUROS VIDA","2025-05-31",{"v":152386,"d":"152,386"},{"v":15280,"d":"15,280"},{"v":167667,"d":"167,667"},{"v":728190.77,"d":"728,190.77"},{"v":13839.17,"d":"13,839.17"},{"v":714352,"d":"714,352"},0,{"v":2947,"d":"2,947"},{"v":717299,"d":"717,299"},{"v":549632,"d":"549,632"}]
["BBVA SEGUROS VIDA45838","BBVA SEGUROS VIDA","2025-06-30",{"v":151999,"d":"151,999"},{"v":15479,"d":"15,479"},{"v":167477,"d":"167,477"},{"v":738614.77,"d":"738,614.77"},{"v":12378.42,"d":"12,378.42"},{"v":726236,"d":"726,236"},0,{"v":1534,"d":"1,534"},{"v":727771,"d":"727,771"},{"v":560293,"d":"560,293"}]
["BMI COLOMBIA45777","BMI COLOMBIA","2025-04-30",{"v":9766,"d":"9,766"},{"v":1969,"d":"1,969"},{"v":11735,"d":"11,735"},{"v":59257.44,"d":"59,257.44"},{"v":36315.06,"d":"36,315.06"},{"v":22942,"d":"22,942"},0,{"v":1760,"d":"1,760"},{"v":24703,"d":"24,703"},{"v":12968,"d":"12,968"}]
["BMI COLOMBIA45808","BMI COLOMBIA","2025-05-31",{"v":9141,"d":"9,141"},{"v":1945,"d":"1,945"},{"v":11086,"d":"11,086"},{"v":61771.87,"d":"61,771.87"},{"v":36123.04,"d":"36,123.04"},{"v":25649,"d":"25,649"},0,{"v":1663,"d":"1,663"},{"v":27312,"d":"27,312"},{"v":16225,"d":"16,225"}]
["BMI COLOMBIA45838","BMI COLOMBIA","2025-06-30",{"v":9189,"d":"9,189"},262,{"v":9451,"d":"9,451"},{"v":62213.86,"d":"62,213.86"},{"v":36467.66,"d":"36,467.66"},{"v":25746,"d":"25,746"},0,{"v":1418,"d":"1,418"},{"v":27164,"d":"27,164"},{"v":17713,"d":"17,713"}]
["BOLIVAR VIDA45777","BOLIVAR VIDA","2025-04-30",{"v":758993,"d":"758,993"},{"v":127015,"d":"127,015"},{"v":886009,"d":"886,009"},{"v":2992079.63,"d":"2,992,079.63"},{"v":1671943.26,"d":"1,671,943.26"},{"v":1320136,"d":"1,320,136"},0,0,{"v":1320136,"d":"1,320,136"},{"v":434128,"d":"434,128"}]
["BOLIVAR VIDA45808","BOLIVAR VIDA","2025-05-31",{"v":768100,"d":"768,100"},{"v":127313,"d":"127,313"},{"v":895413,"d":"895,413"},{"v":3059152.49,"d":"3,059,152.49"},{"v":1674514.79,"d":"1,674,514.79"},{"v":1384638,"d":"1,384,638"},0,0,{"v":1384638,"d":"1,384,638"},{"v":489225,"d":"489,225"}]
["BOLIVAR VIDA45838","BOLIVAR VIDA","2025-06-30",{"v":775846,"d":"775,846"},{"v":129396,"d":"129,396"},{"v":905242,"d":"905,242"},{"v":2895187.02,"d":"2,895,187.02"},{"v":1709722.33,"d":"1,709,722.33"},{"v":1185465,"d":"1,185,465"},0,0,{"v":1185465,"d":"1,185,465"},{"v":280223,"d":"280,223"}]
["COLMENA ARL45777","COLMENA ARL","2025-04-30",{"v":154227,"d":"154,227"},{"v":17729,"d":"17,729"},{"v":171956,"d":"171,956"},{"v":287394.54,"d":"287,394.54"},{"v":23400.91,"d":"23,400.91"},{"v":263994,"d":"263,994"},0,0,{"v":263994,"d":"263,994"},{"v":92037,"d":"92,037"}]
["COLMENA ARL45808","COLMENA ARL","2025-05-31",{"v":154556,"d":"154,556"},{"v":18465,"d":"18,465"},{"v":173021,"d":"173,021"},{"v":310960.88,"d":"310,960.88"},{"v":23395.09,"d":"23,395.09"},{"v":287566,"d":"287,566"},0,0,{"v":287566,"d":"287,566"},{"v":114545,"d":"114,545"}]
["COLMENA ARL45838","COLMENA ARL","2025-06-30",{"v":155143,"d":"155,143"},{"v":19445,"d":"19,445"},{"v":174588,"d":"174,588"},{"v":328797.51,"d":"328,797.51"},{"v":23389.27,"d":"23,389.27"},{"v":305408,"d":"305,408"},0,0,{"v":305408,"d":"305,408"},{"v":130820,"d":"130,820"}]
["COLMENA VIDA45777","COLMENA VIDA","2025-04-30",{"v":26620,"d":"26,620"},{"v":6115,"d":"6,115"},{"v":32735,"d":"32,735"},{"v":161093.15,"d":"161,093.15"},{"v":32822.55,"d":"32,822.55"},{"v":128271,"d":"128,271"},0,{"v":2443,"d":"2,443"},{"v":130714,"d":"130,714"},{"v":97978,"d":"97,978"}]
["COLMENA VIDA45808","COLMENA VIDA","2025-05-31",{"v":26225,"d":"26,225"},{"v":7868,"d":"7,868"},{"v":34093,"d":"34,093"},{"v":163544.97,"d":"163,544.97"},{"v":32948.72,"d":"32,948.72"},{"v":130596,"d":"130,596"},0,{"v":2416,"d":"2,416"},{"v":133012,"d":"133,012"},{"v":98919,"d":"98,919"}]
["COLMENA VIDA45838","COLMENA VIDA","2025-06-30",{"v":26679,"d":"26,679"},{"v":7351,"d":"7,351"},{"v":34030,"d":"34,030"},{"v":166298.26,"d":"166,298.26"},{"v":32553.35,"d":"32,553.35"},{"v":133745,"d":"133,745"},0,{"v":2040,"d":"2,040"},{"v":135785,"d":"135,785"},{"v":101754,"d":"101,754"}]
["COLSANITAS45777","COLSANITAS","2025-04-30",{"v":17492,"d":"17,492"},{"v":2805,"d":"2,805"},{"v":20298,"d":"20,298"},{"v":60380.12,"d":"60,380.12"},{"v":34446.76,"d":"34,446.76"},{"v":25933,"d":"25,933"},0,0,{"v":25933,"d":"25,933"},{"v":5636,"d":"5,636"}]
["COLSANITAS45808","COLSANITAS","2025-05-31",{"v":17943,"d":"17,943"},{"v":2819,"d":"2,819"},{"v":20763,"d":"20,763"},{"v":67937.15,"d":"67,937.15"},{"v":34889.44,"d":"34,889.44"},{"v":33048,"d":"33,048"},0,0,{"v":33048,"d":"33,048"},{"v":12285,"d":"12,285"}]
[{"$f":"+B37&C37","v":"COLSANITAS45838"},"COLSANITAS","2025-06-30",{"v":18632,"d":"18,632"},{"v":4027,"d":"4,027"},{"v":22659,"d":"22,659"},{"v":67683.6,"d":"67,683.60"},{"v":35642.05,"d":"35,642.05"},{"v":32042,"d":"32,042"},0,0,{"v":32042,"d":"32,042"},{"v":9383,"d":"9,383"}]
["EQUIDAD VIDA45777","EQUIDAD VIDA","2025-04-30",{"v":46239,"d":"46,239"},{"v":5918,"d":"5,918"},{"v":52156,"d":"52,156"},{"v":71518.39,"d":"71,518.39"},{"v":6805.1,"d":"6,805.10"},{"v":64713,"d":"64,713"},0,0,{"v":64713,"d":"64,713"},{"v":12557,"d":"12,557"}]
["EQUIDAD VIDA45808","EQUIDAD VIDA","2025-05-31",{"v":46458,"d":"46,458"},{"v":5846,"d":"5,846"},{"v":52305,"d":"52,305"},{"v":71522.44,"d":"71,522.44"},{"v":3569.92,"d":"3,569.92"},{"v":67953,"d":"67,953"},0,0,{"v":67953,"d":"67,953"},{"v":15648,"d":"15,648"}]
["EQUIDAD VIDA45838","EQUIDAD VIDA","2025-06-30",{"v":46573,"d":"46,573"},{"v":5869,"d":"5,869"},{"v":52442,"d":"52,442"},{"v":71531.73,"d":"71,531.73"},{"v":2292.67,"d":"2,292.67"},{"v":69239,"d":"69,239"},0,0,{"v":69239,"d":"69,239"},{"v":16797,"d":"16,797"}]
["ESTADO VIDA45777","ESTADO VIDA","2025-04-30",{"v":27533,"d":"27,533"},{"v":4857,"d":"4,857"},{"v":32390,"d":"32,390"},{"v":47936.51,"d":"47,936.51"},{"v":5083.09,"d":"5,083.09"},{"v":42853,"d":"42,853"},0,545,{"v":43398,"d":"43,398"},{"v":11008,"d":"11,008"}]
["ESTADO VIDA45808","ESTADO VIDA","2025-05-31",{"v":27788,"d":"27,788"},{"v":4272,"d":"4,272"},{"v":32061,"d":"32,061"},{"v":49346.71,"d":"49,346.71"},{"v":4760.53,"d":"4,760.53"},{"v":44586,"d":"44,586"},0,222,{"v":44808,"d":"44,808"},{"v":12748,"d":"12,748"}]
["ESTADO VIDA45838","ESTADO VIDA","2025-06-30",{"v":27908,"d":"27,908"},{"v":3796,"d":"3,796"},{"v":31704,"d":"31,704"},{"v":47382.55,"d":"47,382.55"},{"v":6242.05,"d":"6,242.05"},{"v":41140,"d":"41,140"},0,{"v":1704,"d":"1,704"},{"v":42844,"d":"42,844"},{"v":11140,"d":"11,140"}]
["GLOBAL45777","GLOBAL","2025-04-30",{"v":234559,"d":"234,559"},{"v":92062,"d":"92,062"},{"v":326621,"d":"326,621"},{"v":336139.88,"d":"336,139.88"},{"v":13914.14,"d":"13,914.14"},{"v":322226,"d":"322,226"},0,{"v":11908,"d":"11,908"},{"v":334133,"d":"334,133"},{"v":7512,"d":"7,512"}]
["GLOBAL45808","GLOBAL","2025-05-31",{"v":236142,"d":"236,142"},{"v":88865,"d":"88,865"},{"v":325006,"d":"325,006"},{"v":333859.28,"d":"333,859.28"},{"v":13884.91,"d":"13,884.91"},{"v":319974,"d":"319,974"},0,{"v":11908,"d":"11,908"},{"v":331882,"d":"331,882"},{"v":6876,"d":"6,876"}]
["GLOBAL45838","GLOBAL","2025-06-30",{"v":236817,"d":"236,817"},{"v":90039,"d":"90,039"},{"v":326855,"d":"326,855"},{"v":334825.14,"d":"334,825.14"},{"v":13936.15,"d":"13,936.15"},{"v":320889,"d":"320,889"},0,{"v":11908,"d":"11,908"},{"v":332797,"d":"332,797"},{"v":5941,"d":"5,941"}]
["MAPFRE VIDA45777","MAPFRE VIDA","2025-04-30",{"v":240094,"d":"240,094"},{"v":24528,"d":"24,528"},{"v":264622,"d":"264,622"},{"v":372180.44,"d":"372,180.44"},{"v":93012.29,"d":"93,012.29"},{"v":279168,"d":"279,168"},0,0,{"v":279168,"d":"279,168"},{"v":14546,"d":"14,546"}]
["MAPFRE VIDA45808","MAPFRE VIDA","2025-05-31",{"v":240906,"d":"240,906"},{"v":24276,"d":"24,276"},{"v":265183,"d":"265,183"},{"v":372298.04,"d":"372,298.04"},{"v":92232.24,"d":"92,232.24"},{"v":280066,"d":"280,066"},0,0,{"v":280066,"d":"280,066"},{"v":14883,"d":"14,883"}]
["MAPFRE VIDA45838","MAPFRE VIDA","2025-06-30",{"v":241232,"d":"241,232"},{"v":24614,"d":"24,614"},{"v":265846,"d":"265,846"},{"v":408751.63,"d":"408,751.63"},{"v":107464.65,"d":"107,464.65"},{"v":301287,"d":"301,287"},0,0,{"v":301287,"d":"301,287"},{"v":35441,"d":"35,441"}]
["METLIFE45777","METLIFE","2025-04-30",{"v":132388,"d":"132,388"},{"v":12670,"d":"12,670"},{"v":145058,"d":"145,058"},{"v":426642.22,"d":"426,642.22"},{"v":14230.88,"d":"14,230.88"},{"v":412411,"d":"412,411"},0,359,{"v":412770,"d":"412,770"},{"v":267712,"d":"267,712"}]
["METLIFE45808","METLIFE","2025-05-31",{"v":132686,"d":"132,686"},{"v":11775,"d":"11,775"},{"v":144461,"d":"144,461"},{"v":431642.02,"d":"431,642.02"},{"v":16869.91,"d":"16,869.91"},{"v":414772,"d":"414,772"},0,{"v":2318,"d":"2,318"},{"v":417090,"d":"417,090"},{"v":272629,"d":"272,629"}]
["METLIFE45838","METLIFE","2025-06-30",{"v":131766,"d":"131,766"},{"v":12029,"d":"12,029"},{"v":143795,"d":"143,795"},{"v":429796.88,"d":"429,796.88"},{"v":19846.6,"d":"19,846.60"},{"v":409950,"d":"409,950"},0,{"v":5593,"d":"5,593"},{"v":415543,"d":"415,543"},{"v":271748,"d":"271,748"}]
["PANAMERICAN VIDA45777","PANAMERICAN VIDA","2025-04-30",{"v":46124,"d":"46,124"},{"v":7374,"d":"7,374"},{"v":53499,"d":"53,499"},{"v":91681.2,"d":"91,681.20"},{"v":19961.03,"d":"19,961.03"},{"v":71720,"d":"71,720"},0,{"v":1660,"d":"1,660"},{"v":73380,"d":"73,380"},{"v":19881,"d":"19,881"}]
["PANAMERICAN VIDA45808","PANAMERICAN VIDA","2025-05-31",{"v":48023,"d":"48,023"},{"v":7578,"d":"7,578"},{"v":55601,"d":"55,601"},{"v":91505.93,"d":"91,505.93"},{"v":20685.69,"d":"20,685.69"},{"v":70820,"d":"70,820"},0,{"v":1660,"d":"1,660"},{"v":72480,"d":"72,480"},{"v":16879,"d":"16,879"}]
["PANAMERICAN VIDA45838","PANAMERICAN VIDA","2025-06-30",{"v":50168,"d":"50,168"},{"v":8142,"d":"8,142"},{"v":58310,"d":"58,310"},{"v":91505.93,"d":"91,505.93"},{"v":21501.38,"d":"21,501.38"},{"v":70005,"d":"70,005"},0,{"v":2403,"d":"2,403"},{"v":72408,"d":"72,408"},{"v":14098,"d":"14,098"}]
["POSITIVA45777","POSITIVA","2025-04-30",{"v":530788,"d":"530,788"},{"v":73760,"d":"73,760"},{"v":604548,"d":"604,548"},{"v":1337477.64,"d":"1,337,477.64"},{"v":442728.38,"d":"442,728.38"},{"v":894749,"d":"894,749"},0,0,{"v":894749,"d":"894,749"},{"v":290201,"d":"290,201"}]
["POSITIVA45808","POSITIVA","2025-05-31",{"v":535857,"d":"535,857"},{"v":74091,"d":"74,091"},{"v":609947,"d":"609,947"},{"v":1367841.35,"d":"1,367,841.35"},{"v":442666.72,"d":"442,666.72"},{"v":925175,"d":"925,175"},0,0,{"v":925175,"d":"925,175"},{"v":315227,"d":"315,227"}]
["POSITIVA45838","POSITIVA","2025-06-30",{"v":536319,"d":"536,319"},{"v":75037,"d":"75,037"},{"v":611355,"d":"611,355"},{"v":1370862.04,"d":"1,370,862.04"},{"v":442607.06,"d":"442,607.06"},{"v":928255,"d":"928,255"},0,0,{"v":928255,"d":"928,255"},{"v":316899,"d":"316,899"}]
["SKANDIA45777","SKANDIA","2025-04-30",{"v":67519,"d":"67,519"},{"v":13102,"d":"13,102"},{"v":80620,"d":"80,620"},{"v":230252.27,"d":"230,252.27"},{"v":114089.34,"d":"114,089.34"},{"v":116163,"d":"116,163"},0,0,{"v":116163,"d":"116,163"},{"v":35543,"d":"35,543"}]
["SKANDIA45808","SKANDIA","2025-05-31",{"v":68852,"d":"68,852"},{"v":12800,"d":"12,800"},{"v":81652,"d":"81,652"},{"v":232482.31,"d":"232,482.31"},{"v":113932.55,"d":"113,932.55"},{"v":118550,"d":"118,550"},0,0,{"v":118550,"d":"118,550"},{"v":36898,"d":"36,898"}]
["SKANDIA45838","SKANDIA","2025-06-30",{"v":69822,"d":"69,822"},{"v":12056,"d":"12,056"},{"v":81878,"d":"81,878"},{"v":235790.82,"d":"235,790.82"},{"v":117558.41,"d":"117,558.41"},{"v":118232,"d":"118,232"},0,0,{"v":118232,"d":"118,232"},{"v":36355,"d":"36,355"}]
["SURAMERICANA VIDA45777","SURAMERICANA VIDA","2025-04-30",{"v":1545432,"d":"1,545,432"},{"v":201546,"d":"201,546"},{"v":1746977,"d":"1,746,977"},{"v":2900515.9,"d":"2,900,515.90"},{"v":298065.73,"d":"298,065.73"},{"v":2602450,"d":"2,602,450"},0,{"v":13487,"d":"13,487"},{"v":2615937,"d":"2,615,937"},{"v":868960,"d":"868,960"}]
["SURAMERICANA VIDA45808","SURAMERICANA VIDA","2025-05-31",{"v":1557465,"d":"1,557,465"},{"v":199382,"d":"199,382"},{"v":1756847,"d":"1,756,847"},{"v":2956674.44,"d":"2,956,674.44"},{"v":297821.44,"d":"297,821.44"},{"v":2658853,"d":"2,658,853"},0,{"v":13487,"d":"13,487"},{"v":2672340,"d":"2,672,340"},{"v":915494,"d":"915,494"}]
["SURAMERICANA VIDA45838","SURAMERICANA VIDA","2025-06-30",{"v":1568464,"d":"1,568,464"},{"v":203166,"d":"203,166"},{"v":1771629,"d":"1,771,629"},{"v":3016716.73,"d":"3,016,716.73"},{"v":284957.83,"d":"284,957.83"},{"v":2731759,"d":"2,731,759"},0,{"v":5272,"d":"5,272"},{"v":2737031,"d":"2,737,031"},{"v":965402,"d":"965,402"}]

{"sheet":"PA_VID","index":5,"n_rows":27,"n_cols":11,"rows_kept":27,"merged":[[0,1,0,9],[1,1,1,9],[3,1,3,9],[4,0,5,0],[4,1,4,3],[4,4,4,10]]}
[null,"COMPAÑÍAS DE SEGUROS DE VIDA"]
[null,"PATRIMONIO ADECUADO Y PATRIMONIO TÉCNICO"]
[{"$nulls":5},"2025-06-30"]
[null,"CIFRAS EN MILLONES DE PESOS"]
["COMPAÑÍAS","PATRIMONIO ADECUADO",null,null,"PATRIMONIO TÉCNICO"]
[null,"Riesgo de suscripción","Riesgo de activo","Total patrimonio adecuado","PBO antes de deducciones","Deducciones de PBO","Patrimonio Básico Ordinario","Patrimonio Básico Adicional","Patrimonio Adicional","Patrimonio técnico","Exceso (defecto)"]
["ALFA VIDA",{"$f":"+IFERROR(VLOOKUP($A7&$F$3,BasePA_VID!$A$1:$J$316,4,0),\"N.A.\")","v":{"v":2122972,"d":"2,122,972"}},{"$f":"+IFERROR(VLOOKUP($A7&$F$3,BasePA_VID!$A$1:$J$316,5,0),\"N.A.\")","v":{"v":231516,"d":"231,516"}},{"$f":"+IFERROR(VLOOKUP($A7&$F$3,BasePA_VID!$A$1:$J$316,6,0),\"N.A.\")","v":{"v":2354488,"d":"2,354,488"}},{"$f":"+IFERROR(VLOOKUP($A7&$F$3,BasePA_VID!$A$1:$J$316,7,0),\"N.A.\")","v":{"v":2280753.07,"d":"2,280,753"}},{"$f":"+IFERROR(VLOOKUP($A7&$F$3,BasePA_VID!$A$1:$J$316,8,0),\"N.A.\")","v":{"v":25896.43,"d":"25,896"}},{"$f":"+IFERROR(VLOOKUP($A7&$F$3,BasePA_VID!$A$1:$J$316,9,0),\"N.A.\")","v":{"v":2254857,"d":"2,254,857"}},{"$f":"+IFERROR(VLOOKUP($A7&$F$3,BasePA_VID!$A$1:$M$316,10,0),\"N.A.\")","v":{"v":295000,"d":"295,000"}},{"$f":"+IFERROR(VLOOKUP($A7&$F$3,BasePA_VID!$A$1:$M$316,11,0),\"N.A.\")","v":0},{"$f":"+IFERROR(VLOOKUP($A7&$F$3,BasePA_VID!$A$1:$M$316,12,0),\"N.A.\")","v":{"v":2549857,"d":"2,549,857"}},{"$f":"+IFERROR(VLOOKUP($A7&$F$3,BasePA_VID!$A$1:$M$316,13,0),\"N.A.\")","v":{"v":195369,"d":"195,369"}}]
["ALLIANZ VIDA",{"$f":"+IFERROR(VLOOKUP($A8&$F$3,BasePA_VID!$A$1:$J$316,4,0),\"N.A.\")","v":{"v":185582,"d":"185,582"}},{"$f":"+IFERROR(VLOOKUP($A8&$F$3,BasePA_VID!$A$1:$J$316,5,0),\"N.A.\")","v":{"v":6489,"d":"6,489"}},{"$f":"+IFERROR(VLOOKUP($A8&$F$3,BasePA_VID!$A$1:$J$316,6,0),\"N.A.\")","v":{"v":192071,"d":"192,071"}},{"$f":"+IFERROR(VLOOKUP($A8&$F$3,BasePA_VID!$A$1:$J$316,7,0),\"N.A.\")","v":{"v":324039.92,"d":"324,040"}},{"$f":"+IFERROR(VLOOKUP($A8&$F$3,BasePA_VID!$A$1:$J$316,8,0),\"N.A.\")","v":{"v":14316.46,"d":"14,316"}},{"$f":"+IFERROR(VLOOKUP($A8&$F$3,BasePA_VID!$A$1:$J$316,9,0),\"N.A.\")","v":{"v":309723,"d":"309,723"}},{"$f":"+IFERROR(VLOOKUP($A8&$F$3,BasePA_VID!$A$1:$M$316,10,0),\"N.A.\")","v":0},{"$f":"+IFERROR(VLOOKUP($A8&$F$3,BasePA_VID!$A$1:$M$316,11,0),\"N.A.\")","v":0},{"$f":"+IFERROR(VLOOKUP($A8&$F$3,BasePA_VID!$A$1:$M$316,12,0),\"N.A.\")","v":{"v":309723,"d":"309,723"}},{"$f":"+IFERROR(VLOOKUP($A8&$F$3,BasePA_VID!$A$1:$M$316,13,0),\"N.A.\")","v":{"v":117653,"d":"117,653"}}]
["ANDINA",{"$f":"+IFERROR(VLOOKUP($A9&$F$3,BasePA_VID!$A$1:$J$316,4,0),\"N.A.\")","v":{"v":41164,"d":"41,164"}},{"$f":"+IFERROR(VLOOKUP($A9&$F$3,BasePA_VID!$A$1:$J$316,5,0),\"N.A.\")","v":199},{"$f":"+IFERROR(VLOOKUP($A9&$F$3,BasePA_VID!$A$1:$J$316,6,0),\"N.A.\")","v":{"v":41363,"d":"41,363"}},{"$f":"+IFERROR(VLOOKUP($A9&$F$3,BasePA_VID!$A$1:$J$316,7,0),\"N.A.\")","v":{"v":63556.26,"d":"63,556"}},{"$f":"+IFERROR(VLOOKUP($A9&$F$3,BasePA_VID!$A$1:$J$316,8,0),\"N.A.\")","v":{"v":1025.6,"d":"1,026"}},{"$f":"+IFERROR(VLOOKUP($A9&$F$3,BasePA_VID!$A$1:$J$316,9,0),\"N.A.\")","v":{"v":62531,"d":"62,531"}},{"$f":"+IFERROR(VLOOKUP($A9&$F$3,BasePA_VID!$A$1:$M$316,10,0),\"N.A.\")","v":0},{"$f":"+IFERROR(VLOOKUP($A9&$F$3,BasePA_VID!$A$1:$M$316,11,0),\"N.A.\")","v":0},{"$f":"+IFERROR(VLOOKUP($A9&$F$3,BasePA_VID!$A$1:$M$316,12,0),\"N.A.\")","v":{"v":62531,"d":"62,531"}},{"$f":"+IFERROR(VLOOKUP($A9&$F$3,BasePA_VID!$A$1:$M$316,13,0),\"N.A.\")","v":{"v":21168,"d":"21,168"}}]
["ASULADO",{"$f":"+IFERROR(VLOOKUP($A10&$F$3,BasePA_VID!$A$1:$J$316,4,0),\"N.A.\")","v":{"v":961361,"d":"961,361"}},{"$f":"+IFERROR(VLOOKUP($A10&$F$3,BasePA_VID!$A$1:$J$316,5,0),\"N.A.\")","v":{"v":21335,"d":"21,335"}},{"$f":"+IFERROR(VLOOKUP($A10&$F$3,BasePA_VID!$A$1:$J$316,6,0),\"N.A.\")","v":{"v":982697,"d":"982,697"}},{"$f":"+IFERROR(VLOOKUP($A10&$F$3,BasePA_VID!$A$1:$J$316,7,0),\"N.A.\")","v":{"v":1212448.1,"d":"1,212,448"}},{"$f":"+IFERROR(VLOOKUP($A10&$F$3,BasePA_VID!$A$1:$J$316,8,0),\"N.A.\")","v":0},{"$f":"+IFERROR(VLOOKUP($A10&$F$3,BasePA_VID!$A$1:$J$316,9,0),\"N.A.\")","v":{"v":1212448,"d":"1,212,448"}},{"$f":"+IFERROR(VLOOKUP($A10&$F$3,BasePA_VID!$A$1:$M$316,10,0),\"N.A.\")","v":0},{"$f":"+IFERROR(VLOOKUP($A10&$F$3,BasePA_VID!$A$1:$M$316,11,0),\"N.A.\")","v":0},{"$f":"+IFERROR(VLOOKUP($A10&$F$3,BasePA_VID!$A$1:$M$316,12,0),\"N.A.\")","v":{"v":1212448,"d":"1,212,448"}},{"$f":"+IFERROR(VLOOKUP($A10&$F$3,BasePA_VID!$A$1:$M$316,13,0),\"N.A.\")","v":{"v":229751,"d":"229,751"}}]
["AURORA VIDA",{"$f":"+IFERROR(VLOOKUP($A11&$F$3,BasePA_VID!$A$1:$J$316,4,0),\"N.A.\")","v":{"v":3805,"d":"3,805"}},{"$f":"+IFERROR(VLOOKUP($A11&$F$3,BasePA_VID!$A$1:$J$316,5,0),\"N.A.\")","v":513},{"$f":"+IFERROR(VLOOKUP($A11&$F$3,BasePA_VID!$A$1:$J$316,6,0),\"N.A.\")","v":{"v":4318,"d":"4,318"}},{"$f":"+IFERROR(VLOOKUP($A11&$F$3,BasePA_VID!$A$1:$J$316,7,0),\"N.A.\")","v":{"v":33811.39,"d":"33,811"}},{"$f":"+IFERROR(VLOOKUP($A11&$F$3,BasePA_VID!$A$1:$J$316,8,0),\"N.A.\")","v":{"v":5592.03,"d":"5,592"}},{"$f":"+IFERROR(VLOOKUP($A11&$F$3,BasePA_VID!$A$1:$J$316,9,0),\"N.A.\")","v":{"v":28219,"d":"28,219"}},{"$f":"+IFERROR(VLOOKUP($A11&$F$3,BasePA_VID!$A$1:$M$316,10,0),\"N.A.\")","v":0},{"$f":"+IFERROR(VLOOKUP($A11&$F$3,BasePA_VID!$A$1:$M$316,11,0),\"N.A.\")","v":0},{"$f":"+IFERROR(VLOOKUP($A11&$F$3,BasePA_VID!$A$1:$M$316,12,0),\"N.A.\")","v":{"v":28219,"d":"28,219"}},{"$f":"+IFERROR(VLOOKUP($A11&$F$3,BasePA_VID!$A$1:$M$316,13,0),\"N.A.\")","v":{"v":23902,"d":"23,902"}}]
["AXA COLPATRIA VIDA",{"$f":"+IFERROR(VLOOKUP($A12&$F$3,BasePA_VID!$A$1:$J$316,4,0),\"N.A.\")","v":{"v":289355,"d":"289,355"}},{"$f":"+IFERROR(VLOOKUP($A12&$F$3,BasePA_VID!$A$1:$J$316,5,0),\"N.A.\")","v":{"v":32178,"d":"32,178"}},{"$f":"+IFERROR(VLOOKUP($A12&$F$3,BasePA_VID!$A$1:$J$316,6,0),\"N.A.\")","v":{"v":321533,"d":"321,533"}},{"$f":"+IFERROR(VLOOKUP($A12&$F$3,BasePA_VID!$A$1:$J$316,7,0),\"N.A.\")","v":{"v":895817.15,"d":"895,817"}},{"$f":"+IFERROR(VLOOKUP($A12&$F$3,BasePA_VID!$A$1:$J$316,8,0),\"N.A.\")","v":{"v":112039.73,"d":"112,040"}},{"$f":"+IFERROR(VLOOKUP($A12&$F$3,BasePA_VID!$A$1:$J$316,9,0),\"N.A.\")","v":{"v":783777,"d":"783,777"}},{"$f":"+IFERROR(VLOOKUP($A12&$F$3,BasePA_VID!$A$1:$M$316,10,0),\"N.A.\")","v":0},{"$f":"+IFERROR(VLOOKUP($A12&$F$3,BasePA_VID!$A$1:$M$316,11,0),\"N.A.\")","v":{"v":48230,"d":"48,230"}},{"$f":"+IFERROR(VLOOKUP($A12&$F$3,BasePA_VID!$A$1:$M$316,12,0),\"N.A.\")","v":{"v":832007,"d":"832,007"}},{"$f":"+IFERROR(VLOOKUP($A12&$F$3,BasePA_VID!$A$1:$M$316,13,0),\"N.A.\")","v":{"v":510474,"d":"510,474"}}]
["BBVA SEGUROS VIDA",{"$f":"+IFERROR(VLOOKUP($A13&$F$3,BasePA_VID!$A$1:$J$316,4,0),\"N.A.\")","v":{"v":151999,"d":"151,999"}},{"$f":"+IFERROR(VLOOKUP($A13&$F$3,BasePA_VID!$A$1:$J$316,5,0),\"N.A.\")","v":{"v":15479,"d":"15,479"}},{"$f":"+IFERROR(VLOOKUP($A13&$F$3,BasePA_VID!$A$1:$J$316,6,0),\"N.A.\")","v":{"v":167477,"d":"167,477"}},{"$f":"+IFERROR(VLOOKUP($A13&$F$3,BasePA_VID!$A$1:$J$316,7,0),\"N.A.\")","v":{"v":738614.77,"d":"738,615"}},{"$f":"+IFERROR(VLOOKUP($A13&$F$3,BasePA_VID!$A$1:$J$316,8,0),\"N.A.\")","v":{"v":12378.42,"d":"12,378"}},{"$f":"+IFERROR(VLOOKUP($A13&$F$3,BasePA_VID!$A$1:$J$316,9,0),\"N.A.\")","v":{"v":726236,"d":"726,236"}},{"$f":"+IFERROR(VLOOKUP($A13&$F$3,BasePA_VID!$A$1:$M$316,10,0),\"N.A.\")","v":0},{"$f":"+IFERROR(VLOOKUP($A13&$F$3,BasePA_VID!$A$1:$M$316,11,0),\"N.A.\")","v":{"v":1534,"d":"1,534"}},{"$f":"+IFERROR(VLOOKUP($A13&$F$3,BasePA_VID!$A$1:$M$316,12,0),\"N.A.\")","v":{"v":727771,"d":"727,771"}},{"$f":"+IFERROR(VLOOKUP($A13&$F$3,BasePA_VID!$A$1:$M$316,13,0),\"N.A.\")","v":{"v":560293,"d":"560,293"}}]
["BMI COLOMBIA",{"$f":"+IFERROR(VLOOKUP($A14&$F$3,BasePA_VID!$A$1:$J$316,4,0),\"N.A.\")","v":{"v":9189,"d":"9,189"}},{"$f":"+IFERROR(VLOOKUP($A14&$F$3,BasePA_VID!$A$1:$J$316,5,0),\"N.A.\")","v":262},{"$f":"+IFERROR(VLOOKUP($A14&$F$3,BasePA_VID!$A$1:$J$316,6,0),\"N.A.\")","v":{"v":9451,"d":"9,451"}},{"$f":"+IFERROR(VLOOKUP($A14&$F$3,BasePA_VID!$A$1:$J$316,7,0),\"N.A.\")","v":{"v":62213.86,"d":"62,214"}},{"$f":"+IFERROR(VLOOKUP($A14&$F$3,BasePA_VID!$A$1:$J$316,8,0),\"N.A.\")","v":{"v":36467.66,"d":"36,468"}},{"$f":"+IFERROR(VLOOKUP($A14&$F$3,BasePA_VID!$A$1:$J$316,9,0),\"N.A.\")","v":{"v":25746,"d":"25,746"}},{"$f":"+IFERROR(VLOOKUP($A14&$F$3,BasePA_VID!$A$1:$M$316,10,0),\"N.A.\")","v":0},{"$f":"+IFERROR(VLOOKUP($A14&$F$3,BasePA_VID!$A$1:$M$316,11,0),\"N.A.\")","v":{"v":1418,"d":"1,418"}},{"$f":"+IFERROR(VLOOKUP($A14&$F$3,BasePA_VID!$A$1:$M$316,12,0),\"N.A.\")","v":{"v":27164,"d":"27,164"}},{"$f":"+IFERROR(VLOOKUP($A14&$F$3,BasePA_VID!$A$1:$M$316,13,0),\"N.A.\")","v":{"v":17713,"d":"17,713"}}]
["BOLIVAR VIDA",{"$f":"+IFERROR(VLOOKUP($A15&$F$3,BasePA_VID!$A$1:$J$316,4,0),\"N.A.\")","v":{"v":775846,"d":"775,846"}},{"$f":"+IFERROR(VLOOKUP($A15&$F$3,BasePA_VID!$A$1:$J$316,5,0),\"N.A.\")","v":{"v":129396,"d":"129,396"}},{"$f":"+IFERROR(VLOOKUP($A15&$F$3,BasePA_VID!$A$1:$J$316,6,0),\"N.A.\")","v":{"v":905242,"d":"905,242"}},{"$f":"+IFERROR(VLOOKUP($A15&$F$3,BasePA_VID!$A$1:$J$316,7,0),\"N.A.\")","v":{"v":2895187.02,"d":"2,895,187"}},{"$f":"+IFERROR(VLOOKUP($A15&$F$3,BasePA_VID!$A$1:$J$316,8,0),\"N.A.\")","v":{"v":1709722.33,"d":"1,709,722"}},{"$f":"+IFERROR(VLOOKUP($A15&$F$3,BasePA_VID!$A$1:$J$316,9,0),\"N.A.\")","v":{"v":1185465,"d":"1,185,465"}},{"$f":"+IFERROR(VLOOKUP($A15&$F$3,BasePA_VID!$A$1:$M$316,10,0),\"N.A.\")","v":0},{"$f":"+IFERROR(VLOOKUP($A15&$F$3,BasePA_VID!$A$1:$M$316,11,0),\"N.A.\")","v":0},{"$f":"+IFERROR(VLOOKUP($A15&$F$3,BasePA_VID!$A$1:$M$316,12,0),\"N.A.\")","v":{"v":1185465,"d":"1,185,465"}},{"$f":"+IFERROR(VLOOKUP($A15&$F$3,BasePA_VID!$A$1:$M$316,13,0),\"N.A.\")","v":{"v":280223,"d":"280,223"}}]
["COLMENA ARL",{"$f":"+IFERROR(VLOOKUP($A16&$F$3,BasePA_VID!$A$1:$J$316,4,0),\"N.A.\")","v":{"v":155143,"d":"155,143"}},{"$f":"+IFERROR(VLOOKUP($A16&$F$3,BasePA_VID!$A$1:$J$316,5,0),\"N.A.\")","v":{"v":19445,"d":"19,445"}},{"$f":"+IFERROR(VLOOKUP($A16&$F$3,BasePA_VID!$A$1:$J$316,6,0),\"N.A.\")","v":{"v":174588,"d":"174,588"}},{"$f":"+IFERROR(VLOOKUP($A16&$F$3,BasePA_VID!$A$1:$J$316,7,0),\"N.A.\")","v":{"v":328797.51,"d":"328,798"}},{"$f":"+IFERROR(VLOOKUP($A16&$F$3,BasePA_VID!$A$1:$J$316,8,0),\"N.A.\")","v":{"v":23389.27,"d":"23,389"}},{"$f":"+IFERROR(VLOOKUP($A16&$F$3,BasePA_VID!$A$1:$J$316,9,0),\"N.A.\")","v":{"v":305408,"d":"305,408"}},{"$f":"+IFERROR(VLOOKUP($A16&$F$3,BasePA_VID!$A$1:$M$316,10,0),\"N.A.\")","v":0},{"$f":"+IFERROR(VLOOKUP($A16&$F$3,BasePA_VID!$A$1:$M$316,11,0),\"N.A.\")","v":0},{"$f":"+IFERROR(VLOOKUP($A16&$F$3,BasePA_VID!$A$1:$M$316,12,0),\"N.A.\")","v":{"v":305408,"d":"305,408"}},{"$f":"+IFERROR(VLOOKUP($A16&$F$3,BasePA_VID!$A$1:$M$316,13,0),\"N.A.\")","v":{"v":130820,"d":"130,820"}}]
["COLMENA VIDA",{"$f":"+IFERROR(VLOOKUP($A17&$F$3,BasePA_VID!$A$1:$J$316,4,0),\"N.A.\")","v":{"v":26679,"d":"26,679"}},{"$f":"+IFERROR(VLOOKUP($A17&$F$3,BasePA_VID!$A$1:$J$316,5,0),\"N.A.\")","v":{"v":7351,"d":"7,351"}},{"$f":"+IFERROR(VLOOKUP($A17&$F$3,BasePA_VID!$A$1:$J$316,6,0),\"N.A.\")","v":{"v":34030,"d":"34,030"}},{"$f":"+IFERROR(VLOOKUP($A17&$F$3,BasePA_VID!$A$1:$J$316,7,0),\"N.A.\")","v":{"v":166298.26,"d":"166,298"}},{"$f":"+IFERROR(VLOOKUP($A17&$F$3,BasePA_VID!$A$1:$J$316,8,0),\"N.A.\")","v":{"v":32553.35,"d":"32,553"}},{"$f":"+IFERROR(VLOOKUP($A17&$F$3,BasePA_VID!$A$1:$J$316,9,0),\"N.A.\")","v":{"v":133745,"d":"133,745"}},{"$f":"+IFERROR(VLOOKUP($A17&$F$3,BasePA_VID!$A$1:$M$316,10,0),\"N.A.\")","v":0},{"$f":"+IFERROR(VLOOKUP($A17&$F$3,BasePA_VID!$A$1:$M$316,11,0),\"N.A.\")","v":{"v":2040,"d":"2,040"}},{"$f":"+IFERROR(VLOOKUP($A17&$F$3,BasePA_VID!$A$1:$M$316,12,0),\"N.A.\")","v":{"v":135785,"d":"135,785"}},{"$f":"+IFERROR(VLOOKUP($A17&$F$3,BasePA_VID!$A$1:$M$316,13,0),\"N.A.\")","v":{"v":101754,"d":"101,754"}}]
["COLSANITAS",{"$f":"+IFERROR(VLOOKUP($A18&$F$3,BasePA_VID!$A$1:$J$316,4,0),\"N.A.\")","v":{"v":18632,"d":"18,632"}},{"$f":"+IFERROR(VLOOKUP($A18&$F$3,BasePA_VID!$A$1:$J$316,5,0),\"N.A.\")","v":{"v":4027,"d":"4,027"}},{"$f":"+IFERROR(VLOOKUP($A18&$F$3,BasePA_VID!$A$1:$J$316,6,0),\"N.A.\")","v":{"v":22659,"d":"22,659"}},{"$f":"+IFERROR(VLOOKUP($A18&$F$3,BasePA_VID!$A$1:$J$316,7,0),\"N.A.\")","v":{"v":67683.6,"d":"67,684"}},{"$f":"+IFERROR(VLOOKUP($A18&$F$3,BasePA_VID!$A$1:$J$316,8,0),\"N.A.\")","v":{"v":35642.05,"d":"35,642"}},{"$f":"+IFERROR(VLOOKUP($A18&$F$3,BasePA_VID!$A$1:$J$316,9,0),\"N.A.\")","v":{"v":32042,"d":"32,042"}},{"$f":"+IFERROR(VLOOKUP($A18&$F$3,BasePA_VID!$A$1:$M$316,10,0),\"N.A.\")","v":0},{"$f":"+IFERROR(VLOOKUP($A18&$F$3,BasePA_VID!$A$1:$M$316,11,0),\"N.A.\")","v":0},{"$f":"+IFERROR(VLOOKUP($A18&$F$3,BasePA_VID!$A$1:$M$316,12,0),\"N.A.\")","v":{"v":32042,"d":"32,042"}},{"$f":"+IFERROR(VLOOKUP($A18&$F$3,BasePA_VID!$A$1:$M$316,13,0),\"N.A.\")","v":{"v":9383,"d":"9,383"}}]
["EQUIDAD VIDA",{"$f":"+IFERROR(VLOOKUP($A19&$F$3,BasePA_VID!$A$1:$J$316,4,0),\"N.A.\")","v":{"v":46573,"d":"46,573"}},{"$f":"+IFERROR(VLOOKUP($A19&$F$3,BasePA_VID!$A$1:$J$316,5,0),\"N.A.\")","v":{"v":5869,"d":"5,869"}},{"$f":"+IFERROR(VLOOKUP($A19&$F$3,BasePA_VID!$A$1:$J$316,6,0),\"N.A.\")","v":{"v":52442,"d":"52,442"}},{"$f":"+IFERROR(VLOOKUP($A19&$F$3,BasePA_VID!$A$1:$J$316,7,0),\"N.A.\")","v":{"v":71531.73,"d":"71,532"}},{"$f":"+IFERROR(VLOOKUP($A19&$F$3,BasePA_VID!$A$1:$J$316,8,0),\"N.A.\")","v":{"v":2292.67,"d":"2,293"}},{"$f":"+IFERROR(VLOOKUP($A19&$F$3,BasePA_VID!$A$1:$J$316,9,0),\"N.A.\")","v":{"v":69239,"d":"69,239"}},{"$f":"+IFERROR(VLOOKUP($A19&$F$3,BasePA_VID!$A$1:$M$316,10,0),\"N.A.\")","v":0},{"$f":"+IFERROR(VLOOKUP($A19&$F$3,BasePA_VID!$A$1:$M$316,11,0),\"N.A.\")","v":0},{"$f":"+IFERROR(VLOOKUP($A19&$F$3,BasePA_VID!$A$1:$M$316,12,0),\"N.A.\")","v":{"v":69239,"d":"69,239"}},{"$f":"+IFERROR(VLOOKUP($A19&$F$3,BasePA_VID!$A$1:$M$316,13,0),\"N.A.\")","v":{"v":16797,"d":"16,797"}}]
["ESTADO VIDA",{"$f":"+IFERROR(VLOOKUP($A20&$F$3,BasePA_VID!$A$1:$J$316,4,0),\"N.A.\")","v":{"v":27908,"d":"27,908"}},{"$f":"+IFERROR(VLOOKUP($A20&$F$3,BasePA_VID!$A$1:$J$316,5,0),\"N.A.\")","v":{"v":3796,"d":"3,796"}},{"$f":"+IFERROR(VLOOKUP($A20&$F$3,BasePA_VID!$A$1:$J$316,6,0),\"N.A.\")","v":{"v":31704,"d":"31,704"}},{"$f":"+IFERROR(VLOOKUP($A20&$F$3,BasePA_VID!$A$1:$J$316,7,0),\"N.A.\")","v":{"v":47382.55,"d":"47,383"}},{"$f":"+IFERROR(VLOOKUP($A20&$F$3,BasePA_VID!$A$1:$J$316,8,0),\"N.A.\")","v":{"v":6242.05,"d":"6,242"}},{"$f":"+IFERROR(VLOOKUP($A20&$F$3,BasePA_VID!$A$1:$J$316,9,0),\"N.A.\")","v":{"v":41140,"d":"41,140"}},{"$f":"+IFERROR(VLOOKUP($A20&$F$3,BasePA_VID!$A$1:$M$316,10,0),\"N.A.\")","v":0},{"$f":"+IFERROR(VLOOKUP($A20&$F$3,BasePA_VID!$A$1:$M$316,11,0),\"N.A.\")","v":{"v":1704,"d":"1,704"}},{"$f":"+IFERROR(VLOOKUP($A20&$F$3,BasePA_VID!$A$1:$M$316,12,0),\"N.A.\")","v":{"v":42844,"d":"42,844"}},{"$f":"+IFERROR(VLOOKUP($A20&$F$3,BasePA_VID!$A$1:$M$316,13,0),\"N.A.\")","v":{"v":11140,"d":"11,140"}}]
["GLOBAL",{"$f":"+IFERROR(VLOOKUP($A21&$F$3,BasePA_VID!$A$1:$J$316,4,0),\"N.A.\")","v":{"v":236817,"d":"236,817"}},{"$f":"+IFERROR(VLOOKUP($A21&$F$3,BasePA_VID!$A$1:$J$316,5,0),\"N.A.\")","v":{"v":90039,"d":"90,039"}},{"$f":"+IFERROR(VLOOKUP($A21&$F$3,BasePA_VID!$A$1:$J$316,6,0),\"N.A.\")","v":{"v":326855,"d":"326,855"}},{"$f":"+IFERROR(VLOOKUP($A21&$F$3,BasePA_VID!$A$1:$J$316,7,0),\"N.A.\")","v":{"v":334825.14,"d":"334,825"}},{"$f":"+IFERROR(VLOOKUP($A21&$F$3,BasePA_VID!$A$1:$J$316,8,0),\"N.A.\")","v":{"v":13936.15,"d":"13,936"}},{"$f":"+IFERROR(VLOOKUP($A21&$F$3,BasePA_VID!$A$1:$J$316,9,0),\"N.A.\")","v":{"v":320889,"d":"320,889"}},{"$f":"+IFERROR(VLOOKUP($A21&$F$3,BasePA_VID!$A$1:$M$316,10,0),\"N.A.\")","v":0},{"$f":"+IFERROR(VLOOKUP($A21&$F$3,BasePA_VID!$A$1:$M$316,11,0),\"N.A.\")","v":{"v":11908,"d":"11,908"}},{"$f":"+IFERROR(VLOOKUP($A21&$F$3,BasePA_VID!$A$1:$M$316,12,0),\"N.A.\")","v":{"v":332797,"d":"332,797"}},{"$f":"+IFERROR(VLOOKUP($A21&$F$3,BasePA_VID!$A$1:$M$316,13,0),\"N.A.\")","v":{"v":5941,"d":"5,941"}}]
["MAPFRE VIDA",{"$f":"+IFERROR(VLOOKUP($A22&$F$3,BasePA_VID!$A$1:$J$316,4,0),\"N.A.\")","v":{"v":241232,"d":"241,232"}},{"$f":"+IFERROR(VLOOKUP($A22&$F$3,BasePA_VID!$A$1:$J$316,5,0),\"N.A.\")","v":{"v":24614,"d":"24,614"}},{"$f":"+IFERROR(VLOOKUP($A22&$F$3,BasePA_VID!$A$1:$J$316,6,0),\"N.A.\")","v":{"v":265846,"d":"265,846"}},{"$f":"+IFERROR(VLOOKUP($A22&$F$3,BasePA_VID!$A$1:$J$316,7,0),\"N.A.\")","v":{"v":408751.63,"d":"408,752"}},{"$f":"+IFERROR(VLOOKUP($A22&$F$3,BasePA_VID!$A$1:$J$316,8,0),\"N.A.\")","v":{"v":107464.65,"d":"107,465"}},{"$f":"+IFERROR(VLOOKUP($A22&$F$3,BasePA_VID!$A$1:$J$316,9,0),\"N.A.\")","v":{"v":301287,"d":"301,287"}},{"$f":"+IFERROR(VLOOKUP($A22&$F$3,BasePA_VID!$A$1:$M$316,10,0),\"N.A.\")","v":0},{"$f":"+IFERROR(VLOOKUP($A22&$F$3,BasePA_VID!$A$1:$M$316,11,0),\"N.A.\")","v":0},{"$f":"+IFERROR(VLOOKUP($A22&$F$3,BasePA_VID!$A$1:$M$316,12,0),\"N.A.\")","v":{"v":301287,"d":"301,287"}},{"$f":"+IFERROR(VLOOKUP($A22&$F$3,BasePA_VID!$A$1:$M$316,13,0),\"N.A.\")","v":{"v":35441,"d":"35,441"}}]
["METLIFE",{"$f":"+IFERROR(VLOOKUP($A23&$F$3,BasePA_VID!$A$1:$J$316,4,0),\"N.A.\")","v":{"v":131766,"d":"131,766"}},{"$f":"+IFERROR(VLOOKUP($A23&$F$3,BasePA_VID!$A$1:$J$316,5,0),\"N.A.\")","v":{"v":12029,"d":"12,029"}},{"$f":"+IFERROR(VLOOKUP($A23&$F$3,BasePA_VID!$A$1:$J$316,6,0),\"N.A.\")","v":{"v":143795,"d":"143,795"}},{"$f":"+IFERROR(VLOOKUP($A23&$F$3,BasePA_VID!$A$1:$J$316,7,0),\"N.A.\")","v":{"v":429796.88,"d":"429,797"}},{"$f":"+IFERROR(VLOOKUP($A23&$F$3,BasePA_VID!$A$1:$J$316,8,0),\"N.A.\")","v":{"v":19846.6,"d":"19,847"}},{"$f":"+IFERROR(VLOOKUP($A23&$F$3,BasePA_VID!$A$1:$J$316,9,0),\"N.A.\")","v":{"v":409950,"d":"409,950"}},{"$f":"+IFERROR(VLOOKUP($A23&$F$3,BasePA_VID!$A$1:$M$316,10,0),\"N.A.\")","v":0},{"$f":"+IFERROR(VLOOKUP($A23&$F$3,BasePA_VID!$A$1:$M$316,11,0),\"N.A.\")","v":{"v":5593,"d":"5,593"}},{"$f":"+IFERROR(VLOOKUP($A23&$F$3,BasePA_VID!$A$1:$M$316,12,0),\"N.A.\")","v":{"v":415543,"d":"415,543"}},{"$f":"+IFERROR(VLOOKUP($A23&$F$3,BasePA_VID!$A$1:$M$316,13,0),\"N.A.\")","v":{"v":271748,"d":"271,748"}}]
["PANAMERICAN VIDA",{"$f":"+IFERROR(VLOOKUP($A24&$F$3,BasePA_VID!$A$1:$J$316,4,0),\"N.A.\")","v":{"v":50168,"d":"50,168"}},{"$f":"+IFERROR(VLOOKUP($A24&$F$3,BasePA_VID!$A$1:$J$316,5,0),\"N.A.\")","v":{"v":8142,"d":"8,142"}},{"$f":"+IFERROR(VLOOKUP($A24&$F$3,BasePA_VID!$A$1:$J$316,6,0),\"N.A.\")","v":{"v":58310,"d":"58,310"}},{"$f":"+IFERROR(VLOOKUP($A24&$F$3,BasePA_VID!$A$1:$J$316,7,0),\"N.A.\")","v":{"v":91505.93,"d":"91,506"}},{"$f":"+IFERROR(VLOOKUP($A24&$F$3,BasePA_VID!$A$1:$J$316,8,0),\"N.A.\")","v":{"v":21501.38,"d":"21,501"}},{"$f":"+IFERROR(VLOOKUP($A24&$F$3,BasePA_VID!$A$1:$J$316,9,0),\"N.A.\")","v":{"v":70005,"d":"70,005"}},{"$f":"+IFERROR(VLOOKUP($A24&$F$3,BasePA_VID!$A$1:$M$316,10,0),\"N.A.\")","v":0},{"$f":"+IFERROR(VLOOKUP($A24&$F$3,BasePA_VID!$A$1:$M$316,11,0),\"N.A.\")","v":{"v":2403,"d":"2,403"}},{"$f":"+IFERROR(VLOOKUP($A24&$F$3,BasePA_VID!$A$1:$M$316,12,0),\"N.A.\")","v":{"v":72408,"d":"72,408"}},{"$f":"+IFERROR(VLOOKUP($A24&$F$3,BasePA_VID!$A$1:$M$316,13,0),\"N.A.\")","v":{"v":14098,"d":"14,098"}}]
["POSITIVA",{"$f":"+IFERROR(VLOOKUP($A25&$F$3,BasePA_VID!$A$1:$J$316,4,0),\"N.A.\")","v":{"v":536319,"d":"536,319"}},{"$f":"+IFERROR(VLOOKUP($A25&$F$3,BasePA_VID!$A$1:$J$316,5,0),\"N.A.\")","v":{"v":75037,"d":"75,037"}},{"$f":"+IFERROR(VLOOKUP($A25&$F$3,BasePA_VID!$A$1:$J$316,6,0),\"N.A.\")","v":{"v":611355,"d":"611,355"}},{"$f":"+IFERROR(VLOOKUP($A25&$F$3,BasePA_VID!$A$1:$J$316,7,0),\"N.A.\")","v":{"v":1370862.04,"d":"1,370,862"}},{"$f":"+IFERROR(VLOOKUP($A25&$F$3,BasePA_VID!$A$1:$J$316,8,0),\"N.A.\")","v":{"v":442607.06,"d":"442,607"}},{"$f":"+IFERROR(VLOOKUP($A25&$F$3,BasePA_VID!$A$1:$J$316,9,0),\"N.A.\")","v":{"v":928255,"d":"928,255"}},{"$f":"+IFERROR(VLOOKUP($A25&$F$3,BasePA_VID!$A$1:$M$316,10,0),\"N.A.\")","v":0},{"$f":"+IFERROR(VLOOKUP($A25&$F$3,BasePA_VID!$A$1:$M$316,11,0),\"N.A.\")","v":0},{"$f":"+IFERROR(VLOOKUP($A25&$F$3,BasePA_VID!$A$1:$M$316,12,0),\"N.A.\")","v":{"v":928255,"d":"928,255"}},{"$f":"+IFERROR(VLOOKUP($A25&$F$3,BasePA_VID!$A$1:$M$316,13,0),\"N.A.\")","v":{"v":316899,"d":"316,899"}}]
["SKANDIA",{"$f":"+IFERROR(VLOOKUP($A26&$F$3,BasePA_VID!$A$1:$J$316,4,0),\"N.A.\")","v":{"v":69822,"d":"69,822"}},{"$f":"+IFERROR(VLOOKUP($A26&$F$3,BasePA_VID!$A$1:$J$316,5,0),\"N.A.\")","v":{"v":12056,"d":"12,056"}},{"$f":"+IFERROR(VLOOKUP($A26&$F$3,BasePA_VID!$A$1:$J$316,6,0),\"N.A.\")","v":{"v":81878,"d":"81,878"}},{"$f":"+IFERROR(VLOOKUP($A26&$F$3,BasePA_VID!$A$1:$J$316,7,0),\"N.A.\")","v":{"v":235790.82,"d":"235,791"}},{"$f":"+IFERROR(VLOOKUP($A26&$F$3,BasePA_VID!$A$1:$J$316,8,0),\"N.A.\")","v":{"v":117558.41,"d":"117,558"}},{"$f":"+IFERROR(VLOOKUP($A26&$F$3,BasePA_VID!$A$1:$J$316,9,0),\"N.A.\")","v":{"v":118232,"d":"118,232"}},{"$f":"+IFERROR(VLOOKUP($A26&$F$3,BasePA_VID!$A$1:$M$316,10,0),\"N.A.\")","v":0},{"$f":"+IFERROR(VLOOKUP($A26&$F$3,BasePA_VID!$A$1:$M$316,11,0),\"N.A.\")","v":0},{"$f":"+IFERROR(VLOOKUP($A26&$F$3,BasePA_VID!$A$1:$M$316,12,0),\"N.A.\")","v":{"v":118232,"d":"118,232"}},{"$f":"+IFERROR(VLOOKUP($A26&$F$3,BasePA_VID!$A$1:$M$316,13,0),\"N.A.\")","v":{"v":36355,"d":"36,355"}}]
["SURAMERICANA VIDA",{"$f":"+IFERROR(VLOOKUP($A27&$F$3,BasePA_VID!$A$1:$J$316,4,0),\"N.A.\")","v":{"v":1568464,"d":"1,568,464"}},{"$f":"+IFERROR(VLOOKUP($A27&$F$3,BasePA_VID!$A$1:$J$316,5,0),\"N.A.\")","v":{"v":203166,"d":"203,166"}},{"$f":"+IFERROR(VLOOKUP($A27&$F$3,BasePA_VID!$A$1:$J$316,6,0),\"N.A.\")","v":{"v":1771629,"d":"1,771,629"}},{"$f":"+IFERROR(VLOOKUP($A27&$F$3,BasePA_VID!$A$1:$J$316,7,0),\"N.A.\")","v":{"v":3016716.73,"d":"3,016,717"}},{"$f":"+IFERROR(VLOOKUP($A27&$F$3,BasePA_VID!$A$1:$J$316,8,0),\"N.A.\")","v":{"v":284957.83,"d":"284,958"}},{"$f":"+IFERROR(VLOOKUP($A27&$F$3,BasePA_VID!$A$1:$J$316,9,0),\"N.A.\")","v":{"v":2731759,"d":"2,731,759"}},{"$f":"+IFERROR(VLOOKUP($A27&$F$3,BasePA_VID!$A$1:$M$316,10,0),\"N.A.\")","v":0},{"$f":"+IFERROR(VLOOKUP($A27&$F$3,BasePA_VID!$A$1:$M$316,11,0),\"N.A.\")","v":{"v":5272,"d":"5,272"}},{"$f":"+IFERROR(VLOOKUP($A27&$F$3,BasePA_VID!$A$1:$M$316,12,0),\"N.A.\")","v":{"v":2737031,"d":"2,737,031"}},{"$f":"+IFERROR(VLOOKUP($A27&$F$3,BasePA_VID!$A$1:$M$316,13,0),\"N.A.\")","v":{"v":965402,"d":"965,402"}}]

{"sheet":"BaseRS_GEN","index":6,"n_rows":83,"n_cols":5,"rows_kept":83,"hidden":true}
[{"$nulls":3},"DEMÁS RAMOS"]
[{"$nulls":3},"Riesgo en función de primas","Riesgo en función de siniestros"]
[{"$f":"+B3&C3","v":"ALFA45777"},"ALFA","2025-04-30",{"v":34211.74,"d":"34,211.74"},{"v":7936.69,"d":"7,936.69"}]
[{"$f":"+B4&C4","v":"ALFA45808"},"ALFA","2025-05-31",{"v":34443.08,"d":"34,443.08"},{"v":7765.34,"d":"7,765.34"}]
["ALFA45838","ALFA","2025-06-30",{"v":32583.23,"d":"32,583.23"},{"v":7871.82,"d":"7,871.82"}]
["ALLIANZ45777","ALLIANZ","2025-04-30",{"v":184408.33,"d":"184,408.33"},{"v":113465.63,"d":"113,465.63"}]
["ALLIANZ45808","ALLIANZ","2025-05-31",{"v":182548.72,"d":"182,548.72"},{"v":113649.56,"d":"113,649.56"}]
["ALLIANZ45838","ALLIANZ","2025-06-30",{"v":183751.36,"d":"183,751.36"},{"v":112867.19,"d":"112,867.19"}]
["AXA COLPATRIA45777","AXA COLPATRIA","2025-04-30",{"v":331116.53,"d":"331,116.53"},{"v":193719.12,"d":"193,719.12"}]
["AXA COLPATRIA45808","AXA COLPATRIA","2025-05-31",{"v":320794.9,"d":"320,794.90"},{"v":195134.75,"d":"195,134.75"}]
["AXA COLPATRIA45838","AXA COLPATRIA","2025-06-30",{"v":320785.3,"d":"320,785.30"},{"v":197163.75,"d":"197,163.75"}]
["BBVA SEGUROS45777","BBVA SEGUROS","2025-04-30",{"v":29016.18,"d":"29,016.18"},{"v":13336.52,"d":"13,336.52"}]
["BBVA SEGUROS45808","BBVA SEGUROS","2025-05-31",{"v":29167.04,"d":"29,167.04"},{"v":13800.96,"d":"13,800.96"}]
["BBVA SEGUROS45838","BBVA SEGUROS","2025-06-30",{"v":28507.16,"d":"28,507.16"},{"v":14318.41,"d":"14,318.41"}]
["BERKLEY45777","BERKLEY","2025-04-30",{"v":13977.7,"d":"13,977.70"},{"v":2300.55,"d":"2,300.55"}]
["BERKLEY45808","BERKLEY","2025-05-31",{"v":14169.43,"d":"14,169.43"},{"v":2382.7,"d":"2,382.70"}]
["BERKLEY45838","BERKLEY","2025-06-30",{"v":14350.83,"d":"14,350.83"},{"v":2402.15,"d":"2,402.15"}]
["BOLIVAR45777","BOLIVAR","2025-04-30",{"v":229622.88,"d":"229,622.88"},{"v":177125.54,"d":"177,125.54"}]
["BOLIVAR45808","BOLIVAR","2025-05-31",{"v":231260.05,"d":"231,260.05"},{"v":178224.96,"d":"178,224.96"}]
["BOLIVAR45838","BOLIVAR","2025-06-30",{"v":229080.93,"d":"229,080.93"},{"v":178547.61,"d":"178,547.61"}]
["CARDIF45777","CARDIF","2025-04-30",{"v":225443.89,"d":"225,443.89"},{"v":79619.53,"d":"79,619.53"}]
["CARDIF45808","CARDIF","2025-05-31",{"v":225657.75,"d":"225,657.75"},{"v":79965.84,"d":"79,965.84"}]
["CARDIF45838","CARDIF","2025-06-30",{"v":224953.76,"d":"224,953.76"},{"v":79365.52,"d":"79,365.52"}]
["CHUBB45777","CHUBB","2025-04-30",{"v":81130.26,"d":"81,130.26"},{"v":32455.15,"d":"32,455.15"}]
["CHUBB45808","CHUBB","2025-05-31",{"v":78882.58,"d":"78,882.58"},{"v":31173.64,"d":"31,173.64"}]
["CHUBB45838","CHUBB","2025-06-30",{"v":76915.31,"d":"76,915.31"},{"v":30079.69,"d":"30,079.69"}]
["COFACE45777","COFACE","2025-04-30",{"v":2050.74,"d":"2,050.74"},{"v":2541.37,"d":"2,541.37"}]
["COFACE45808","COFACE","2025-05-31",{"v":2009.36,"d":"2,009.36"},{"v":2540.25,"d":"2,540.25"}]
["COFACE45838","COFACE","2025-06-30",{"v":2013.73,"d":"2,013.73"},{"v":2539.9,"d":"2,539.90"}]
["COLMENA45777","COLMENA","2025-04-30",{"v":7803.39,"d":"7,803.39"},846.73]
["COLMENA45808","COLMENA","2025-05-31",{"v":8062.59,"d":"8,062.59"},957.38]
["COLMENA45838","COLMENA","2025-06-30",{"v":8142.1,"d":"8,142.10"},996.86]
["CONFIANZA45777","CONFIANZA","2025-04-30",{"v":20304.28,"d":"20,304.28"},{"v":10417.66,"d":"10,417.66"}]
["CONFIANZA45808","CONFIANZA","2025-05-31",{"v":20352.59,"d":"20,352.59"},{"v":10575.39,"d":"10,575.39"}]
["CONFIANZA45838","CONFIANZA","2025-06-30",{"v":20626.72,"d":"20,626.72"},{"v":10646.79,"d":"10,646.79"}]
["EQUIDAD45777","EQUIDAD","2025-04-30",{"v":52995.29,"d":"52,995.29"},{"v":55609.13,"d":"55,609.13"}]
["EQUIDAD45808","EQUIDAD","2025-05-31",{"v":52273.44,"d":"52,273.44"},{"v":54805.89,"d":"54,805.89"}]
["EQUIDAD45838","EQUIDAD","2025-06-30",{"v":50639.62,"d":"50,639.62"},{"v":53995.48,"d":"53,995.48"}]
["ESTADO45777","ESTADO","2025-04-30",{"v":179680.76,"d":"179,680.76"},{"v":162615.28,"d":"162,615.28"}]
["ESTADO45808","ESTADO","2025-05-31",{"v":178594.96,"d":"178,594.96"},{"v":157192.97,"d":"157,192.97"}]
["ESTADO45838","ESTADO","2025-06-30",{"v":179327.7,"d":"179,327.70"},{"v":160435.6,"d":"160,435.60"}]
["EVEREST45777","EVEREST","2025-04-30",{"v":844.3,"d":"844.30"},4.25]
["EVEREST45808","EVEREST","2025-05-31",{"v":1198.13,"d":"1,198.13"},7.76]
["EVEREST45838","EVEREST","2025-06-30",{"v":1481.03,"d":"1,481.03"},27.35]
["JMALUCELLI TRAVELERS45777","JMALUCELLI TRAVELERS","2025-04-30",{"v":3611.76,"d":"3,611.76"},672.53]
["JMALUCELLI TRAVELERS45808","JMALUCELLI TRAVELERS","2025-05-31",{"v":3455.54,"d":"3,455.54"},674.91]
["JMALUCELLI TRAVELERS45838","JMALUCELLI TRAVELERS","2025-06-30",{"v":3636.1,"d":"3,636.10"},664.27]
["HDI SEGUROS45777","HDI SEGUROS","2025-04-30",{"v":204502.21,"d":"204,502.21"},{"v":158313.85,"d":"158,313.85"}]
["HDI SEGUROS45808","HDI SEGUROS","2025-05-31",{"v":204070.82,"d":"204,070.82"},{"v":157746.74,"d":"157,746.74"}]
["HDI SEGUROS45838","HDI SEGUROS","2025-06-30",{"v":206355.34,"d":"206,355.34"},{"v":157223.26,"d":"157,223.26"}]
["MAPFRE45777","MAPFRE","2025-04-30",{"v":166314.51,"d":"166,314.51"},{"v":121396.38,"d":"121,396.38"}]
["MAPFRE45808","MAPFRE","2025-05-31",{"v":203855.13,"d":"203,855.13"},{"v":147600.87,"d":"147,600.87"}]
["MAPFRE45838","MAPFRE","2025-06-30",{"v":199741.65,"d":"199,741.65"},{"v":146039.89,"d":"146,039.89"}]
["MUNDIAL45777","MUNDIAL","2025-04-30",{"v":160067.68,"d":"160,067.68"},{"v":97814.82,"d":"97,814.82"}]
["MUNDIAL45808","MUNDIAL","2025-05-31",{"v":160647.09,"d":"160,647.09"},{"v":98392.12,"d":"98,392.12"}]
["MUNDIAL45838","MUNDIAL","2025-06-30",{"v":162876.74,"d":"162,876.74"},{"v":99253.68,"d":"99,253.68"}]
["NACIONAL45777","NACIONAL","2025-04-30",{"v":14430.46,"d":"14,430.46"},{"v":5535.34,"d":"5,535.34"}]
["NACIONAL45808","NACIONAL","2025-05-31",{"v":14409.22,"d":"14,409.22"},{"v":5631.87,"d":"5,631.87"}]
["NACIONAL45838","NACIONAL","2025-06-30",{"v":14724.27,"d":"14,724.27"},{"v":6048.74,"d":"6,048.74"}]
["PREVISORA45777","PREVISORA","2025-04-30",{"v":420298.22,"d":"420,298.22"},{"v":217762.07,"d":"217,762.07"}]
["PREVISORA45808","PREVISORA","2025-05-31",{"v":424070.19,"d":"424,070.19"},{"v":226635.85,"d":"226,635.85"}]
["PREVISORA45838","PREVISORA","2025-06-30",{"v":412888.35,"d":"412,888.35"},{"v":224321.54,"d":"224,321.54"}]
["QUALITAS45777","QUALITAS","2025-04-30",128.86,2.03]
["QUALITAS45808","QUALITAS","2025-05-31",234.48,3.38]
["QUALITAS45838","QUALITAS","2025-06-30",359.81,15.22]
["SBS SEGUROS45777","SBS SEGUROS","2025-04-30",{"v":123086.29,"d":"123,086.29"},{"v":55471.13,"d":"55,471.13"}]
["SBS SEGUROS45808","SBS SEGUROS","2025-05-31",{"v":125719.39,"d":"125,719.39"},{"v":55502.93,"d":"55,502.93"}]
["SBS SEGUROS45838","SBS SEGUROS","2025-06-30",{"v":127198.76,"d":"127,198.76"},{"v":55125.23,"d":"55,125.23"}]
["SEGUREXPO45777","SEGUREXPO","2025-04-30",{"v":6132.28,"d":"6,132.28"},{"v":6728.47,"d":"6,728.47"}]
["SEGUREXPO45808","SEGUREXPO","2025-05-31",{"v":6144.71,"d":"6,144.71"},{"v":6870.4,"d":"6,870.40"}]
[{"$f":"+B71&C71","v":"SEGUREXPO45838"},"SEGUREXPO","2025-06-30",{"v":6225.17,"d":"6,225.17"},{"v":6912.5,"d":"6,912.50"}]
["SOLIDARIA45777","SOLIDARIA","2025-04-30",{"v":84538.82,"d":"84,538.82"},{"v":42834.07,"d":"42,834.07"}]
["SOLIDARIA45808","SOLIDARIA","2025-05-31",{"v":83492.98,"d":"83,492.98"},{"v":42555.86,"d":"42,555.86"}]
["SOLIDARIA45838","SOLIDARIA","2025-06-30",{"v":83081.37,"d":"83,081.37"},{"v":42467.71,"d":"42,467.71"}]
["SOLUNION45777","SOLUNION","2025-04-30",{"v":9606.98,"d":"9,606.98"},{"v":9725.48,"d":"9,725.48"}]
["SOLUNION45808","SOLUNION","2025-05-31",{"v":9647.05,"d":"9,647.05"},{"v":9876.94,"d":"9,876.94"}]
["SOLUNION45838","SOLUNION","2025-06-30",{"v":9843.71,"d":"9,843.71"},{"v":10138.48,"d":"10,138.48"}]
["SURAMERICANA45777","SURAMERICANA","2025-04-30",{"v":400759.03,"d":"400,759.03"},{"v":301560.69,"d":"301,560.69"}]
["SURAMERICANA45808","SURAMERICANA","2025-05-31",{"v":397440.44,"d":"397,440.44"},{"v":301855.72,"d":"301,855.72"}]
["SURAMERICANA45838","SURAMERICANA","2025-06-30",{"v":385892.35,"d":"385,892.35"},{"v":295441.15,"d":"295,441.15"}]
["ZURICH45777","ZURICH","2025-04-30",{"v":55531.89,"d":"55,531.89"},{"v":24565.9,"d":"24,565.90"}]
["ZURICH45808","ZURICH","2025-05-31",{"v":54574.27,"d":"54,574.27"},{"v":24403.89,"d":"24,403.89"}]
["ZURICH45838","ZURICH","2025-06-30",{"v":55698.71,"d":"55,698.71"},{"v":24746,"d":"24,746.00"}]

{"sheet":"RS_GEN","index":7,"n_rows":33,"n_cols":4,"rows_kept":33,"merged":[[0,1,0,4],[1,1,1,4],[2,2,2,3],[3,1,3,4],[4,0,5,0],[4,1,4,4],[5,1,5,2],[5,3,5,4],[6,1,6,2],[6,3,6,4],[7,1,7,2],[7,3,7,4],[8,1,8,2],[8,3,8,4],[9,1,9,2],[9,3,9,4],[10,1,10,2],[10,3,10,4],[11,1,11,2],[11,3,11,4],[12,1,12,2],[12,3,12,4],[13,1,13,2],[13,3,13,4],[14,1,14,2],[14,3,14,4],[15,1,15,2],[15,3,15,4],[16,1,16,2],[16,3,16,4],[17,1,17,2],[17,3,17,4],[18,1,18,2],[18,3,18,4],[19,1,19,2],[19,3,19,4],[20,1,20,2],[20,3,20,4],[21,1,21,2],[21,3,21,4],[22,1,22,2],[22,3,22,4],[23,1,23,2],[23,3,23,4],[24,1,24,2],[24,3,24,4],[25,1,25,2],[25,3,25,4],[26,1,26,2],[26,3,26,4],[27,1,27,2],[27,3,27,4],[28,1,28,2],[28,3,28,4],[29,1,29,2],[29,3,29,4],[30,1,30,2],[30,3,30,4],[31,1,31,2],[31,3,31,4],[32,1,32,2],[32,3,32,4]]}
[null,"COMPAÑÍAS DE SEGUROS GENERALES"]
[null,"RIESGO DE SUSCRIPCIÓN"]
[null,null,"2025-06-30"]
[null,"CIFRAS EN MILLONES DE PESOS"]
["COMPAÑÍAS","RIESGO DE SUSCRIPCIÓN"]
[null,"Riesgo en función de primas",null,"Riesgo en función de siniestros"]
["ALFA",{"$f":"+IFERROR(VLOOKUP($A7&$C$3,BaseRS_GEN!$A$3:$G$863,4,0),\"N.A.\")","v":{"v":32583.23,"d":"32,583"}},null,{"$f":"+IFERROR(VLOOKUP($A7&$C$3,BaseRS_GEN!$A$3:$G$863,5,0),\"N.A.\")","v":{"v":7871.82,"d":"7,872"}}]
["ALLIANZ",{"$f":"+IFERROR(VLOOKUP($A8&$C$3,BaseRS_GEN!$A$3:$G$863,4,0),\"N.A.\")","v":{"v":183751.36,"d":"183,751"}},null,{"$f":"+IFERROR(VLOOKUP($A8&$C$3,BaseRS_GEN!$A$3:$G$863,5,0),\"N.A.\")","v":{"v":112867.19,"d":"112,867"}}]
["AXA COLPATRIA",{"$f":"+IFERROR(VLOOKUP($A9&$C$3,BaseRS_GEN!$A$3:$G$863,4,0),\"N.A.\")","v":{"v":320785.3,"d":"320,785"}},null,{"$f":"+IFERROR(VLOOKUP($A9&$C$3,BaseRS_GEN!$A$3:$G$863,5,0),\"N.A.\")","v":{"v":197163.75,"d":"197,164"}}]
["BBVA SEGUROS",{"$f":"+IFERROR(VLOOKUP($A10&$C$3,BaseRS_GEN!$A$3:$G$863,4,0),\"N.A.\")","v":{"v":28507.16,"d":"28,507"}},null,{"$f":"+IFERROR(VLOOKUP($A10&$C$3,BaseRS_GEN!$A$3:$G$863,5,0),\"N.A.\")","v":{"v":14318.41,"d":"14,318"}}]
["BERKLEY",{"$f":"+IFERROR(VLOOKUP($A11&$C$3,BaseRS_GEN!$A$3:$G$863,4,0),\"N.A.\")","v":{"v":14350.83,"d":"14,351"}},null,{"$f":"+IFERROR(VLOOKUP($A11&$C$3,BaseRS_GEN!$A$3:$G$863,5,0),\"N.A.\")","v":{"v":2402.15,"d":"2,402"}}]
["BOLIVAR",{"$f":"+IFERROR(VLOOKUP($A12&$C$3,BaseRS_GEN!$A$3:$G$863,4,0),\"N.A.\")","v":{"v":229080.93,"d":"229,081"}},null,{"$f":"+IFERROR(VLOOKUP($A12&$C$3,BaseRS_GEN!$A$3:$G$863,5,0),\"N.A.\")","v":{"v":178547.61,"d":"178,548"}}]
["CARDIF",{"$f":"+IFERROR(VLOOKUP($A13&$C$3,BaseRS_GEN!$A$3:$G$863,4,0),\"N.A.\")","v":{"v":224953.76,"d":"224,954"}},null,{"$f":"+IFERROR(VLOOKUP($A13&$C$3,BaseRS_GEN!$A$3:$G$863,5,0),\"N.A.\")","v":{"v":79365.52,"d":"79,366"}}]
["CHUBB",{"$f":"+IFERROR(VLOOKUP($A14&$C$3,BaseRS_GEN!$A$3:$G$863,4,0),\"N.A.\")","v":{"v":76915.31,"d":"76,915"}},null,{"$f":"+IFERROR(VLOOKUP($A14&$C$3,BaseRS_GEN!$A$3:$G$863,5,0),\"N.A.\")","v":{"v":30079.69,"d":"30,080"}}]
["COFACE",{"$f":"+IFERROR(VLOOKUP($A15&$C$3,BaseRS_GEN!$A$3:$G$863,4,0),\"N.A.\")","v":{"v":2013.73,"d":"2,014"}},null,{"$f":"+IFERROR(VLOOKUP($A15&$C$3,BaseRS_GEN!$A$3:$G$863,5,0),\"N.A.\")","v":{"v":2539.9,"d":"2,540"}}]
["COLMENA",{"$f":"+IFERROR(VLOOKUP($A16&$C$3,BaseRS_GEN!$A$3:$G$863,4,0),\"N.A.\")","v":{"v":8142.1,"d":"8,142"}},null,{"$f":"+IFERROR(VLOOKUP($A16&$C$3,BaseRS_GEN!$A$3:$G$863,5,0),\"N.A.\")","v":{"v":996.86,"d":"997"}}]
["CONFIANZA",{"$f":"+IFERROR(VLOOKUP($A17&$C$3,BaseRS_GEN!$A$3:$G$863,4,0),\"N.A.\")","v":{"v":20626.72,"d":"20,627"}},null,{"$f":"+IFERROR(VLOOKUP($A17&$C$3,BaseRS_GEN!$A$3:$G$863,5,0),\"N.A.\")","v":{"v":10646.79,"d":"10,647"}}]
["EQUIDAD",{"$f":"+IFERROR(VLOOKUP($A18&$C$3,BaseRS_GEN!$A$3:$G$863,4,0),\"N.A.\")","v":{"v":50639.62,"d":"50,640"}},null,{"$f":"+IFERROR(VLOOKUP($A18&$C$3,BaseRS_GEN!$A$3:$G$863,5,0),\"N.A.\")","v":{"v":53995.48,"d":"53,995"}}]
["ESTADO",{"$f":"+IFERROR(VLOOKUP($A19&$C$3,BaseRS_GEN!$A$3:$G$863,4,0),\"N.A.\")","v":{"v":179327.7,"d":"179,328"}},null,{"$f":"+IFERROR(VLOOKUP($A19&$C$3,BaseRS_GEN!$A$3:$G$863,5,0),\"N.A.\")","v":{"v":160435.6,"d":"160,436"}}]
["EVEREST",{"$f":"+IFERROR(VLOOKUP($A20&$C$3,BaseRS_GEN!$A$3:$G$863,4,0),\"N.A.\")","v":{"v":1481.03,"d":"1,481"}},null,{"$f":"+IFERROR(VLOOKUP($A20&$C$3,BaseRS_GEN!$A$3:$G$863,5,0),\"N.A.\")","v":{"v":27.35,"d":"27"}}]
["HDI SEGUROS",{"$f":"+IFERROR(VLOOKUP($A21&$C$3,BaseRS_GEN!$A$3:$G$863,4,0),\"N.A.\")","v":{"v":206355.34,"d":"206,355"}},null,{"$f":"+IFERROR(VLOOKUP($A21&$C$3,BaseRS_GEN!$A$3:$G$863,5,0),\"N.A.\")","v":{"v":157223.26,"d":"157,223"}}]
["JMALUCELLI TRAVELERS",{"$f":"+IFERROR(VLOOKUP($A22&$C$3,BaseRS_GEN!$A$3:$G$863,4,0),\"N.A.\")","v":{"v":3636.1,"d":"3,636"}},null,{"$f":"+IFERROR(VLOOKUP($A22&$C$3,BaseRS_GEN!$A$3:$G$863,5,0),\"N.A.\")","v":{"v":664.27,"d":"664"}}]
["MAPFRE",{"$f":"+IFERROR(VLOOKUP($A23&$C$3,BaseRS_GEN!$A$3:$G$863,4,0),\"N.A.\")","v":{"v":199741.65,"d":"199,742"}},null,{"$f":"+IFERROR(VLOOKUP($A23&$C$3,BaseRS_GEN!$A$3:$G$863,5,0),\"N.A.\")","v":{"v":146039.89,"d":"146,040"}}]
["MUNDIAL",{"$f":"+IFERROR(VLOOKUP($A24&$C$3,BaseRS_GEN!$A$3:$G$863,4,0),\"N.A.\")","v":{"v":162876.74,"d":"162,877"}},null,{"$f":"+IFERROR(VLOOKUP($A24&$C$3,BaseRS_GEN!$A$3:$G$863,5,0),\"N.A.\")","v":{"v":99253.68,"d":"99,254"}}]
["NACIONAL",{"$f":"+IFERROR(VLOOKUP($A25&$C$3,BaseRS_GEN!$A$3:$G$863,4,0),\"N.A.\")","v":{"v":14724.27,"d":"14,724"}},null,{"$f":"+IFERROR(VLOOKUP($A25&$C$3,BaseRS_GEN!$A$3:$G$863,5,0),\"N.A.\")","v":{"v":6048.74,"d":"6,049"}}]
["PREVISORA",{"$f":"+IFERROR(VLOOKUP($A26&$C$3,BaseRS_GEN!$A$3:$G$863,4,0),\"N.A.\")","v":{"v":412888.35,"d":"412,888"}},null,{"$f":"+IFERROR(VLOOKUP($A26&$C$3,BaseRS_GEN!$A$3:$G$863,5,0),\"N.A.\")","v":{"v":224321.54,"d":"224,322"}}]
["QUALITAS",{"$f":"+IFERROR(VLOOKUP($A27&$C$3,BaseRS_GEN!$A$3:$G$863,4,0),\"N.A.\")","v":{"v":359.81,"d":"360"}},null,{"$f":"+IFERROR(VLOOKUP($A27&$C$3,BaseRS_GEN!$A$3:$G$863,5,0),\"N.A.\")","v":{"v":15.22,"d":"15"}}]
["SBS SEGUROS",{"$f":"+IFERROR(VLOOKUP($A28&$C$3,BaseRS_GEN!$A$3:$G$863,4,0),\"N.A.\")","v":{"v":127198.76,"d":"127,199"}},null,{"$f":"+IFERROR(VLOOKUP($A28&$C$3,BaseRS_GEN!$A$3:$G$863,5,0),\"N.A.\")","v":{"v":55125.23,"d":"55,125"}}]
["SEGUREXPO",{"$f":"+IFERROR(VLOOKUP($A29&$C$3,BaseRS_GEN!$A$3:$G$863,4,0),\"N.A.\")","v":{"v":6225.17,"d":"6,225"}},null,{"$f":"+IFERROR(VLOOKUP($A29&$C$3,BaseRS_GEN!$A$3:$G$863,5,0),\"N.A.\")","v":{"v":6912.5,"d":"6,913"}}]
["SOLIDARIA",{"$f":"+IFERROR(VLOOKUP($A30&$C$3,BaseRS_GEN!$A$3:$G$863,4,0),\"N.A.\")","v":{"v":83081.37,"d":"83,081"}},null,{"$f":"+IFERROR(VLOOKUP($A30&$C$3,BaseRS_GEN!$A$3:$G$863,5,0),\"N.A.\")","v":{"v":42467.71,"d":"42,468"}}]
["SOLUNION",{"$f":"+IFERROR(VLOOKUP($A31&$C$3,BaseRS_GEN!$A$3:$G$863,4,0),\"N.A.\")","v":{"v":9843.71,"d":"9,844"}},null,{"$f":"+IFERROR(VLOOKUP($A31&$C$3,BaseRS_GEN!$A$3:$G$863,5,0),\"N.A.\")","v":{"v":10138.48,"d":"10,138"}}]
["SURAMERICANA",{"$f":"+IFERROR(VLOOKUP($A32&$C$3,BaseRS_GEN!$A$3:$G$863,4,0),\"N.A.\")","v":{"v":385892.35,"d":"385,892"}},null,{"$f":"+IFERROR(VLOOKUP($A32&$C$3,BaseRS_GEN!$A$3:$G$863,5,0),\"N.A.\")","v":{"v":295441.15,"d":"295,441"}}]
["ZURICH",{"$f":"+IFERROR(VLOOKUP($A33&$C$3,BaseRS_GEN!$A$3:$G$863,4,0),\"N.A.\")","v":{"v":55698.71,"d":"55,699"}},null,{"$f":"+IFERROR(VLOOKUP($A33&$C$3,BaseRS_GEN!$A$3:$G$863,5,0),\"N.A.\")","v":{"v":24746,"d":"24,746"}}]

{"sheet":"BaseRS_VID","index":8,"n_rows":65,"n_cols":9,"rows_kept":65,"hidden":true}
[{"$nulls":3},"RAMOS CON RES. MAT.","RIESGOS PROFESIONALES",null,null,"DEMÁS RAMOS"]
[{"$nulls":3},"Riesgo en función de  reserva matemáticas (VIDA)","Riesgo en función de primas","Riesgo en función de siniestros","Riesgo en función de  reserva matemáticas (VIDA)","Riesgo en función de primas","Riesgo en función de siniestros"]
[{"$f":"+B3&C3","v":"ALFA VIDA45777"},"ALFA VIDA","2025-04-30",{"v":1535626.9,"d":"1,535,626.90"},{"v":3290.37,"d":"3,290.37"},{"v":2265.79,"d":"2,265.79"},{"v":4143.18,"d":"4,143.18"},{"v":88063.11,"d":"88,063.11"},{"v":46449.78,"d":"46,449.78"}]
[{"$f":"+B4&C4","v":"ALFA VIDA45808"},"ALFA VIDA","2025-05-31",{"v":1551213.51,"d":"1,551,213.51"},{"v":3313.22,"d":"3,313.22"},{"v":2558.18,"d":"2,558.18"},{"v":4163.3,"d":"4,163.30"},{"v":88834.25,"d":"88,834.25"},{"v":46507.02,"d":"46,507.02"}]
["ALFA VIDA45838","ALFA VIDA","2025-06-30",{"v":1568238.06,"d":"1,568,238.06"},{"v":3289.07,"d":"3,289.07"},{"v":2609.22,"d":"2,609.22"},{"v":4138.08,"d":"4,138.08"},{"v":90671.25,"d":"90,671.25"},{"v":46861.94,"d":"46,861.94"}]
["ALLIANZ VIDA45777","ALLIANZ VIDA","2025-04-30",{"v":62644.43,"d":"62,644.43"},{"v":0,"d":"0.00"},{"v":1765.97,"d":"1,765.97"},{"v":6966.9,"d":"6,966.90"},{"v":111606.01,"d":"111,606.01"},{"v":102234.34,"d":"102,234.34"}]
["ALLIANZ VIDA45808","ALLIANZ VIDA","2025-05-31",{"v":62173.33,"d":"62,173.33"},{"v":0,"d":"0.00"},{"v":1739.83,"d":"1,739.83"},{"v":6985.14,"d":"6,985.14"},{"v":111785.36,"d":"111,785.36"},{"v":102620.6,"d":"102,620.60"}]
["ALLIANZ VIDA45838","ALLIANZ VIDA","2025-06-30",{"v":62046.11,"d":"62,046.11"},{"v":0,"d":"0.00"},{"v":1724.51,"d":"1,724.51"},{"v":6978.79,"d":"6,978.79"},{"v":113318.27,"d":"113,318.27"},{"v":103586.29,"d":"103,586.29"}]
["ANDINA45777","ANDINA","2025-04-30",{"v":32879.83,"d":"32,879.83"},{"v":0,"d":"0.00"},{"v":0,"d":"0.00"},{"v":0,"d":"0.00"},{"v":0,"d":"0.00"},{"v":0,"d":"0.00"}]
["ANDINA45808","ANDINA","2025-05-31",{"v":36707.62,"d":"36,707.62"},{"v":0,"d":"0.00"},{"v":0,"d":"0.00"},{"v":0,"d":"0.00"},{"v":0,"d":"0.00"},{"v":0,"d":"0.00"}]
["ANDINA45838","ANDINA","2025-06-30",{"v":41164.44,"d":"41,164.44"},{"v":0,"d":"0.00"},{"v":0,"d":"0.00"},{"v":0,"d":"0.00"},{"v":0,"d":"0.00"},{"v":0,"d":"0.00"}]
["ASULADO45777","ASULADO","2025-04-30",{"v":632517.82,"d":"632,517.82"},{"v":0,"d":"0.00"},{"v":0,"d":"0.00"},{"v":0,"d":"0.00"},{"v":0,"d":"0.00"},{"v":0,"d":"0.00"}]
["ASULADO45808","ASULADO","2025-05-31",{"v":647321.67,"d":"647,321.67"},{"v":0,"d":"0.00"},{"v":0,"d":"0.00"},{"v":0,"d":"0.00"},{"v":0,"d":"0.00"},{"v":0,"d":"0.00"}]
["ASULADO45838","ASULADO","2025-06-30",{"v":657423.58,"d":"657,423.58"},{"v":0,"d":"0.00"},{"v":0,"d":"0.00"},{"v":0,"d":"0.00"},{"v":0,"d":"0.00"},{"v":0,"d":"0.00"}]
["AURORA VIDA45777","AURORA VIDA","2025-04-30",14.18,278.93,{"v":0,"d":"0.00"},676.58,{"v":2594.27,"d":"2,594.27"},807.93]
["AURORA VIDA45808","AURORA VIDA","2025-05-31",14.43,300.77,{"v":0,"d":"0.00"},627.75,{"v":2699.27,"d":"2,699.27"},819.23]
["AURORA VIDA45838","AURORA VIDA","2025-06-30",14.49,323.16,{"v":0,"d":"0.00"},622.85,{"v":2844.65,"d":"2,844.65"},848.95]
["AXA COLPATRIA VIDA45777","AXA COLPATRIA VIDA","2025-04-30",{"v":23421.58,"d":"23,421.58"},{"v":130126.63,"d":"130,126.63"},{"v":97061.86,"d":"97,061.86"},{"v":78357.8,"d":"78,357.80"},{"v":48445.99,"d":"48,445.99"},{"v":18629.23,"d":"18,629.23"}]
["AXA COLPATRIA VIDA45808","AXA COLPATRIA VIDA","2025-05-31",{"v":23468.6,"d":"23,468.60"},{"v":131654.63,"d":"131,654.63"},{"v":99994.2,"d":"99,994.20"},{"v":79027.16,"d":"79,027.16"},{"v":49643.94,"d":"49,643.94"},{"v":19451.27,"d":"19,451.27"}]
["AXA COLPATRIA VIDA45838","AXA COLPATRIA VIDA","2025-06-30",{"v":23435.6,"d":"23,435.60"},{"v":132642.47,"d":"132,642.47"},{"v":102255.22,"d":"102,255.22"},{"v":79767.82,"d":"79,767.82"},{"v":51439.27,"d":"51,439.27"},{"v":20339.57,"d":"20,339.57"}]
["BBVA SEGUROS VIDA45777","BBVA SEGUROS VIDA","2025-04-30",{"v":78905.33,"d":"78,905.33"},{"v":0,"d":"0.00"},917.11,{"v":3405.84,"d":"3,405.84"},{"v":59876.73,"d":"59,876.73"},{"v":24758,"d":"24,758.00"}]
["BBVA SEGUROS VIDA45808","BBVA SEGUROS VIDA","2025-05-31",{"v":79395.22,"d":"79,395.22"},{"v":0,"d":"0.00"},922.92,{"v":3424.81,"d":"3,424.81"},{"v":62587.62,"d":"62,587.62"},{"v":25843.24,"d":"25,843.24"}]
["BBVA SEGUROS VIDA45838","BBVA SEGUROS VIDA","2025-06-30",{"v":79774.15,"d":"79,774.15"},{"v":0,"d":"0.00"},934.48,{"v":3426.5,"d":"3,426.50"},{"v":61912.27,"d":"61,912.27"},{"v":25740.42,"d":"25,740.42"}]
["BMI COLOMBIA45777","BMI COLOMBIA","2025-04-30",{"v":5834.84,"d":"5,834.84"},{"v":0,"d":"0.00"},{"v":0,"d":"0.00"},{"v":0,"d":"0.00"},{"v":3930.87,"d":"3,930.87"},{"v":1817.27,"d":"1,817.27"}]
["BMI COLOMBIA45808","BMI COLOMBIA","2025-05-31",{"v":5112.86,"d":"5,112.86"},{"v":0,"d":"0.00"},{"v":0,"d":"0.00"},{"v":0,"d":"0.00"},{"v":4028.15,"d":"4,028.15"},{"v":1772.1,"d":"1,772.10"}]
["BMI COLOMBIA45838","BMI COLOMBIA","2025-06-30",{"v":5135.41,"d":"5,135.41"},{"v":0,"d":"0.00"},{"v":0,"d":"0.00"},{"v":0,"d":"0.00"},{"v":4053.92,"d":"4,053.92"},{"v":1854.89,"d":"1,854.89"}]
["BOLIVAR VIDA45777","BOLIVAR VIDA","2025-04-30",{"v":393013.13,"d":"393,013.13"},{"v":94252.67,"d":"94,252.67"},{"v":53536.39,"d":"53,536.39"},{"v":46743.08,"d":"46,743.08"},{"v":161823.13,"d":"161,823.13"},{"v":91360.39,"d":"91,360.39"}]
["BOLIVAR VIDA45808","BOLIVAR VIDA","2025-05-31",{"v":398921.89,"d":"398,921.89"},{"v":95549.67,"d":"95,549.67"},{"v":55540.89,"d":"55,540.89"},{"v":47074.32,"d":"47,074.32"},{"v":162839,"d":"162,839.00"},{"v":91378.09,"d":"91,378.09"}]
["BOLIVAR VIDA45838","BOLIVAR VIDA","2025-06-30",{"v":402590.12,"d":"402,590.12"},{"v":97171.55,"d":"97,171.55"},{"v":54874.49,"d":"54,874.49"},{"v":47404.09,"d":"47,404.09"},{"v":164616.54,"d":"164,616.54"},{"v":91125.86,"d":"91,125.86"}]
["COLMENA ARL45777","COLMENA ARL","2025-04-30",{"v":0,"d":"0.00"},{"v":100629.25,"d":"100,629.25"},{"v":43756.34,"d":"43,756.34"},{"v":53598.16,"d":"53,598.16"},{"v":0,"d":"0.00"},{"v":0,"d":"0.00"}]
["COLMENA ARL45808","COLMENA ARL","2025-05-31",{"v":0,"d":"0.00"},{"v":100507.31,"d":"100,507.31"},{"v":43024.7,"d":"43,024.70"},{"v":54049.14,"d":"54,049.14"},{"v":0,"d":"0.00"},{"v":0,"d":"0.00"}]
["COLMENA ARL45838","COLMENA ARL","2025-06-30",{"v":0,"d":"0.00"},{"v":100753.31,"d":"100,753.31"},{"v":43405.63,"d":"43,405.63"},{"v":54389.63,"d":"54,389.63"},{"v":0,"d":"0.00"},{"v":0,"d":"0.00"}]
["COLMENA VIDA45777","COLMENA VIDA","2025-04-30",{"v":1223.11,"d":"1,223.11"},{"v":0,"d":"0.00"},{"v":0,"d":"0.00"},{"v":0,"d":"0.00"},{"v":25397.1,"d":"25,397.10"},{"v":9383.24,"d":"9,383.24"}]
["COLMENA VIDA45808","COLMENA VIDA","2025-05-31",{"v":1233.38,"d":"1,233.38"},{"v":0,"d":"0.00"},{"v":0,"d":"0.00"},{"v":0,"d":"0.00"},{"v":24992.02,"d":"24,992.02"},{"v":9274.54,"d":"9,274.54"}]
["COLMENA VIDA45838","COLMENA VIDA","2025-06-30",{"v":1239.05,"d":"1,239.05"},{"v":0,"d":"0.00"},{"v":0,"d":"0.00"},{"v":0,"d":"0.00"},{"v":25439.76,"d":"25,439.76"},{"v":9260.94,"d":"9,260.94"}]
["COLSANITAS45777","COLSANITAS","2025-04-30",{"v":0,"d":"0.00"},{"v":6096.52,"d":"6,096.52"},{"v":2198.23,"d":"2,198.23"},{"v":48.5,"d":"48.50"},{"v":11347.03,"d":"11,347.03"},{"v":2670.51,"d":"2,670.51"}]
["COLSANITAS45808","COLSANITAS","2025-05-31",{"v":0,"d":"0.00"},{"v":6287.78,"d":"6,287.78"},{"v":2280.23,"d":"2,280.23"},48.61,{"v":11606.91,"d":"11,606.91"},{"v":2876.61,"d":"2,876.61"}]
["COLSANITAS45838","COLSANITAS","2025-06-30",{"v":0,"d":"0.00"},{"v":6485.58,"d":"6,485.58"},{"v":2293.2,"d":"2,293.20"},48.74,{"v":12097.44,"d":"12,097.44"},{"v":3122.23,"d":"3,122.23"}]
["EQUIDAD VIDA45777","EQUIDAD VIDA","2025-04-30",{"v":0,"d":"0.00"},{"v":10424.46,"d":"10,424.46"},{"v":11880.87,"d":"11,880.87"},{"v":18106.43,"d":"18,106.43"},{"v":16251.25,"d":"16,251.25"},{"v":9765.93,"d":"9,765.93"}]
["EQUIDAD VIDA45808","EQUIDAD VIDA","2025-05-31",{"v":0,"d":"0.00"},{"v":10476.06,"d":"10,476.06"},{"v":11959.88,"d":"11,959.88"},{"v":18145.78,"d":"18,145.78"},{"v":16352.53,"d":"16,352.53"},{"v":9786.21,"d":"9,786.21"}]
["EQUIDAD VIDA45838","EQUIDAD VIDA","2025-06-30",{"v":0,"d":"0.00"},{"v":10506.37,"d":"10,506.37"},{"v":11847.6,"d":"11,847.60"},{"v":18182.33,"d":"18,182.33"},{"v":16543.22,"d":"16,543.22"},{"v":9992.18,"d":"9,992.18"}]
["ESTADO VIDA45777","ESTADO VIDA","2025-04-30",{"v":1462.69,"d":"1,462.69"},{"v":0,"d":"0.00"},238.21,{"v":1525.23,"d":"1,525.23"},{"v":24306.84,"d":"24,306.84"},{"v":14014.06,"d":"14,014.06"}]
["ESTADO VIDA45808","ESTADO VIDA","2025-05-31",{"v":1470.34,"d":"1,470.34"},{"v":0,"d":"0.00"},241.41,{"v":1523.26,"d":"1,523.26"},{"v":24553.06,"d":"24,553.06"},{"v":14047.45,"d":"14,047.45"}]
["ESTADO VIDA45838","ESTADO VIDA","2025-06-30",{"v":1480.8,"d":"1,480.80"},{"v":0,"d":"0.00"},249.64,{"v":1528.34,"d":"1,528.34"},{"v":24649.67,"d":"24,649.67"},{"v":14157.47,"d":"14,157.47"}]
["GLOBAL45777","GLOBAL","2025-04-30",{"v":227030.29,"d":"227,030.29"},{"v":0,"d":"0.00"},75.68,375.77,{"v":1458.32,"d":"1,458.32"},429.69]
["GLOBAL45808","GLOBAL","2025-05-31",{"v":228572.76,"d":"228,572.76"},{"v":0,"d":"0.00"},{"v":75.2,"d":"75.20"},378.54,{"v":1428.37,"d":"1,428.37"},445.34]
["GLOBAL45838","GLOBAL","2025-06-30",{"v":229020.95,"d":"229,020.95"},{"v":0,"d":"0.00"},74.58,379.57,{"v":1573.14,"d":"1,573.14"},456.29]
["MAPFRE VIDA45777","MAPFRE VIDA","2025-04-30",{"v":210333.07,"d":"210,333.07"},17.83,751.73,{"v":5773.88,"d":"5,773.88"},{"v":19238.05,"d":"19,238.05"},{"v":10295.94,"d":"10,295.94"}]
["MAPFRE VIDA45808","MAPFRE VIDA","2025-05-31",{"v":210939.58,"d":"210,939.58"},15.29,696.37,{"v":5791.77,"d":"5,791.77"},{"v":19132.7,"d":"19,132.70"},{"v":10277.58,"d":"10,277.58"}]
["MAPFRE VIDA45838","MAPFRE VIDA","2025-06-30",{"v":211660.49,"d":"211,660.49"},13.07,{"v":647,"d":"647.00"},{"v":5795.95,"d":"5,795.95"},{"v":18952.83,"d":"18,952.83"},{"v":10239.5,"d":"10,239.50"}]
["METLIFE45777","METLIFE","2025-04-30",{"v":82299.69,"d":"82,299.69"},{"v":0,"d":"0.00"},{"v":0,"d":"0.00"},{"v":0,"d":"0.00"},{"v":49997.37,"d":"49,997.37"},{"v":16994.33,"d":"16,994.33"}]
["METLIFE45808","METLIFE","2025-05-31",{"v":83324.66,"d":"83,324.66"},{"v":0,"d":"0.00"},{"v":0,"d":"0.00"},{"v":0,"d":"0.00"},{"v":49274.22,"d":"49,274.22"},{"v":17474.55,"d":"17,474.55"}]
["METLIFE45838","METLIFE","2025-06-30",{"v":84144.22,"d":"84,144.22"},{"v":0,"d":"0.00"},{"v":0,"d":"0.00"},{"v":0,"d":"0.00"},{"v":47544.88,"d":"47,544.88"},{"v":17223.25,"d":"17,223.25"}]
["PANAMERICAN VIDA45777","PANAMERICAN VIDA","2025-04-30",{"v":1545.43,"d":"1,545.43"},{"v":0,"d":"0.00"},{"v":0,"d":"0.00"},{"v":0,"d":"0.00"},{"v":44578.86,"d":"44,578.86"},{"v":15459.03,"d":"15,459.03"}]
["PANAMERICAN VIDA45808","PANAMERICAN VIDA","2025-05-31",{"v":1571.77,"d":"1,571.77"},{"v":0,"d":"0.00"},{"v":0,"d":"0.00"},{"v":0,"d":"0.00"},{"v":46451.26,"d":"46,451.26"},{"v":15642.94,"d":"15,642.94"}]
["PANAMERICAN VIDA45838","PANAMERICAN VIDA","2025-06-30",{"v":1585.17,"d":"1,585.17"},{"v":0,"d":"0.00"},{"v":0,"d":"0.00"},{"v":0,"d":"0.00"},{"v":48582.58,"d":"48,582.58"},{"v":15899.43,"d":"15,899.43"}]
["POSITIVA45777","POSITIVA","2025-04-30",{"v":99193.77,"d":"99,193.77"},{"v":182080.09,"d":"182,080.09"},{"v":147154.02,"d":"147,154.02"},{"v":146509.86,"d":"146,509.86"},{"v":41626.06,"d":"41,626.06"},{"v":34346.06,"d":"34,346.06"}]
["POSITIVA45808","POSITIVA","2025-05-31",{"v":99267.74,"d":"99,267.74"},{"v":182603.66,"d":"182,603.66"},{"v":149724.95,"d":"149,724.95"},{"v":147460.8,"d":"147,460.80"},{"v":42049.18,"d":"42,049.18"},{"v":34562.99,"d":"34,562.99"}]
["POSITIVA45838","POSITIVA","2025-06-30",{"v":98292.19,"d":"98,292.19"},{"v":182396.17,"d":"182,396.17"},{"v":152567.6,"d":"152,567.60"},{"v":148260.92,"d":"148,260.92"},{"v":42378.91,"d":"42,378.91"},{"v":35079.54,"d":"35,079.54"}]
["SKANDIA45777","SKANDIA","2025-04-30",{"v":67518.69,"d":"67,518.69"},{"v":0,"d":"0.00"},{"v":0,"d":"0.00"},{"v":0,"d":"0.00"},{"v":0,"d":"0.00"},{"v":0,"d":"0.00"}]
["SKANDIA45808","SKANDIA","2025-05-31",{"v":68852.09,"d":"68,852.09"},{"v":0,"d":"0.00"},{"v":0,"d":"0.00"},{"v":0,"d":"0.00"},{"v":0,"d":"0.00"},{"v":0,"d":"0.00"}]
["SKANDIA45838","SKANDIA","2025-06-30",{"v":69821.95,"d":"69,821.95"},{"v":0,"d":"0.00"},{"v":0,"d":"0.00"},{"v":0,"d":"0.00"},{"v":0,"d":"0.00"},{"v":0,"d":"0.00"}]
["SURAMERICANA VIDA45777","SURAMERICANA VIDA","2025-04-30",{"v":234436.52,"d":"234,436.52"},{"v":297095.57,"d":"297,095.57"},{"v":201257.84,"d":"201,257.84"},{"v":184967.21,"d":"184,967.21"},{"v":776817.74,"d":"776,817.74"},{"v":562791.19,"d":"562,791.19"}]
["SURAMERICANA VIDA45808","SURAMERICANA VIDA","2025-05-31",{"v":235402.44,"d":"235,402.44"},{"v":298299.26,"d":"298,299.26"},{"v":203053.54,"d":"203,053.54"},{"v":186346.38,"d":"186,346.38"},{"v":784920.91,"d":"784,920.91"},{"v":571576.93,"d":"571,576.93"}]
["SURAMERICANA VIDA45838","SURAMERICANA VIDA","2025-06-30",{"v":235154.88,"d":"235,154.88"},{"v":300227.48,"d":"300,227.48"},{"v":204826.48,"d":"204,826.48"},{"v":187378.28,"d":"187,378.28"},{"v":793458.94,"d":"793,458.94"},{"v":574937.9,"d":"574,937.90"}]

{"sheet":"RS_VID","index":9,"n_rows":27,"n_cols":7,"rows_kept":27,"merged":[[0,1,0,6],[1,3,1,4],[2,3,2,4],[3,3,3,4],[4,0,5,0],[4,2,4,4],[4,5,4,6]]}
[null,"COMPAÑÍAS DE SEGUROS DE VIDA"]
[{"$nulls":3},"RIESGO DE SUSCRIPCIÓN"]
[{"$nulls":3},"2025-06-30"]
[{"$nulls":3},"CIFRAS EN MILLONES DE PESOS"]
["COMPAÑÍAS","RAMOS CON RESERVA MATEMÁTICA","RIESGOS PROFESIONALES",null,null,"DEMÁS RAMOS"]
[null,"Riesgo en función de Reserva Matemática","Riesgo en función de primas","Riesgo en función de siniestros","Riesgo en función de Reserva Matemática","Riesgo en función de primas","Riesgo en función de siniestros"]
["ALFA VIDA",{"$f":"+IFERROR(VLOOKUP($A7&$D$3,BaseRS_VID!$A$3:$I$913,4,0),\"N.A.\")","v":{"v":1568238.06,"d":"1,568,238"}},{"$f":"+IFERROR(VLOOKUP($A7&$D$3,BaseRS_VID!$A$3:$I$913,5,0),\"N.A.\")","v":{"v":3289.07,"d":"3,289"}},{"$f":"+IFERROR(VLOOKUP($A7&$D$3,BaseRS_VID!$A$3:$I$913,6,0),\"N.A.\")","v":{"v":2609.22,"d":"2,609"}},{"$f":"+IFERROR(VLOOKUP($A7&$D$3,BaseRS_VID!$A$3:$I$913,7,0),\"N.A.\")","v":{"v":4138.08,"d":"4,138"}},{"$f":"+IFERROR(VLOOKUP($A7&$D$3,BaseRS_VID!$A$3:$I$913,8,0),\"N.A.\")","v":{"v":90671.25,"d":"90,671"}},{"$f":"+IFERROR(VLOOKUP($A7&$D$3,BaseRS_VID!$A$3:$I$913,9,0),\"N.A.\")","v":{"v":46861.94,"d":"46,862"}}]
["ALLIANZ VIDA",{"$f":"+IFERROR(VLOOKUP($A8&$D$3,BaseRS_VID!$A$3:$I$913,4,0),\"N.A.\")","v":{"v":62046.11,"d":"62,046"}},{"$f":"+IFERROR(VLOOKUP($A8&$D$3,BaseRS_VID!$A$3:$I$913,5,0),\"N.A.\")","v":0},{"$f":"+IFERROR(VLOOKUP($A8&$D$3,BaseRS_VID!$A$3:$I$913,6,0),\"N.A.\")","v":{"v":1724.51,"d":"1,725"}},{"$f":"+IFERROR(VLOOKUP($A8&$D$3,BaseRS_VID!$A$3:$I$913,7,0),\"N.A.\")","v":{"v":6978.79,"d":"6,979"}},{"$f":"+IFERROR(VLOOKUP($A8&$D$3,BaseRS_VID!$A$3:$I$913,8,0),\"N.A.\")","v":{"v":113318.27,"d":"113,318"}},{"$f":"+IFERROR(VLOOKUP($A8&$D$3,BaseRS_VID!$A$3:$I$913,9,0),\"N.A.\")","v":{"v":103586.29,"d":"103,586"}}]
["ASULADO",{"$f":"+IFERROR(VLOOKUP($A9&$D$3,BaseRS_VID!$A$3:$I$913,4,0),\"N.A.\")","v":{"v":657423.58,"d":"657,424"}},{"$f":"+IFERROR(VLOOKUP($A9&$D$3,BaseRS_VID!$A$3:$I$913,5,0),\"N.A.\")","v":0},{"$f":"+IFERROR(VLOOKUP($A9&$D$3,BaseRS_VID!$A$3:$I$913,6,0),\"N.A.\")","v":0},{"$f":"+IFERROR(VLOOKUP($A9&$D$3,BaseRS_VID!$A$3:$I$913,7,0),\"N.A.\")","v":0},{"$f":"+IFERROR(VLOOKUP($A9&$D$3,BaseRS_VID!$A$3:$I$913,8,0),\"N.A.\")","v":0},{"$f":"+IFERROR(VLOOKUP($A9&$D$3,BaseRS_VID!$A$3:$I$913,9,0),\"N.A.\")","v":0}]
["ANDINA",{"$f":"+IFERROR(VLOOKUP($A10&$D$3,BaseRS_VID!$A$3:$I$913,4,0),\"N.A.\")","v":{"v":41164.44,"d":"41,164"}},{"$f":"+IFERROR(VLOOKUP($A10&$D$3,BaseRS_VID!$A$3:$I$913,5,0),\"N.A.\")","v":0},{"$f":"+IFERROR(VLOOKUP($A10&$D$3,BaseRS_VID!$A$3:$I$913,6,0),\"N.A.\")","v":0},{"$f":"+IFERROR(VLOOKUP($A10&$D$3,BaseRS_VID!$A$3:$I$913,7,0),\"N.A.\")","v":0},{"$f":"+IFERROR(VLOOKUP($A10&$D$3,BaseRS_VID!$A$3:$I$913,8,0),\"N.A.\")","v":0},{"$f":"+IFERROR(VLOOKUP($A10&$D$3,BaseRS_VID!$A$3:$I$913,9,0),\"N.A.\")","v":0}]
["AURORA VIDA",{"$f":"+IFERROR(VLOOKUP($A11&$D$3,BaseRS_VID!$A$3:$I$913,4,0),\"N.A.\")","v":{"v":14.49,"d":"14"}},{"$f":"+IFERROR(VLOOKUP($A11&$D$3,BaseRS_VID!$A$3:$I$913,5,0),\"N.A.\")","v":{"v":323.16,"d":"323"}},{"$f":"+IFERROR(VLOOKUP($A11&$D$3,BaseRS_VID!$A$3:$I$913,6,0),\"N.A.\")","v":0},{"$f":"+IFERROR(VLOOKUP($A11&$D$3,BaseRS_VID!$A$3:$I$913,7,0),\"N.A.\")","v":{"v":622.85,"d":"623"}},{"$f":"+IFERROR(VLOOKUP($A11&$D$3,BaseRS_VID!$A$3:$I$913,8,0),\"N.A.\")","v":{"v":2844.65,"d":"2,845"}},{"$f":"+IFERROR(VLOOKUP($A11&$D$3,BaseRS_VID!$A$3:$I$913,9,0),\"N.A.\")","v":{"v":848.95,"d":"849"}}]
["AXA COLPATRIA VIDA",{"$f":"+IFERROR(VLOOKUP($A12&$D$3,BaseRS_VID!$A$3:$I$913,4,0),\"N.A.\")","v":{"v":23435.6,"d":"23,436"}},{"$f":"+IFERROR(VLOOKUP($A12&$D$3,BaseRS_VID!$A$3:$I$913,5,0),\"N.A.\")","v":{"v":132642.47,"d":"132,642"}},{"$f":"+IFERROR(VLOOKUP($A12&$D$3,BaseRS_VID!$A$3:$I$913,6,0),\"N.A.\")","v":{"v":102255.22,"d":"102,255"}},{"$f":"+IFERROR(VLOOKUP($A12&$D$3,BaseRS_VID!$A$3:$I$913,7,0),\"N.A.\")","v":{"v":79767.82,"d":"79,768"}},{"$f":"+IFERROR(VLOOKUP($A12&$D$3,BaseRS_VID!$A$3:$I$913,8,0),\"N.A.\")","v":{"v":51439.27,"d":"51,439"}},{"$f":"+IFERROR(VLOOKUP($A12&$D$3,BaseRS_VID!$A$3:$I$913,9,0),\"N.A.\")","v":{"v":20339.57,"d":"20,340"}}]
["BBVA SEGUROS VIDA",{"$f":"+IFERROR(VLOOKUP($A13&$D$3,BaseRS_VID!$A$3:$I$913,4,0),\"N.A.\")","v":{"v":79774.15,"d":"79,774"}},{"$f":"+IFERROR(VLOOKUP($A13&$D$3,BaseRS_VID!$A$3:$I$913,5,0),\"N.A.\")","v":0},{"$f":"+IFERROR(VLOOKUP($A13&$D$3,BaseRS_VID!$A$3:$I$913,6,0),\"N.A.\")","v":{"v":934.48,"d":"934"}},{"$f":"+IFERROR(VLOOKUP($A13&$D$3,BaseRS_VID!$A$3:$I$913,7,0),\"N.A.\")","v":{"v":3426.5,"d":"3,427"}},{"$f":"+IFERROR(VLOOKUP($A13&$D$3,BaseRS_VID!$A$3:$I$913,8,0),\"N.A.\")","v":{"v":61912.27,"d":"61,912"}},{"$f":"+IFERROR(VLOOKUP($A13&$D$3,BaseRS_VID!$A$3:$I$913,9,0),\"N.A.\")","v":{"v":25740.42,"d":"25,740"}}]
["BMI COLOMBIA",{"$f":"+IFERROR(VLOOKUP($A14&$D$3,BaseRS_VID!$A$3:$I$913,4,0),\"N.A.\")","v":{"v":5135.41,"d":"5,135"}},{"$f":"+IFERROR(VLOOKUP($A14&$D$3,BaseRS_VID!$A$3:$I$913,5,0),\"N.A.\")","v":0},{"$f":"+IFERROR(VLOOKUP($A14&$D$3,BaseRS_VID!$A$3:$I$913,6,0),\"N.A.\")","v":0},{"$f":"+IFERROR(VLOOKUP($A14&$D$3,BaseRS_VID!$A$3:$I$913,7,0),\"N.A.\")","v":0},{"$f":"+IFERROR(VLOOKUP($A14&$D$3,BaseRS_VID!$A$3:$I$913,8,0),\"N.A.\")","v":{"v":4053.92,"d":"4,054"}},{"$f":"+IFERROR(VLOOKUP($A14&$D$3,BaseRS_VID!$A$3:$I$913,9,0),\"N.A.\")","v":{"v":1854.89,"d":"1,855"}}]
["BOLIVAR VIDA",{"$f":"+IFERROR(VLOOKUP($A15&$D$3,BaseRS_VID!$A$3:$I$913,4,0),\"N.A.\")","v":{"v":402590.12,"d":"402,590"}},{"$f":"+IFERROR(VLOOKUP($A15&$D$3,BaseRS_VID!$A$3:$I$913,5,0),\"N.A.\")","v":{"v":97171.55,"d":"97,172"}},{"$f":"+IFERROR(VLOOKUP($A15&$D$3,BaseRS_VID!$A$3:$I$913,6,0),\"N.A.\")","v":{"v":54874.49,"d":"54,874"}},{"$f":"+IFERROR(VLOOKUP($A15&$D$3,BaseRS_VID!$A$3:$I$913,7,0),\"N.A.\")","v":{"v":47404.09,"d":"47,404"}},{"$f":"+IFERROR(VLOOKUP($A15&$D$3,BaseRS_VID!$A$3:$I$913,8,0),\"N.A.\")","v":{"v":164616.54,"d":"164,617"}},{"$f":"+IFERROR(VLOOKUP($A15&$D$3,BaseRS_VID!$A$3:$I$913,9,0),\"N.A.\")","v":{"v":91125.86,"d":"91,126"}}]
["COLMENA ARL",{"$f":"+IFERROR(VLOOKUP($A16&$D$3,BaseRS_VID!$A$3:$I$913,4,0),\"N.A.\")","v":0},{"$f":"+IFERROR(VLOOKUP($A16&$D$3,BaseRS_VID!$A$3:$I$913,5,0),\"N.A.\")","v":{"v":100753.31,"d":"100,753"}},{"$f":"+IFERROR(VLOOKUP($A16&$D$3,BaseRS_VID!$A$3:$I$913,6,0),\"N.A.\")","v":{"v":43405.63,"d":"43,406"}},{"$f":"+IFERROR(VLOOKUP($A16&$D$3,BaseRS_VID!$A$3:$I$913,7,0),\"N.A.\")","v":{"v":54389.63,"d":"54,390"}},{"$f":"+IFERROR(VLOOKUP($A16&$D$3,BaseRS_VID!$A$3:$I$913,8,0),\"N.A.\")","v":0},{"$f":"+IFERROR(VLOOKUP($A16&$D$3,BaseRS_VID!$A$3:$I$913,9,0),\"N.A.\")","v":0}]
["COLMENA VIDA",{"$f":"+IFERROR(VLOOKUP($A17&$D$3,BaseRS_VID!$A$3:$I$913,4,0),\"N.A.\")","v":{"v":1239.05,"d":"1,239"}},{"$f":"+IFERROR(VLOOKUP($A17&$D$3,BaseRS_VID!$A$3:$I$913,5,0),\"N.A.\")","v":0},{"$f":"+IFERROR(VLOOKUP($A17&$D$3,BaseRS_VID!$A$3:$I$913,6,0),\"N.A.\")","v":0},{"$f":"+IFERROR(VLOOKUP($A17&$D$3,BaseRS_VID!$A$3:$I$913,7,0),\"N.A.\")","v":0},{"$f":"+IFERROR(VLOOKUP($A17&$D$3,BaseRS_VID!$A$3:$I$913,8,0),\"N.A.\")","v":{"v":25439.76,"d":"25,440"}},{"$f":"+IFERROR(VLOOKUP($A17&$D$3,BaseRS_VID!$A$3:$I$913,9,0),\"N.A.\")","v":{"v":9260.94,"d":"9,261"}}]
["COLSANITAS",{"$f":"+IFERROR(VLOOKUP($A18&$D$3,BaseRS_VID!$A$3:$I$913,4,0),\"N.A.\")","v":0},{"$f":"+IFERROR(VLOOKUP($A18&$D$3,BaseRS_VID!$A$3:$I$913,5,0),\"N.A.\")","v":{"v":6485.58,"d":"6,486"}},{"$f":"+IFERROR(VLOOKUP($A18&$D$3,BaseRS_VID!$A$3:$I$913,6,0),\"N.A.\")","v":{"v":2293.2,"d":"2,293"}},{"$f":"+IFERROR(VLOOKUP($A18&$D$3,BaseRS_VID!$A$3:$I$913,7,0),\"N.A.\")","v":{"v":48.74,"d":"49"}},{"$f":"+IFERROR(VLOOKUP($A18&$D$3,BaseRS_VID!$A$3:$I$913,8,0),\"N.A.\")","v":{"v":12097.44,"d":"12,097"}},{"$f":"+IFERROR(VLOOKUP($A18&$D$3,BaseRS_VID!$A$3:$I$913,9,0),\"N.A.\")","v":{"v":3122.23,"d":"3,122"}}]
["EQUIDAD VIDA",{"$f":"+IFERROR(VLOOKUP($A19&$D$3,BaseRS_VID!$A$3:$I$913,4,0),\"N.A.\")","v":0},{"$f":"+IFERROR(VLOOKUP($A19&$D$3,BaseRS_VID!$A$3:$I$913,5,0),\"N.A.\")","v":{"v":10506.37,"d":"10,506"}},{"$f":"+IFERROR(VLOOKUP($A19&$D$3,BaseRS_VID!$A$3:$I$913,6,0),\"N.A.\")","v":{"v":11847.6,"d":"11,848"}},{"$f":"+IFERROR(VLOOKUP($A19&$D$3,BaseRS_VID!$A$3:$I$913,7,0),\"N.A.\")","v":{"v":18182.33,"d":"18,182"}},{"$f":"+IFERROR(VLOOKUP($A19&$D$3,BaseRS_VID!$A$3:$I$913,8,0),\"N.A.\")","v":{"v":16543.22,"d":"16,543"}},{"$f":"+IFERROR(VLOOKUP($A19&$D$3,BaseRS_VID!$A$3:$I$913,9,0),\"N.A.\")","v":{"v":9992.18,"d":"9,992"}}]
["ESTADO VIDA",{"$f":"+IFERROR(VLOOKUP($A20&$D$3,BaseRS_VID!$A$3:$I$913,4,0),\"N.A.\")","v":{"v":1480.8,"d":"1,481"}},{"$f":"+IFERROR(VLOOKUP($A20&$D$3,BaseRS_VID!$A$3:$I$913,5,0),\"N.A.\")","v":0},{"$f":"+IFERROR(VLOOKUP($A20&$D$3,BaseRS_VID!$A$3:$I$913,6,0),\"N.A.\")","v":{"v":249.64,"d":"250"}},{"$f":"+IFERROR(VLOOKUP($A20&$D$3,BaseRS_VID!$A$3:$I$913,7,0),\"N.A.\")","v":{"v":1528.34,"d":"1,528"}},{"$f":"+IFERROR(VLOOKUP($A20&$D$3,BaseRS_VID!$A$3:$I$913,8,0),\"N.A.\")","v":{"v":24649.67,"d":"24,650"}},{"$f":"+IFERROR(VLOOKUP($A20&$D$3,BaseRS_VID!$A$3:$I$913,9,0),\"N.A.\")","v":{"v":14157.47,"d":"14,157"}}]
["GLOBAL",{"$f":"+IFERROR(VLOOKUP($A21&$D$3,BaseRS_VID!$A$3:$I$913,4,0),\"N.A.\")","v":{"v":229020.95,"d":"229,021"}},{"$f":"+IFERROR(VLOOKUP($A21&$D$3,BaseRS_VID!$A$3:$I$913,5,0),\"N.A.\")","v":0},{"$f":"+IFERROR(VLOOKUP($A21&$D$3,BaseRS_VID!$A$3:$I$913,6,0),\"N.A.\")","v":{"v":74.58,"d":"75"}},{"$f":"+IFERROR(VLOOKUP($A21&$D$3,BaseRS_VID!$A$3:$I$913,7,0),\"N.A.\")","v":{"v":379.57,"d":"380"}},{"$f":"+IFERROR(VLOOKUP($A21&$D$3,BaseRS_VID!$A$3:$I$913,8,0),\"N.A.\")","v":{"v":1573.14,"d":"1,573"}},{"$f":"+IFERROR(VLOOKUP($A21&$D$3,BaseRS_VID!$A$3:$I$913,9,0),\"N.A.\")","v":{"v":456.29,"d":"456"}}]
["MAPFRE VIDA",{"$f":"+IFERROR(VLOOKUP($A22&$D$3,BaseRS_VID!$A$3:$I$913,4,0),\"N.A.\")","v":{"v":211660.49,"d":"211,660"}},{"$f":"+IFERROR(VLOOKUP($A22&$D$3,BaseRS_VID!$A$3:$I$913,5,0),\"N.A.\")","v":{"v":13.07,"d":"13"}},{"$f":"+IFERROR(VLOOKUP($A22&$D$3,BaseRS_VID!$A$3:$I$913,6,0),\"N.A.\")","v":647},{"$f":"+IFERROR(VLOOKUP($A22&$D$3,BaseRS_VID!$A$3:$I$913,7,0),\"N.A.\")","v":{"v":5795.95,"d":"5,796"}},{"$f":"+IFERROR(VLOOKUP($A22&$D$3,BaseRS_VID!$A$3:$I$913,8,0),\"N.A.\")","v":{"v":18952.83,"d":"18,953"}},{"$f":"+IFERROR(VLOOKUP($A22&$D$3,BaseRS_VID!$A$3:$I$913,9,0),\"N.A.\")","v":{"v":10239.5,"d":"10,240"}}]
["METLIFE",{"$f":"+IFERROR(VLOOKUP($A23&$D$3,BaseRS_VID!$A$3:$I$913,4,0),\"N.A.\")","v":{"v":84144.22,"d":"84,144"}},{"$f":"+IFERROR(VLOOKUP($A23&$D$3,BaseRS_VID!$A$3:$I$913,5,0),\"N.A.\")","v":0},{"$f":"+IFERROR(VLOOKUP($A23&$D$3,BaseRS_VID!$A$3:$I$913,6,0),\"N.A.\")","v":0},{"$f":"+IFERROR(VLOOKUP($A23&$D$3,BaseRS_VID!$A$3:$I$913,7,0),\"N.A.\")","v":0},{"$f":"+IFERROR(VLOOKUP($A23&$D$3,BaseRS_VID!$A$3:$I$913,8,0),\"N.A.\")","v":{"v":47544.88,"d":"47,545"}},{"$f":"+IFERROR(VLOOKUP($A23&$D$3,BaseRS_VID!$A$3:$I$913,9,0),\"N.A.\")","v":{"v":17223.25,"d":"17,223"}}]
["PANAMERICAN VIDA",{"$f":"+IFERROR(VLOOKUP($A24&$D$3,BaseRS_VID!$A$3:$I$913,4,0),\"N.A.\")","v":{"v":1585.17,"d":"1,585"}},{"$f":"+IFERROR(VLOOKUP($A24&$D$3,BaseRS_VID!$A$3:$I$913,5,0),\"N.A.\")","v":0},{"$f":"+IFERROR(VLOOKUP($A24&$D$3,BaseRS_VID!$A$3:$I$913,6,0),\"N.A.\")","v":0},{"$f":"+IFERROR(VLOOKUP($A24&$D$3,BaseRS_VID!$A$3:$I$913,7,0),\"N.A.\")","v":0},{"$f":"+IFERROR(VLOOKUP($A24&$D$3,BaseRS_VID!$A$3:$I$913,8,0),\"N.A.\")","v":{"v":48582.58,"d":"48,583"}},{"$f":"+IFERROR(VLOOKUP($A24&$D$3,BaseRS_VID!$A$3:$I$913,9,0),\"N.A.\")","v":{"v":15899.43,"d":"15,899"}}]
["POSITIVA",{"$f":"+IFERROR(VLOOKUP($A25&$D$3,BaseRS_VID!$A$3:$I$913,4,0),\"N.A.\")","v":{"v":98292.19,"d":"98,292"}},{"$f":"+IFERROR(VLOOKUP($A25&$D$3,BaseRS_VID!$A$3:$I$913,5,0),\"N.A.\")","v":{"v":182396.17,"d":"182,396"}},{"$f":"+IFERROR(VLOOKUP($A25&$D$3,BaseRS_VID!$A$3:$I$913,6,0),\"N.A.\")","v":{"v":152567.6,"d":"152,568"}},{"$f":"+IFERROR(VLOOKUP($A25&$D$3,BaseRS_VID!$A$3:$I$913,7,0),\"N.A.\")","v":{"v":148260.92,"d":"148,261"}},{"$f":"+IFERROR(VLOOKUP($A25&$D$3,BaseRS_VID!$A$3:$I$913,8,0),\"N.A.\")","v":{"v":42378.91,"d":"42,379"}},{"$f":"+IFERROR(VLOOKUP($A25&$D$3,BaseRS_VID!$A$3:$I$913,9,0),\"N.A.\")","v":{"v":35079.54,"d":"35,080"}}]
["SKANDIA",{"$f":"+IFERROR(VLOOKUP($A26&$D$3,BaseRS_VID!$A$3:$I$913,4,0),\"N.A.\")","v":{"v":69821.95,"d":"69,822"}},{"$f":"+IFERROR(VLOOKUP($A26&$D$3,BaseRS_VID!$A$3:$I$913,5,0),\"N.A.\")","v":0},{"$f":"+IFERROR(VLOOKUP($A26&$D$3,BaseRS_VID!$A$3:$I$913,6,0),\"N.A.\")","v":0},{"$f":"+IFERROR(VLOOKUP($A26&$D$3,BaseRS_VID!$A$3:$I$913,7,0),\"N.A.\")","v":0},{"$f":"+IFERROR(VLOOKUP($A26&$D$3,BaseRS_VID!$A$3:$I$913,8,0),\"N.A.\")","v":0},{"$f":"+IFERROR(VLOOKUP($A26&$D$3,BaseRS_VID!$A$3:$I$913,9,0),\"N.A.\")","v":0}]
["SURAMERICANA VIDA",{"$f":"+IFERROR(VLOOKUP($A27&$D$3,BaseRS_VID!$A$3:$I$913,4,0),\"N.A.\")","v":{"v":235154.88,"d":"235,155"}},{"$f":"+IFERROR(VLOOKUP($A27&$D$3,BaseRS_VID!$A$3:$I$913,5,0),\"N.A.\")","v":{"v":300227.48,"d":"300,227"}},{"$f":"+IFERROR(VLOOKUP($A27&$D$3,BaseRS_VID!$A$3:$I$913,6,0),\"N.A.\")","v":{"v":204826.48,"d":"204,826"}},{"$f":"+IFERROR(VLOOKUP($A27&$D$3,BaseRS_VID!$A$3:$I$913,7,0),\"N.A.\")","v":{"v":187378.28,"d":"187,378"}},{"$f":"+IFERROR(VLOOKUP($A27&$D$3,BaseRS_VID!$A$3:$I$913,8,0),\"N.A.\")","v":{"v":793458.94,"d":"793,459"}},{"$f":"+IFERROR(VLOOKUP($A27&$D$3,BaseRS_VID!$A$3:$I$913,9,0),\"N.A.\")","v":{"v":574937.9,"d":"574,938"}}]

{"sheet":"BaseRA_GEN","index":10,"n_rows":83,"n_cols":9,"rows_kept":83,"hidden":true}
[{"$nulls":3},"CATEGORIA I","CATEGORIA II",null,"CATEGORIA III",null,"TOTAL RIESGO DE ACTIVO"]
[{"$nulls":3},"VALOR REPORTADO EN BALANCE O FORMATO","VALOR REPORTADO EN BALANCE O FORMATO","VR PONDERADO","VALOR REPORTADO EN BALANCE O FORMATO","VR PONDERADO","VR PONDERADO"]
[{"$f":"+B3&C3","v":"ALFA45777"},"ALFA","2025-04-30",{"v":105801.08,"d":"105,801.08"},{"v":55974.98,"d":"55,974.98"},839.62,{"v":155815.13,"d":"155,815.13"},{"v":4604.11,"d":"4,604.11"},{"$f":"+F3+H3","v":{"v":5443.73,"d":"5,443.73"}}]
[{"$f":"+B4&C4","v":"ALFA45808"},"ALFA","2025-05-31",{"v":113962.11,"d":"113,962.11"},{"v":66307.52,"d":"66,307.52"},994.61,{"v":161738.96,"d":"161,738.96"},{"v":4848.84,"d":"4,848.84"},{"$f":"+F4+H4","v":{"v":5843.45,"d":"5,843.45"}}]
["ALFA45838","ALFA","2025-06-30",{"v":113576.03,"d":"113,576.03"},{"v":67504.37,"d":"67,504.37"},{"v":1012.57,"d":"1,012.57"},{"v":215946.43,"d":"215,946.43"},{"v":4964.8,"d":"4,964.80"},{"v":5977.37,"d":"5,977.37"}]
["ALLIANZ45777","ALLIANZ","2025-04-30",{"v":1788371.93,"d":"1,788,371.93"},{"v":205178.51,"d":"205,178.51"},{"v":3077.68,"d":"3,077.68"},{"v":619234.31,"d":"619,234.31"},{"v":4348.13,"d":"4,348.13"},{"v":7425.8099999999995,"d":"7,425.81"}]
["ALLIANZ45808","ALLIANZ","2025-05-31",{"v":1806742.11,"d":"1,806,742.11"},{"v":201657.3,"d":"201,657.30"},{"v":3024.86,"d":"3,024.86"},{"v":611701.97,"d":"611,701.97"},{"v":4241.88,"d":"4,241.88"},{"v":7266.74,"d":"7,266.74"}]
["ALLIANZ45838","ALLIANZ","2025-06-30",{"v":1781667.86,"d":"1,781,667.86"},{"v":198735.48,"d":"198,735.48"},{"v":2981.03,"d":"2,981.03"},{"v":608031.06,"d":"608,031.06"},{"v":4517.15,"d":"4,517.15"},{"v":7498.18,"d":"7,498.18"}]
["AXA COLPATRIA45777","AXA COLPATRIA","2025-04-30",{"v":2972958.12,"d":"2,972,958.12"},{"v":553714.54,"d":"553,714.54"},{"v":8298.34,"d":"8,298.34"},{"v":1349801.72,"d":"1,349,801.72"},{"v":13209.17,"d":"13,209.17"},{"v":21507.510000000002,"d":"21,507.51"}]
["AXA COLPATRIA45808","AXA COLPATRIA","2025-05-31",{"v":2800520.39,"d":"2,800,520.39"},{"v":624792.54,"d":"624,792.54"},{"v":9362.49,"d":"9,362.49"},{"v":1392406.56,"d":"1,392,406.56"},{"v":13230.05,"d":"13,230.05"},{"v":22592.54,"d":"22,592.54"}]
["AXA COLPATRIA45838","AXA COLPATRIA","2025-06-30",{"v":2762537.95,"d":"2,762,537.95"},{"v":616753.2,"d":"616,753.20"},{"v":9244.5,"d":"9,244.50"},{"v":1395734.5,"d":"1,395,734.50"},{"v":12410.49,"d":"12,410.49"},{"v":21654.989999999998,"d":"21,654.99"}]
["BBVA SEGUROS45777","BBVA SEGUROS","2025-04-30",{"v":432486.59,"d":"432,486.59"},{"v":82957.33,"d":"82,957.33"},{"v":1244.36,"d":"1,244.36"},{"v":197866.56,"d":"197,866.56"},{"v":5673.85,"d":"5,673.85"},{"v":6918.21,"d":"6,918.21"}]
["BBVA SEGUROS45808","BBVA SEGUROS","2025-05-31",{"v":423060.76,"d":"423,060.76"},{"v":86940.3,"d":"86,940.30"},{"v":1304.1,"d":"1,304.10"},{"v":209100.05,"d":"209,100.05"},{"v":6048.51,"d":"6,048.51"},{"v":7352.610000000001,"d":"7,352.61"}]
["BBVA SEGUROS45838","BBVA SEGUROS","2025-06-30",{"v":431502.01,"d":"431,502.01"},{"v":85614.92,"d":"85,614.92"},{"v":1284.22,"d":"1,284.22"},{"v":229645.21,"d":"229,645.21"},{"v":6196.91,"d":"6,196.91"},{"v":7481.13,"d":"7,481.13"}]
["BERKLEY45777","BERKLEY","2025-04-30",{"v":206837.41,"d":"206,837.41"},{"v":1418.72,"d":"1,418.72"},21.28,{"v":250283.26,"d":"250,283.26"},387.92,{"v":409.20000000000005,"d":"409.20"}]
["BERKLEY45808","BERKLEY","2025-05-31",{"v":204626.22,"d":"204,626.22"},{"v":1201.52,"d":"1,201.52"},18.02,{"v":256766.74,"d":"256,766.74"},981.61,999.63]
["BERKLEY45838","BERKLEY","2025-06-30",{"v":202441.21,"d":"202,441.21"},{"v":1141.04,"d":"1,141.04"},17.12,{"v":260351.7,"d":"260,351.70"},{"v":1035.52,"d":"1,035.52"},{"v":1052.6399999999999,"d":"1,052.64"}]
["BOLIVAR45777","BOLIVAR","2025-04-30",{"v":1359301.72,"d":"1,359,301.72"},{"v":250808.77,"d":"250,808.77"},{"v":3762.13,"d":"3,762.13"},{"v":1767444.22,"d":"1,767,444.22"},{"v":13294.17,"d":"13,294.17"},{"v":17056.3,"d":"17,056.30"}]
["BOLIVAR45808","BOLIVAR","2025-05-31",{"v":1461803.05,"d":"1,461,803.05"},{"v":252454.1,"d":"252,454.10"},{"v":3786.81,"d":"3,786.81"},{"v":1907446.14,"d":"1,907,446.14"},{"v":21292.83,"d":"21,292.83"},{"v":25079.640000000003,"d":"25,079.64"}]
["BOLIVAR45838","BOLIVAR","2025-06-30",{"v":1425433.05,"d":"1,425,433.05"},{"v":250232.75,"d":"250,232.75"},{"v":3753.49,"d":"3,753.49"},{"v":1883233.54,"d":"1,883,233.54"},{"v":18505.05,"d":"18,505.05"},{"v":22258.54,"d":"22,258.54"}]
["CARDIF45777","CARDIF","2025-04-30",{"v":577758.81,"d":"577,758.81"},{"v":155994.92,"d":"155,994.92"},{"v":2339.92,"d":"2,339.92"},{"v":166692.77,"d":"166,692.77"},{"v":6984.23,"d":"6,984.23"},{"v":9324.15,"d":"9,324.15"}]
["CARDIF45808","CARDIF","2025-05-31",{"v":551320.99,"d":"551,320.99"},{"v":145333.84,"d":"145,333.84"},{"v":2180.01,"d":"2,180.01"},{"v":161157.83,"d":"161,157.83"},{"v":7171.48,"d":"7,171.48"},{"v":9351.49,"d":"9,351.49"}]
["CARDIF45838","CARDIF","2025-06-30",{"v":569038.7,"d":"569,038.70"},{"v":143880.39,"d":"143,880.39"},{"v":2158.21,"d":"2,158.21"},{"v":161493.51,"d":"161,493.51"},{"v":7178.34,"d":"7,178.34"},{"v":9336.55,"d":"9,336.55"}]
["CHUBB45777","CHUBB","2025-04-30",{"v":636003.3,"d":"636,003.30"},{"v":629175.52,"d":"629,175.52"},{"v":9437.63,"d":"9,437.63"},{"v":442659.51,"d":"442,659.51"},{"v":4171.31,"d":"4,171.31"},{"v":13608.939999999999,"d":"13,608.94"}]
["CHUBB45808","CHUBB","2025-05-31",{"v":656933.34,"d":"656,933.34"},{"v":620356.77,"d":"620,356.77"},{"v":9305.35,"d":"9,305.35"},{"v":487696.48,"d":"487,696.48"},{"v":7616.28,"d":"7,616.28"},{"v":16921.63,"d":"16,921.63"}]
["CHUBB45838","CHUBB","2025-06-30",{"v":656387.05,"d":"656,387.05"},{"v":615161.73,"d":"615,161.73"},{"v":9227.43,"d":"9,227.43"},{"v":473975,"d":"473,975.00"},{"v":6473.04,"d":"6,473.04"},{"v":15700.470000000001,"d":"15,700.47"}]
["COFACE45777","COFACE","2025-04-30",{"v":23663.18,"d":"23,663.18"},{"v":2301.81,"d":"2,301.81"},34.53,{"v":33667.36,"d":"33,667.36"},557.27,{"v":591.8,"d":"591.80"}]
["COFACE45808","COFACE","2025-05-31",{"v":24505.02,"d":"24,505.02"},{"v":1639.29,"d":"1,639.29"},24.59,{"v":31426.58,"d":"31,426.58"},371.83,{"v":396.41999999999996,"d":"396.42"}]
["COFACE45838","COFACE","2025-06-30",{"v":23596.61,"d":"23,596.61"},{"v":1687.79,"d":"1,687.79"},25.32,{"v":19622.79,"d":"19,622.79"},347.27,372.59]
["COLMENA45777","COLMENA","2025-04-30",{"v":36175.34,"d":"36,175.34"},{"v":5085.39,"d":"5,085.39"},76.28,{"v":92275.87,"d":"92,275.87"},{"v":3485.57,"d":"3,485.57"},{"v":3561.8500000000004,"d":"3,561.85"}]
["COLMENA45808","COLMENA","2025-05-31",{"v":35711.57,"d":"35,711.57"},{"v":5267.35,"d":"5,267.35"},79.01,{"v":86282.31,"d":"86,282.31"},{"v":2690.92,"d":"2,690.92"},{"v":2769.9300000000003,"d":"2,769.93"}]
["COLMENA45838","COLMENA","2025-06-30",{"v":36421,"d":"36,421.00"},{"v":5410.26,"d":"5,410.26"},81.15,{"v":87828.41,"d":"87,828.41"},{"v":2619.19,"d":"2,619.19"},{"v":2700.34,"d":"2,700.34"}]
["CONFIANZA45777","CONFIANZA","2025-04-30",{"v":297007.49,"d":"297,007.49"},{"v":129253.62,"d":"129,253.62"},{"v":1938.8,"d":"1,938.80"},{"v":640335.72,"d":"640,335.72"},{"v":7804.66,"d":"7,804.66"},{"v":9743.46,"d":"9,743.46"}]
["CONFIANZA45808","CONFIANZA","2025-05-31",{"v":288548.25,"d":"288,548.25"},{"v":130469.73,"d":"130,469.73"},{"v":1957.05,"d":"1,957.05"},{"v":658683.88,"d":"658,683.88"},{"v":8297.56,"d":"8,297.56"},{"v":10254.609999999999,"d":"10,254.61"}]
["CONFIANZA45838","CONFIANZA","2025-06-30",{"v":235996.52,"d":"235,996.52"},{"v":132536.77,"d":"132,536.77"},{"v":1988.05,"d":"1,988.05"},{"v":676085.95,"d":"676,085.95"},{"v":9067.52,"d":"9,067.52"},{"v":11055.57,"d":"11,055.57"}]
["EQUIDAD45777","EQUIDAD","2025-04-30",{"v":225606.94,"d":"225,606.94"},{"v":117818.07,"d":"117,818.07"},{"v":1767.27,"d":"1,767.27"},{"v":667119.14,"d":"667,119.14"},{"v":6150.25,"d":"6,150.25"},{"v":7917.52,"d":"7,917.52"}]
["EQUIDAD45808","EQUIDAD","2025-05-31",{"v":219419.38,"d":"219,419.38"},{"v":118863.02,"d":"118,863.02"},{"v":1782.95,"d":"1,782.95"},{"v":667679.43,"d":"667,679.43"},{"v":5347.8,"d":"5,347.80"},{"v":7130.75,"d":"7,130.75"}]
["EQUIDAD45838","EQUIDAD","2025-06-30",{"v":219156.84,"d":"219,156.84"},{"v":118071.92,"d":"118,071.92"},{"v":1771.08,"d":"1,771.08"},{"v":670631.37,"d":"670,631.37"},{"v":5463.04,"d":"5,463.04"},{"v":7234.12,"d":"7,234.12"}]
["ESTADO45777","ESTADO","2025-04-30",{"v":1391033.41,"d":"1,391,033.41"},{"v":355611.07,"d":"355,611.07"},{"v":5334.17,"d":"5,334.17"},{"v":1196579.58,"d":"1,196,579.58"},{"v":34431.14,"d":"34,431.14"},{"v":39765.31,"d":"39,765.31"}]
["ESTADO45808","ESTADO","2025-05-31",{"v":1408701.46,"d":"1,408,701.46"},{"v":346909.02,"d":"346,909.02"},{"v":5203.64,"d":"5,203.64"},{"v":1187637.31,"d":"1,187,637.31"},{"v":34837.13,"d":"34,837.13"},{"v":40040.77,"d":"40,040.77"}]
["ESTADO45838","ESTADO","2025-06-30",{"v":1389241.71,"d":"1,389,241.71"},{"v":324912.02,"d":"324,912.02"},{"v":4873.68,"d":"4,873.68"},{"v":1226911.59,"d":"1,226,911.59"},{"v":34295.36,"d":"34,295.36"},{"v":39169.04,"d":"39,169.04"}]
["EVEREST45777","EVEREST","2025-04-30",{"v":8228.75,"d":"8,228.75"},422.58,6.34,{"v":5603.71,"d":"5,603.71"},242.51,248.85]
["EVEREST45808","EVEREST","2025-05-31",{"v":8248.22,"d":"8,248.22"},415.22,6.23,{"v":7665.49,"d":"7,665.49"},337.72,{"v":343.95000000000005,"d":"343.95"}]
["EVEREST45838","EVEREST","2025-06-30",{"v":10840.34,"d":"10,840.34"},{"v":1254.37,"d":"1,254.37"},18.82,{"v":13497.75,"d":"13,497.75"},649.42,668.24]
["JMALUCELLI TRAVELERS45777","JMALUCELLI TRAVELERS","2025-04-30",{"v":72758.93,"d":"72,758.93"},{"v":4086.68,"d":"4,086.68"},{"v":61.3,"d":"61.30"},{"v":74112.99,"d":"74,112.99"},{"v":281.3,"d":"281.30"},{"v":342.6,"d":"342.60"}]
["JMALUCELLI TRAVELERS45808","JMALUCELLI TRAVELERS","2025-05-31",{"v":73945.24,"d":"73,945.24"},{"v":4071.8,"d":"4,071.80"},61.08,{"v":75416.42,"d":"75,416.42"},383.66,444.74]
["JMALUCELLI TRAVELERS45838","JMALUCELLI TRAVELERS","2025-06-30",{"v":67623.64,"d":"67,623.64"},{"v":4052.3,"d":"4,052.30"},60.78,{"v":85684.15,"d":"85,684.15"},{"v":1219.22,"d":"1,219.22"},{"v":1280,"d":"1,280.00"}]
["HDI SEGUROS45777","HDI SEGUROS","2025-04-30",{"v":2097885.29,"d":"2,097,885.29"},{"v":368861.17,"d":"368,861.17"},{"v":5532.92,"d":"5,532.92"},{"v":540207.84,"d":"540,207.84"},{"v":8354.88,"d":"8,354.88"},{"v":13887.8,"d":"13,887.80"}]
["HDI SEGUROS45808","HDI SEGUROS","2025-05-31",{"v":2131751.37,"d":"2,131,751.37"},{"v":358789.09,"d":"358,789.09"},{"v":5381.84,"d":"5,381.84"},{"v":528855.85,"d":"528,855.85"},{"v":7008.98,"d":"7,008.98"},{"v":12390.82,"d":"12,390.82"}]
["HDI SEGUROS45838","HDI SEGUROS","2025-06-30",{"v":2108834.02,"d":"2,108,834.02"},{"v":366528.61,"d":"366,528.61"},{"v":5497.93,"d":"5,497.93"},{"v":552413.82,"d":"552,413.82"},{"v":8832.08,"d":"8,832.08"},{"v":14330.01,"d":"14,330.01"}]
["MAPFRE45777","MAPFRE","2025-04-30",{"v":1552070.44,"d":"1,552,070.44"},{"v":299631.62,"d":"299,631.62"},{"v":4346.09,"d":"4,346.09"},{"v":1509797.22,"d":"1,509,797.22"},{"v":16426.91,"d":"16,426.91"},{"v":20773,"d":"20,773.00"}]
["MAPFRE45808","MAPFRE","2025-05-31",{"v":1514952.9,"d":"1,514,952.90"},{"v":312444.7,"d":"312,444.70"},{"v":4538.29,"d":"4,538.29"},{"v":1423472.78,"d":"1,423,472.78"},{"v":17163.96,"d":"17,163.96"},{"v":21702.25,"d":"21,702.25"}]
["MAPFRE45838","MAPFRE","2025-06-30",{"v":1524109.22,"d":"1,524,109.22"},{"v":307990.71,"d":"307,990.71"},{"v":4471.48,"d":"4,471.48"},{"v":1371473.15,"d":"1,371,473.15"},{"v":14586.44,"d":"14,586.44"},{"v":19057.92,"d":"19,057.92"}]
["MUNDIAL45777","MUNDIAL","2025-04-30",{"v":803153.29,"d":"803,153.29"},{"v":180545.91,"d":"180,545.91"},{"v":2708.19,"d":"2,708.19"},{"v":1554245.91,"d":"1,554,245.91"},{"v":9813.02,"d":"9,813.02"},{"v":12521.210000000001,"d":"12,521.21"}]
["MUNDIAL45808","MUNDIAL","2025-05-31",{"v":744022.23,"d":"744,022.23"},{"v":231677.92,"d":"231,677.92"},{"v":3475.17,"d":"3,475.17"},{"v":1544942.08,"d":"1,544,942.08"},{"v":9514.2,"d":"9,514.20"},{"v":12989.37,"d":"12,989.37"}]
["MUNDIAL45838","MUNDIAL","2025-06-30",{"v":736754.95,"d":"736,754.95"},{"v":250434.5,"d":"250,434.50"},{"v":3756.52,"d":"3,756.52"},{"v":1551387.47,"d":"1,551,387.47"},{"v":9543.17,"d":"9,543.17"},{"v":13299.69,"d":"13,299.69"}]
["NACIONAL45777","NACIONAL","2025-04-30",{"v":101152.68,"d":"101,152.68"},{"v":6099.71,"d":"6,099.71"},{"v":91.5,"d":"91.50"},{"v":707806.88,"d":"707,806.88"},{"v":4761.61,"d":"4,761.61"},{"v":4853.11,"d":"4,853.11"}]
["NACIONAL45808","NACIONAL","2025-05-31",{"v":111506.93,"d":"111,506.93"},{"v":3028.19,"d":"3,028.19"},45.42,{"v":710513.6,"d":"710,513.60"},{"v":4846.93,"d":"4,846.93"},{"v":4892.35,"d":"4,892.35"}]
["NACIONAL45838","NACIONAL","2025-06-30",{"v":122060.23,"d":"122,060.23"},2.11,0.03,{"v":717831.91,"d":"717,831.91"},{"v":5640.92,"d":"5,640.92"},{"v":5640.95,"d":"5,640.95"}]
["PREVISORA45777","PREVISORA","2025-04-30",{"v":1241951.11,"d":"1,241,951.11"},{"v":1064865.29,"d":"1,064,865.29"},{"v":15972.98,"d":"15,972.98"},{"v":2133772.78,"d":"2,133,772.78"},{"v":24924.79,"d":"24,924.79"},{"v":40897.770000000004,"d":"40,897.77"}]
["PREVISORA45808","PREVISORA","2025-05-31",{"v":1185864.39,"d":"1,185,864.39"},{"v":1029529.38,"d":"1,029,529.38"},{"v":15442.94,"d":"15,442.94"},{"v":2188324.76,"d":"2,188,324.76"},{"v":24537.31,"d":"24,537.31"},{"v":39980.25,"d":"39,980.25"}]
["PREVISORA45838","PREVISORA","2025-06-30",{"v":1170871.56,"d":"1,170,871.56"},{"v":1027306.73,"d":"1,027,306.73"},{"v":15409.6,"d":"15,409.60"},{"v":2151226.39,"d":"2,151,226.39"},{"v":25052.14,"d":"25,052.14"},{"v":40461.74,"d":"40,461.74"}]
["QUALITAS45777","QUALITAS","2025-04-30",{"v":0,"d":"0.00"},{"v":0,"d":"0.00"},{"v":0,"d":"0.00"},{"v":2707.61,"d":"2,707.61"},88.96,88.96]
["QUALITAS45808","QUALITAS","2025-05-31",{"v":0,"d":"0.00"},{"v":0,"d":"0.00"},{"v":0,"d":"0.00"},{"v":2707.61,"d":"2,707.61"},88.96,88.96]
["QUALITAS45838","QUALITAS","2025-06-30",{"v":0,"d":"0.00"},{"v":0,"d":"0.00"},{"v":0,"d":"0.00"},{"v":3255.34,"d":"3,255.34"},{"v":134.3,"d":"134.30"},{"v":134.3,"d":"134.30"}]
["SBS SEGUROS45777","SBS SEGUROS","2025-04-30",{"v":1253561.23,"d":"1,253,561.23"},{"v":76164.73,"d":"76,164.73"},{"v":1142.47,"d":"1,142.47"},{"v":564561.57,"d":"564,561.57"},{"v":8033.06,"d":"8,033.06"},{"v":9175.53,"d":"9,175.53"}]
["SBS SEGUROS45808","SBS SEGUROS","2025-05-31",{"v":1274726.61,"d":"1,274,726.61"},{"v":72595.23,"d":"72,595.23"},{"v":1088.93,"d":"1,088.93"},{"v":584088.36,"d":"584,088.36"},{"v":9559.83,"d":"9,559.83"},{"v":10648.76,"d":"10,648.76"}]
[{"$f":"+B68&C68","v":"SBS SEGUROS45838"},"SBS SEGUROS","2025-06-30",{"v":1355673.31,"d":"1,355,673.31"},{"v":76891.01,"d":"76,891.01"},{"v":1153.37,"d":"1,153.37"},{"v":536792.64,"d":"536,792.64"},{"v":7412.04,"d":"7,412.04"},{"$f":"+F68+H68","v":{"v":8565.41,"d":"8,565.41"}}]
["SEGUREXPO45777","SEGUREXPO","2025-04-30",{"v":10131.14,"d":"10,131.14"},{"v":92875.87,"d":"92,875.87"},{"v":1393.14,"d":"1,393.14"},{"v":145665.82,"d":"145,665.82"},965.66,{"v":2358.8,"d":"2,358.80"}]
["SEGUREXPO45808","SEGUREXPO","2025-05-31",{"v":10816.48,"d":"10,816.48"},{"v":93016.95,"d":"93,016.95"},{"v":1395.25,"d":"1,395.25"},{"v":143631.42,"d":"143,631.42"},922.86,{"v":2318.11,"d":"2,318.11"}]
["SEGUREXPO45838","SEGUREXPO","2025-06-30",{"v":17140.54,"d":"17,140.54"},{"v":93141.09,"d":"93,141.09"},{"v":1397.12,"d":"1,397.12"},{"v":140000.75,"d":"140,000.75"},{"v":1031.38,"d":"1,031.38"},{"v":2428.5,"d":"2,428.50"}]
["SOLIDARIA45777","SOLIDARIA","2025-04-30",{"v":595604.07,"d":"595,604.07"},{"v":237204.71,"d":"237,204.71"},{"v":3558.07,"d":"3,558.07"},{"v":404095.35,"d":"404,095.35"},{"v":4105.37,"d":"4,105.37"},{"v":7663.4400000000005,"d":"7,663.44"}]
["SOLIDARIA45808","SOLIDARIA","2025-05-31",{"v":638012.49,"d":"638,012.49"},{"v":237746.33,"d":"237,746.33"},{"v":3566.19,"d":"3,566.19"},{"v":406656.27,"d":"406,656.27"},{"v":3915.14,"d":"3,915.14"},{"v":7481.33,"d":"7,481.33"}]
["SOLIDARIA45838","SOLIDARIA","2025-06-30",{"v":650504.49,"d":"650,504.49"},{"v":238882.27,"d":"238,882.27"},{"v":3583.23,"d":"3,583.23"},{"v":407794.75,"d":"407,794.75"},{"v":3916.05,"d":"3,916.05"},{"v":7499.280000000001,"d":"7,499.28"}]
["SOLUNION45777","SOLUNION","2025-04-30",{"v":138496.34,"d":"138,496.34"},{"v":7961.65,"d":"7,961.65"},119.42,{"v":139195.68,"d":"139,195.68"},{"v":1098.41,"d":"1,098.41"},{"v":1217.8300000000002,"d":"1,217.83"}]
["SOLUNION45808","SOLUNION","2025-05-31",{"v":151530.83,"d":"151,530.83"},{"v":9013.05,"d":"9,013.05"},{"v":135.2,"d":"135.20"},{"v":145498.1,"d":"145,498.10"},{"v":1240.32,"d":"1,240.32"},{"v":1375.52,"d":"1,375.52"}]
[{"$f":"+B77&C77","v":"SOLUNION45838"},"SOLUNION","2025-06-30",{"v":148778.84,"d":"148,778.84"},{"v":9000.26,"d":"9,000.26"},{"v":135,"d":"135.00"},{"v":129536.11,"d":"129,536.11"},901.35,{"v":1036.35,"d":"1,036.35"}]
[{"$f":"+B78&C78","v":"SURAMERICANA45777"},"SURAMERICANA","2025-04-30",{"v":3329747.24,"d":"3,329,747.24"},{"v":353586.51,"d":"353,586.51"},{"v":5303.45,"d":"5,303.45"},{"v":2388159.25,"d":"2,388,159.25"},{"v":51211.78,"d":"51,211.78"},{"v":56515.229999999996,"d":"56,515.23"}]
["SURAMERICANA45808","SURAMERICANA","2025-05-31",{"v":3281721.62,"d":"3,281,721.62"},{"v":338068.39,"d":"338,068.39"},{"v":5070.86,"d":"5,070.86"},{"v":2339142.78,"d":"2,339,142.78"},{"v":46449.44,"d":"46,449.44"},{"v":51520.3,"d":"51,520.30"}]
["SURAMERICANA45838","SURAMERICANA","2025-06-30",{"v":3259959.66,"d":"3,259,959.66"},{"v":294545.26,"d":"294,545.26"},{"v":4417.94,"d":"4,417.94"},{"v":2370218.99,"d":"2,370,218.99"},{"v":53848.21,"d":"53,848.21"},{"v":58266.15,"d":"58,266.15"}]
["ZURICH45777","ZURICH","2025-04-30",{"v":461522.93,"d":"461,522.93"},{"v":143476.66,"d":"143,476.66"},{"v":2147.69,"d":"2,147.69"},{"v":474681.25,"d":"474,681.25"},{"v":12421.41,"d":"12,421.41"},{"v":14569.1,"d":"14,569.10"}]
["ZURICH45808","ZURICH","2025-05-31",{"v":459293.75,"d":"459,293.75"},{"v":137448.54,"d":"137,448.54"},{"v":2057.27,"d":"2,057.27"},{"v":464050.56,"d":"464,050.56"},{"v":11480.68,"d":"11,480.68"},{"v":13537.95,"d":"13,537.95"}]
["ZURICH45838","ZURICH","2025-06-30",{"v":469246.05,"d":"469,246.05"},{"v":122861.33,"d":"122,861.33"},{"v":1838.46,"d":"1,838.46"},{"v":490027.74,"d":"490,027.74"},{"v":12972.41,"d":"12,972.41"},{"v":14810.869999999999,"d":"14,810.87"}]

{"sheet":"RA_GEN","index":11,"n_rows":33,"n_cols":7,"rows_kept":33,"merged":[[0,1,0,6],[1,3,1,4],[2,3,2,4],[3,3,3,4],[4,0,5,0],[4,2,4,3],[4,4,4,5]]}
[null,"COMPAÑÍAS DE SEGUROS GENERALES"]
[{"$nulls":3},"RIESGO DE ACTIVOS"]
[{"$nulls":3},"2025-06-30"]
[{"$nulls":3},"CIFRAS EN MILLONES DE PESOS"]
["COMPAÑÍAS","CATEGORÍA I","CATEGORÍA II",null,"CATEGORÍA III",null,"TOTAL RIESGO DE ACTIVO"]
[null,"Valor reportado en balance o formato","Valor reportado en balance o formato","Valor ponderado","Valor reportado en balance o formato","Valor ponderado","Valor Ponderado"]
["ALFA",{"$f":"+IFERROR(VLOOKUP($A7&$D$3,BaseRA_GEN!$A$3:$I$857,4,0),\"N.A.\")","v":{"v":113576.03,"d":"113,576"}},{"$f":"+IFERROR(VLOOKUP($A7&$D$3,BaseRA_GEN!$A$3:$I$857,5,0),\"N.A.\")","v":{"v":67504.37,"d":"67,504"}},{"$f":"+IFERROR(VLOOKUP($A7&$D$3,BaseRA_GEN!$A$3:$I$857,6,0),\"N.A.\")","v":{"v":1012.57,"d":"1,013"}},{"$f":"+IFERROR(VLOOKUP($A7&$D$3,BaseRA_GEN!$A$3:$I$857,7,0),\"N.A.\")","v":{"v":215946.43,"d":"215,946"}},{"$f":"+IFERROR(VLOOKUP($A7&$D$3,BaseRA_GEN!$A$3:$I$857,8,0),\"N.A.\")","v":{"v":4964.8,"d":"4,965"}},{"$f":"+IFERROR(VLOOKUP($A7&$D$3,BaseRA_GEN!$A$3:$I$857,9,0),\"N.A.\")","v":{"v":5977.37,"d":"5,977"}}]
["ALLIANZ",{"$f":"+IFERROR(VLOOKUP($A8&$D$3,BaseRA_GEN!$A$3:$I$857,4,0),\"N.A.\")","v":{"v":1781667.86,"d":"1,781,668"}},{"$f":"+IFERROR(VLOOKUP($A8&$D$3,BaseRA_GEN!$A$3:$I$857,5,0),\"N.A.\")","v":{"v":198735.48,"d":"198,735"}},{"$f":"+IFERROR(VLOOKUP($A8&$D$3,BaseRA_GEN!$A$3:$I$857,6,0),\"N.A.\")","v":{"v":2981.03,"d":"2,981"}},{"$f":"+IFERROR(VLOOKUP($A8&$D$3,BaseRA_GEN!$A$3:$I$857,7,0),\"N.A.\")","v":{"v":608031.06,"d":"608,031"}},{"$f":"+IFERROR(VLOOKUP($A8&$D$3,BaseRA_GEN!$A$3:$I$857,8,0),\"N.A.\")","v":{"v":4517.15,"d":"4,517"}},{"$f":"+IFERROR(VLOOKUP($A8&$D$3,BaseRA_GEN!$A$3:$I$857,9,0),\"N.A.\")","v":{"v":7498.18,"d":"7,498"}}]
["AXA COLPATRIA",{"$f":"+IFERROR(VLOOKUP($A9&$D$3,BaseRA_GEN!$A$3:$I$857,4,0),\"N.A.\")","v":{"v":2762537.95,"d":"2,762,538"}},{"$f":"+IFERROR(VLOOKUP($A9&$D$3,BaseRA_GEN!$A$3:$I$857,5,0),\"N.A.\")","v":{"v":616753.2,"d":"616,753"}},{"$f":"+IFERROR(VLOOKUP($A9&$D$3,BaseRA_GEN!$A$3:$I$857,6,0),\"N.A.\")","v":{"v":9244.5,"d":"9,245"}},{"$f":"+IFERROR(VLOOKUP($A9&$D$3,BaseRA_GEN!$A$3:$I$857,7,0),\"N.A.\")","v":{"v":1395734.5,"d":"1,395,735"}},{"$f":"+IFERROR(VLOOKUP($A9&$D$3,BaseRA_GEN!$A$3:$I$857,8,0),\"N.A.\")","v":{"v":12410.49,"d":"12,410"}},{"$f":"+IFERROR(VLOOKUP($A9&$D$3,BaseRA_GEN!$A$3:$I$857,9,0),\"N.A.\")","v":{"v":21654.989999999998,"d":"21,655"}}]
["BBVA SEGUROS",{"$f":"+IFERROR(VLOOKUP($A10&$D$3,BaseRA_GEN!$A$3:$I$857,4,0),\"N.A.\")","v":{"v":431502.01,"d":"431,502"}},{"$f":"+IFERROR(VLOOKUP($A10&$D$3,BaseRA_GEN!$A$3:$I$857,5,0),\"N.A.\")","v":{"v":85614.92,"d":"85,615"}},{"$f":"+IFERROR(VLOOKUP($A10&$D$3,BaseRA_GEN!$A$3:$I$857,6,0),\"N.A.\")","v":{"v":1284.22,"d":"1,284"}},{"$f":"+IFERROR(VLOOKUP($A10&$D$3,BaseRA_GEN!$A$3:$I$857,7,0),\"N.A.\")","v":{"v":229645.21,"d":"229,645"}},{"$f":"+IFERROR(VLOOKUP($A10&$D$3,BaseRA_GEN!$A$3:$I$857,8,0),\"N.A.\")","v":{"v":6196.91,"d":"6,197"}},{"$f":"+IFERROR(VLOOKUP($A10&$D$3,BaseRA_GEN!$A$3:$I$857,9,0),\"N.A.\")","v":{"v":7481.13,"d":"7,481"}}]
["BERKLEY",{"$f":"+IFERROR(VLOOKUP($A11&$D$3,BaseRA_GEN!$A$3:$I$857,4,0),\"N.A.\")","v":{"v":202441.21,"d":"202,441"}},{"$f":"+IFERROR(VLOOKUP($A11&$D$3,BaseRA_GEN!$A$3:$I$857,5,0),\"N.A.\")","v":{"v":1141.04,"d":"1,141"}},{"$f":"+IFERROR(VLOOKUP($A11&$D$3,BaseRA_GEN!$A$3:$I$857,6,0),\"N.A.\")","v":{"v":17.12,"d":"17"}},{"$f":"+IFERROR(VLOOKUP($A11&$D$3,BaseRA_GEN!$A$3:$I$857,7,0),\"N.A.\")","v":{"v":260351.7,"d":"260,352"}},{"$f":"+IFERROR(VLOOKUP($A11&$D$3,BaseRA_GEN!$A$3:$I$857,8,0),\"N.A.\")","v":{"v":1035.52,"d":"1,036"}},{"$f":"+IFERROR(VLOOKUP($A11&$D$3,BaseRA_GEN!$A$3:$I$857,9,0),\"N.A.\")","v":{"v":1052.6399999999999,"d":"1,053"}}]
["BOLIVAR",{"$f":"+IFERROR(VLOOKUP($A12&$D$3,BaseRA_GEN!$A$3:$I$857,4,0),\"N.A.\")","v":{"v":1425433.05,"d":"1,425,433"}},{"$f":"+IFERROR(VLOOKUP($A12&$D$3,BaseRA_GEN!$A$3:$I$857,5,0),\"N.A.\")","v":{"v":250232.75,"d":"250,233"}},{"$f":"+IFERROR(VLOOKUP($A12&$D$3,BaseRA_GEN!$A$3:$I$857,6,0),\"N.A.\")","v":{"v":3753.49,"d":"3,753"}},{"$f":"+IFERROR(VLOOKUP($A12&$D$3,BaseRA_GEN!$A$3:$I$857,7,0),\"N.A.\")","v":{"v":1883233.54,"d":"1,883,234"}},{"$f":"+IFERROR(VLOOKUP($A12&$D$3,BaseRA_GEN!$A$3:$I$857,8,0),\"N.A.\")","v":{"v":18505.05,"d":"18,505"}},{"$f":"+IFERROR(VLOOKUP($A12&$D$3,BaseRA_GEN!$A$3:$I$857,9,0),\"N.A.\")","v":{"v":22258.54,"d":"22,259"}}]
["CARDIF",{"$f":"+IFERROR(VLOOKUP($A13&$D$3,BaseRA_GEN!$A$3:$I$857,4,0),\"N.A.\")","v":{"v":569038.7,"d":"569,039"}},{"$f":"+IFERROR(VLOOKUP($A13&$D$3,BaseRA_GEN!$A$3:$I$857,5,0),\"N.A.\")","v":{"v":143880.39,"d":"143,880"}},{"$f":"+IFERROR(VLOOKUP($A13&$D$3,BaseRA_GEN!$A$3:$I$857,6,0),\"N.A.\")","v":{"v":2158.21,"d":"2,158"}},{"$f":"+IFERROR(VLOOKUP($A13&$D$3,BaseRA_GEN!$A$3:$I$857,7,0),\"N.A.\")","v":{"v":161493.51,"d":"161,494"}},{"$f":"+IFERROR(VLOOKUP($A13&$D$3,BaseRA_GEN!$A$3:$I$857,8,0),\"N.A.\")","v":{"v":7178.34,"d":"7,178"}},{"$f":"+IFERROR(VLOOKUP($A13&$D$3,BaseRA_GEN!$A$3:$I$857,9,0),\"N.A.\")","v":{"v":9336.55,"d":"9,337"}}]
["CHUBB",{"$f":"+IFERROR(VLOOKUP($A14&$D$3,BaseRA_GEN!$A$3:$I$857,4,0),\"N.A.\")","v":{"v":656387.05,"d":"656,387"}},{"$f":"+IFERROR(VLOOKUP($A14&$D$3,BaseRA_GEN!$A$3:$I$857,5,0),\"N.A.\")","v":{"v":615161.73,"d":"615,162"}},{"$f":"+IFERROR(VLOOKUP($A14&$D$3,BaseRA_GEN!$A$3:$I$857,6,0),\"N.A.\")","v":{"v":9227.43,"d":"9,227"}},{"$f":"+IFERROR(VLOOKUP($A14&$D$3,BaseRA_GEN!$A$3:$I$857,7,0),\"N.A.\")","v":{"v":473975,"d":"473,975"}},{"$f":"+IFERROR(VLOOKUP($A14&$D$3,BaseRA_GEN!$A$3:$I$857,8,0),\"N.A.\")","v":{"v":6473.04,"d":"6,473"}},{"$f":"+IFERROR(VLOOKUP($A14&$D$3,BaseRA_GEN!$A$3:$I$857,9,0),\"N.A.\")","v":{"v":15700.470000000001,"d":"15,700"}}]
["COFACE",{"$f":"+IFERROR(VLOOKUP($A15&$D$3,BaseRA_GEN!$A$3:$I$857,4,0),\"N.A.\")","v":{"v":23596.61,"d":"23,597"}},{"$f":"+IFERROR(VLOOKUP($A15&$D$3,BaseRA_GEN!$A$3:$I$857,5,0),\"N.A.\")","v":{"v":1687.79,"d":"1,688"}},{"$f":"+IFERROR(VLOOKUP($A15&$D$3,BaseRA_GEN!$A$3:$I$857,6,0),\"N.A.\")","v":{"v":25.32,"d":"25"}},{"$f":"+IFERROR(VLOOKUP($A15&$D$3,BaseRA_GEN!$A$3:$I$857,7,0),\"N.A.\")","v":{"v":19622.79,"d":"19,623"}},{"$f":"+IFERROR(VLOOKUP($A15&$D$3,BaseRA_GEN!$A$3:$I$857,8,0),\"N.A.\")","v":{"v":347.27,"d":"347"}},{"$f":"+IFERROR(VLOOKUP($A15&$D$3,BaseRA_GEN!$A$3:$I$857,9,0),\"N.A.\")","v":{"v":372.59,"d":"373"}}]
["COLMENA",{"$f":"+IFERROR(VLOOKUP($A16&$D$3,BaseRA_GEN!$A$3:$I$857,4,0),\"N.A.\")","v":{"v":36421,"d":"36,421"}},{"$f":"+IFERROR(VLOOKUP($A16&$D$3,BaseRA_GEN!$A$3:$I$857,5,0),\"N.A.\")","v":{"v":5410.26,"d":"5,410"}},{"$f":"+IFERROR(VLOOKUP($A16&$D$3,BaseRA_GEN!$A$3:$I$857,6,0),\"N.A.\")","v":{"v":81.15,"d":"81"}},{"$f":"+IFERROR(VLOOKUP($A16&$D$3,BaseRA_GEN!$A$3:$I$857,7,0),\"N.A.\")","v":{"v":87828.41,"d":"87,828"}},{"$f":"+IFERROR(VLOOKUP($A16&$D$3,BaseRA_GEN!$A$3:$I$857,8,0),\"N.A.\")","v":{"v":2619.19,"d":"2,619"}},{"$f":"+IFERROR(VLOOKUP($A16&$D$3,BaseRA_GEN!$A$3:$I$857,9,0),\"N.A.\")","v":{"v":2700.34,"d":"2,700"}}]
["CONFIANZA",{"$f":"+IFERROR(VLOOKUP($A17&$D$3,BaseRA_GEN!$A$3:$I$857,4,0),\"N.A.\")","v":{"v":235996.52,"d":"235,997"}},{"$f":"+IFERROR(VLOOKUP($A17&$D$3,BaseRA_GEN!$A$3:$I$857,5,0),\"N.A.\")","v":{"v":132536.77,"d":"132,537"}},{"$f":"+IFERROR(VLOOKUP($A17&$D$3,BaseRA_GEN!$A$3:$I$857,6,0),\"N.A.\")","v":{"v":1988.05,"d":"1,988"}},{"$f":"+IFERROR(VLOOKUP($A17&$D$3,BaseRA_GEN!$A$3:$I$857,7,0),\"N.A.\")","v":{"v":676085.95,"d":"676,086"}},{"$f":"+IFERROR(VLOOKUP($A17&$D$3,BaseRA_GEN!$A$3:$I$857,8,0),\"N.A.\")","v":{"v":9067.52,"d":"9,068"}},{"$f":"+IFERROR(VLOOKUP($A17&$D$3,BaseRA_GEN!$A$3:$I$857,9,0),\"N.A.\")","v":{"v":11055.57,"d":"11,056"}}]
["EQUIDAD",{"$f":"+IFERROR(VLOOKUP($A18&$D$3,BaseRA_GEN!$A$3:$I$857,4,0),\"N.A.\")","v":{"v":219156.84,"d":"219,157"}},{"$f":"+IFERROR(VLOOKUP($A18&$D$3,BaseRA_GEN!$A$3:$I$857,5,0),\"N.A.\")","v":{"v":118071.92,"d":"118,072"}},{"$f":"+IFERROR(VLOOKUP($A18&$D$3,BaseRA_GEN!$A$3:$I$857,6,0),\"N.A.\")","v":{"v":1771.08,"d":"1,771"}},{"$f":"+IFERROR(VLOOKUP($A18&$D$3,BaseRA_GEN!$A$3:$I$857,7,0),\"N.A.\")","v":{"v":670631.37,"d":"670,631"}},{"$f":"+IFERROR(VLOOKUP($A18&$D$3,BaseRA_GEN!$A$3:$I$857,8,0),\"N.A.\")","v":{"v":5463.04,"d":"5,463"}},{"$f":"+IFERROR(VLOOKUP($A18&$D$3,BaseRA_GEN!$A$3:$I$857,9,0),\"N.A.\")","v":{"v":7234.12,"d":"7,234"}}]
["ESTADO",{"$f":"+IFERROR(VLOOKUP($A19&$D$3,BaseRA_GEN!$A$3:$I$857,4,0),\"N.A.\")","v":{"v":1389241.71,"d":"1,389,242"}},{"$f":"+IFERROR(VLOOKUP($A19&$D$3,BaseRA_GEN!$A$3:$I$857,5,0),\"N.A.\")","v":{"v":324912.02,"d":"324,912"}},{"$f":"+IFERROR(VLOOKUP($A19&$D$3,BaseRA_GEN!$A$3:$I$857,6,0),\"N.A.\")","v":{"v":4873.68,"d":"4,874"}},{"$f":"+IFERROR(VLOOKUP($A19&$D$3,BaseRA_GEN!$A$3:$I$857,7,0),\"N.A.\")","v":{"v":1226911.59,"d":"1,226,912"}},{"$f":"+IFERROR(VLOOKUP($A19&$D$3,BaseRA_GEN!$A$3:$I$857,8,0),\"N.A.\")","v":{"v":34295.36,"d":"34,295"}},{"$f":"+IFERROR(VLOOKUP($A19&$D$3,BaseRA_GEN!$A$3:$I$857,9,0),\"N.A.\")","v":{"v":39169.04,"d":"39,169"}}]
["EVEREST",{"$f":"+IFERROR(VLOOKUP($A20&$D$3,BaseRA_GEN!$A$3:$I$857,4,0),\"N.A.\")","v":{"v":10840.34,"d":"10,840"}},{"$f":"+IFERROR(VLOOKUP($A20&$D$3,BaseRA_GEN!$A$3:$I$857,5,0),\"N.A.\")","v":{"v":1254.37,"d":"1,254"}},{"$f":"+IFERROR(VLOOKUP($A20&$D$3,BaseRA_GEN!$A$3:$I$857,6,0),\"N.A.\")","v":{"v":18.82,"d":"19"}},{"$f":"+IFERROR(VLOOKUP($A20&$D$3,BaseRA_GEN!$A$3:$I$857,7,0),\"N.A.\")","v":{"v":13497.75,"d":"13,498"}},{"$f":"+IFERROR(VLOOKUP($A20&$D$3,BaseRA_GEN!$A$3:$I$857,8,0),\"N.A.\")","v":{"v":649.42,"d":"649"}},{"$f":"+IFERROR(VLOOKUP($A20&$D$3,BaseRA_GEN!$A$3:$I$857,9,0),\"N.A.\")","v":{"v":668.24,"d":"668"}}]
["HDI SEGUROS",{"$f":"+IFERROR(VLOOKUP($A21&$D$3,BaseRA_GEN!$A$3:$I$857,4,0),\"N.A.\")","v":{"v":2108834.02,"d":"2,108,834"}},{"$f":"+IFERROR(VLOOKUP($A21&$D$3,BaseRA_GEN!$A$3:$I$857,5,0),\"N.A.\")","v":{"v":366528.61,"d":"366,529"}},{"$f":"+IFERROR(VLOOKUP($A21&$D$3,BaseRA_GEN!$A$3:$I$857,6,0),\"N.A.\")","v":{"v":5497.93,"d":"5,498"}},{"$f":"+IFERROR(VLOOKUP($A21&$D$3,BaseRA_GEN!$A$3:$I$857,7,0),\"N.A.\")","v":{"v":552413.82,"d":"552,414"}},{"$f":"+IFERROR(VLOOKUP($A21&$D$3,BaseRA_GEN!$A$3:$I$857,8,0),\"N.A.\")","v":{"v":8832.08,"d":"8,832"}},{"$f":"+IFERROR(VLOOKUP($A21&$D$3,BaseRA_GEN!$A$3:$I$857,9,0),\"N.A.\")","v":{"v":14330.01,"d":"14,330"}}]
["JMALUCELLI TRAVELERS",{"$f":"+IFERROR(VLOOKUP($A22&$D$3,BaseRA_GEN!$A$3:$I$857,4,0),\"N.A.\")","v":{"v":67623.64,"d":"67,624"}},{"$f":"+IFERROR(VLOOKUP($A22&$D$3,BaseRA_GEN!$A$3:$I$857,5,0),\"N.A.\")","v":{"v":4052.3,"d":"4,052"}},{"$f":"+IFERROR(VLOOKUP($A22&$D$3,BaseRA_GEN!$A$3:$I$857,6,0),\"N.A.\")","v":{"v":60.78,"d":"61"}},{"$f":"+IFERROR(VLOOKUP($A22&$D$3,BaseRA_GEN!$A$3:$I$857,7,0),\"N.A.\")","v":{"v":85684.15,"d":"85,684"}},{"$f":"+IFERROR(VLOOKUP($A22&$D$3,BaseRA_GEN!$A$3:$I$857,8,0),\"N.A.\")","v":{"v":1219.22,"d":"1,219"}},{"$f":"+IFERROR(VLOOKUP($A22&$D$3,BaseRA_GEN!$A$3:$I$857,9,0),\"N.A.\")","v":{"v":1280,"d":"1,280"}}]
["MAPFRE",{"$f":"+IFERROR(VLOOKUP($A23&$D$3,BaseRA_GEN!$A$3:$I$857,4,0),\"N.A.\")","v":{"v":1524109.22,"d":"1,524,109"}},{"$f":"+IFERROR(VLOOKUP($A23&$D$3,BaseRA_GEN!$A$3:$I$857,5,0),\"N.A.\")","v":{"v":307990.71,"d":"307,991"}},{"$f":"+IFERROR(VLOOKUP($A23&$D$3,BaseRA_GEN!$A$3:$I$857,6,0),\"N.A.\")","v":{"v":4471.48,"d":"4,471"}},{"$f":"+IFERROR(VLOOKUP($A23&$D$3,BaseRA_GEN!$A$3:$I$857,7,0),\"N.A.\")","v":{"v":1371473.15,"d":"1,371,473"}},{"$f":"+IFERROR(VLOOKUP($A23&$D$3,BaseRA_GEN!$A$3:$I$857,8,0),\"N.A.\")","v":{"v":14586.44,"d":"14,586"}},{"$f":"+IFERROR(VLOOKUP($A23&$D$3,BaseRA_GEN!$A$3:$I$857,9,0),\"N.A.\")","v":{"v":19057.92,"d":"19,058"}}]
["MUNDIAL",{"$f":"+IFERROR(VLOOKUP($A24&$D$3,BaseRA_GEN!$A$3:$I$857,4,0),\"N.A.\")","v":{"v":736754.95,"d":"736,755"}},{"$f":"+IFERROR(VLOOKUP($A24&$D$3,BaseRA_GEN!$A$3:$I$857,5,0),\"N.A.\")","v":{"v":250434.5,"d":"250,435"}},{"$f":"+IFERROR(VLOOKUP($A24&$D$3,BaseRA_GEN!$A$3:$I$857,6,0),\"N.A.\")","v":{"v":3756.52,"d":"3,757"}},{"$f":"+IFERROR(VLOOKUP($A24&$D$3,BaseRA_GEN!$A$3:$I$857,7,0),\"N.A.\")","v":{"v":1551387.47,"d":"1,551,387"}},{"$f":"+IFERROR(VLOOKUP($A24&$D$3,BaseRA_GEN!$A$3:$I$857,8,0),\"N.A.\")","v":{"v":9543.17,"d":"9,543"}},{"$f":"+IFERROR(VLOOKUP($A24&$D$3,BaseRA_GEN!$A$3:$I$857,9,0),\"N.A.\")","v":{"v":13299.69,"d":"13,300"}}]
["NACIONAL",{"$f":"+IFERROR(VLOOKUP($A25&$D$3,BaseRA_GEN!$A$3:$I$857,4,0),\"N.A.\")","v":{"v":122060.23,"d":"122,060"}},{"$f":"+IFERROR(VLOOKUP($A25&$D$3,BaseRA_GEN!$A$3:$I$857,5,0),\"N.A.\")","v":{"v":2.11,"d":"2"}},{"$f":"+IFERROR(VLOOKUP($A25&$D$3,BaseRA_GEN!$A$3:$I$857,6,0),\"N.A.\")","v":{"v":0.03,"d":"0"}},{"$f":"+IFERROR(VLOOKUP($A25&$D$3,BaseRA_GEN!$A$3:$I$857,7,0),\"N.A.\")","v":{"v":717831.91,"d":"717,832"}},{"$f":"+IFERROR(VLOOKUP($A25&$D$3,BaseRA_GEN!$A$3:$I$857,8,0),\"N.A.\")","v":{"v":5640.92,"d":"5,641"}},{"$f":"+IFERROR(VLOOKUP($A25&$D$3,BaseRA_GEN!$A$3:$I$857,9,0),\"N.A.\")","v":{"v":5640.95,"d":"5,641"}}]
["PREVISORA",{"$f":"+IFERROR(VLOOKUP($A26&$D$3,BaseRA_GEN!$A$3:$I$857,4,0),\"N.A.\")","v":{"v":1170871.56,"d":"1,170,872"}},{"$f":"+IFERROR(VLOOKUP($A26&$D$3,BaseRA_GEN!$A$3:$I$857,5,0),\"N.A.\")","v":{"v":1027306.73,"d":"1,027,307"}},{"$f":"+IFERROR(VLOOKUP($A26&$D$3,BaseRA_GEN!$A$3:$I$857,6,0),\"N.A.\")","v":{"v":15409.6,"d":"15,410"}},{"$f":"+IFERROR(VLOOKUP($A26&$D$3,BaseRA_GEN!$A$3:$I$857,7,0),\"N.A.\")","v":{"v":2151226.39,"d":"2,151,226"}},{"$f":"+IFERROR(VLOOKUP($A26&$D$3,BaseRA_GEN!$A$3:$I$857,8,0),\"N.A.\")","v":{"v":25052.14,"d":"25,052"}},{"$f":"+IFERROR(VLOOKUP($A26&$D$3,BaseRA_GEN!$A$3:$I$857,9,0),\"N.A.\")","v":{"v":40461.74,"d":"40,462"}}]
["QUALITAS",{"$f":"+IFERROR(VLOOKUP($A27&$D$3,BaseRA_GEN!$A$3:$I$857,4,0),\"N.A.\")","v":0},{"$f":"+IFERROR(VLOOKUP($A27&$D$3,BaseRA_GEN!$A$3:$I$857,5,0),\"N.A.\")","v":0},{"$f":"+IFERROR(VLOOKUP($A27&$D$3,BaseRA_GEN!$A$3:$I$857,6,0),\"N.A.\")","v":0},{"$f":"+IFERROR(VLOOKUP($A27&$D$3,BaseRA_GEN!$A$3:$I$857,7,0),\"N.A.\")","v":{"v":3255.34,"d":"3,255"}},{"$f":"+IFERROR(VLOOKUP($A27&$D$3,BaseRA_GEN!$A$3:$I$857,8,0),\"N.A.\")","v":{"v":134.3,"d":"134"}},{"$f":"+IFERROR(VLOOKUP($A27&$D$3,BaseRA_GEN!$A$3:$I$857,9,0),\"N.A.\")","v":{"v":134.3,"d":"134"}}]
["SBS SEGUROS",{"$f":"+IFERROR(VLOOKUP($A28&$D$3,BaseRA_GEN!$A$3:$I$857,4,0),\"N.A.\")","v":{"v":1355673.31,"d":"1,355,673"}},{"$f":"+IFERROR(VLOOKUP($A28&$D$3,BaseRA_GEN!$A$3:$I$857,5,0),\"N.A.\")","v":{"v":76891.01,"d":"76,891"}},{"$f":"+IFERROR(VLOOKUP($A28&$D$3,BaseRA_GEN!$A$3:$I$857,6,0),\"N.A.\")","v":{"v":1153.37,"d":"1,153"}},{"$f":"+IFERROR(VLOOKUP($A28&$D$3,BaseRA_GEN!$A$3:$I$857,7,0),\"N.A.\")","v":{"v":536792.64,"d":"536,793"}},{"$f":"+IFERROR(VLOOKUP($A28&$D$3,BaseRA_GEN!$A$3:$I$857,8,0),\"N.A.\")","v":{"v":7412.04,"d":"7,412"}},{"$f":"+IFERROR(VLOOKUP($A28&$D$3,BaseRA_GEN!$A$3:$I$857,9,0),\"N.A.\")","v":{"v":8565.41,"d":"8,565"}}]
["SEGUREXPO",{"$f":"+IFERROR(VLOOKUP($A29&$D$3,BaseRA_GEN!$A$3:$I$857,4,0),\"N.A.\")","v":{"v":17140.54,"d":"17,141"}},{"$f":"+IFERROR(VLOOKUP($A29&$D$3,BaseRA_GEN!$A$3:$I$857,5,0),\"N.A.\")","v":{"v":93141.09,"d":"93,141"}},{"$f":"+IFERROR(VLOOKUP($A29&$D$3,BaseRA_GEN!$A$3:$I$857,6,0),\"N.A.\")","v":{"v":1397.12,"d":"1,397"}},{"$f":"+IFERROR(VLOOKUP($A29&$D$3,BaseRA_GEN!$A$3:$I$857,7,0),\"N.A.\")","v":{"v":140000.75,"d":"140,001"}},{"$f":"+IFERROR(VLOOKUP($A29&$D$3,BaseRA_GEN!$A$3:$I$857,8,0),\"N.A.\")","v":{"v":1031.38,"d":"1,031"}},{"$f":"+IFERROR(VLOOKUP($A29&$D$3,BaseRA_GEN!$A$3:$I$857,9,0),\"N.A.\")","v":{"v":2428.5,"d":"2,429"}}]
["SOLIDARIA",{"$f":"+IFERROR(VLOOKUP($A30&$D$3,BaseRA_GEN!$A$3:$I$857,4,0),\"N.A.\")","v":{"v":650504.49,"d":"650,504"}},{"$f":"+IFERROR(VLOOKUP($A30&$D$3,BaseRA_GEN!$A$3:$I$857,5,0),\"N.A.\")","v":{"v":238882.27,"d":"238,882"}},{"$f":"+IFERROR(VLOOKUP($A30&$D$3,BaseRA_GEN!$A$3:$I$857,6,0),\"N.A.\")","v":{"v":3583.23,"d":"3,583"}},{"$f":"+IFERROR(VLOOKUP($A30&$D$3,BaseRA_GEN!$A$3:$I$857,7,0),\"N.A.\")","v":{"v":407794.75,"d":"407,795"}},{"$f":"+IFERROR(VLOOKUP($A30&$D$3,BaseRA_GEN!$A$3:$I$857,8,0),\"N.A.\")","v":{"v":3916.05,"d":"3,916"}},{"$f":"+IFERROR(VLOOKUP($A30&$D$3,BaseRA_GEN!$A$3:$I$857,9,0),\"N.A.\")","v":{"v":7499.280000000001,"d":"7,499"}}]
["SOLUNION",{"$f":"+IFERROR(VLOOKUP($A31&$D$3,BaseRA_GEN!$A$3:$I$857,4,0),\"N.A.\")","v":{"v":148778.84,"d":"148,779"}},{"$f":"+IFERROR(VLOOKUP($A31&$D$3,BaseRA_GEN!$A$3:$I$857,5,0),\"N.A.\")","v":{"v":9000.26,"d":"9,000"}},{"$f":"+IFERROR(VLOOKUP($A31&$D$3,BaseRA_GEN!$A$3:$I$857,6,0),\"N.A.\")","v":135},{"$f":"+IFERROR(VLOOKUP($A31&$D$3,BaseRA_GEN!$A$3:$I$857,7,0),\"N.A.\")","v":{"v":129536.11,"d":"129,536"}},{"$f":"+IFERROR(VLOOKUP($A31&$D$3,BaseRA_GEN!$A$3:$I$857,8,0),\"N.A.\")","v":{"v":901.35,"d":"901"}},{"$f":"+IFERROR(VLOOKUP($A31&$D$3,BaseRA_GEN!$A$3:$I$857,9,0),\"N.A.\")","v":{"v":1036.35,"d":"1,036"}}]
["SURAMERICANA",{"$f":"+IFERROR(VLOOKUP($A32&$D$3,BaseRA_GEN!$A$3:$I$857,4,0),\"N.A.\")","v":{"v":3259959.66,"d":"3,259,960"}},{"$f":"+IFERROR(VLOOKUP($A32&$D$3,BaseRA_GEN!$A$3:$I$857,5,0),\"N.A.\")","v":{"v":294545.26,"d":"294,545"}},{"$f":"+IFERROR(VLOOKUP($A32&$D$3,BaseRA_GEN!$A$3:$I$857,6,0),\"N.A.\")","v":{"v":4417.94,"d":"4,418"}},{"$f":"+IFERROR(VLOOKUP($A32&$D$3,BaseRA_GEN!$A$3:$I$857,7,0),\"N.A.\")","v":{"v":2370218.99,"d":"2,370,219"}},{"$f":"+IFERROR(VLOOKUP($A32&$D$3,BaseRA_GEN!$A$3:$I$857,8,0),\"N.A.\")","v":{"v":53848.21,"d":"53,848"}},{"$f":"+IFERROR(VLOOKUP($A32&$D$3,BaseRA_GEN!$A$3:$I$857,9,0),\"N.A.\")","v":{"v":58266.15,"d":"58,266"}}]
["ZURICH",{"$f":"+IFERROR(VLOOKUP($A33&$D$3,BaseRA_GEN!$A$3:$I$857,4,0),\"N.A.\")","v":{"v":469246.05,"d":"469,246"}},{"$f":"+IFERROR(VLOOKUP($A33&$D$3,BaseRA_GEN!$A$3:$I$857,5,0),\"N.A.\")","v":{"v":122861.33,"d":"122,861"}},{"$f":"+IFERROR(VLOOKUP($A33&$D$3,BaseRA_GEN!$A$3:$I$857,6,0),\"N.A.\")","v":{"v":1838.46,"d":"1,838"}},{"$f":"+IFERROR(VLOOKUP($A33&$D$3,BaseRA_GEN!$A$3:$I$857,7,0),\"N.A.\")","v":{"v":490027.74,"d":"490,028"}},{"$f":"+IFERROR(VLOOKUP($A33&$D$3,BaseRA_GEN!$A$3:$I$857,8,0),\"N.A.\")","v":{"v":12972.41,"d":"12,972"}},{"$f":"+IFERROR(VLOOKUP($A33&$D$3,BaseRA_GEN!$A$3:$I$857,9,0),\"N.A.\")","v":{"v":14810.869999999999,"d":"14,811"}}]

{"sheet":"BaseRA_VID","index":12,"n_rows":65,"n_cols":9,"rows_kept":65,"hidden":true}
[{"$nulls":3},"CATEGORIA I","CATEGORIA II",null,"CATEGORIA III",null,"TOTAL RIESGO DE ACTIVO"]
[{"$nulls":3},"VALOR REPORTADO EN BALANCE O FORMATO","VALOR REPORTADO EN BALANCE O FORMATO","VR PONDERADO","VALOR REPORTADO EN BALANCE O FORMATO","VR PONDERADO","VR PONDERADO"]
[{"$f":"+B3&C3","v":"ALFA VIDA45777"},"ALFA VIDA","2025-04-30",{"v":34738905.6,"d":"34,738,905.60"},{"v":4365981.41,"d":"4,365,981.41"},{"v":65489.72,"d":"65,489.72"},{"v":7839666.75,"d":"7,839,666.75"},{"v":162513.5,"d":"162,513.50"},{"$f":"+H3+F3","v":{"v":228003.22,"d":"228,003.22"}}]
[{"$f":"+B4&C4","v":"ALFA VIDA45808"},"ALFA VIDA","2025-05-31",{"v":35431783.48,"d":"35,431,783.48"},{"v":4339692.54,"d":"4,339,692.54"},{"v":65095.39,"d":"65,095.39"},{"v":7864868.75,"d":"7,864,868.75"},{"v":165382.2,"d":"165,382.20"},{"$f":"+H4+F4","v":{"v":230477.59000000003,"d":"230,477.59"}}]
["ALFA VIDA45838","ALFA VIDA","2025-06-30",{"v":36083203.44,"d":"36,083,203.44"},{"v":4281880.19,"d":"4,281,880.19"},{"v":64228.2,"d":"64,228.20"},{"v":8222626.54,"d":"8,222,626.54"},{"v":167287.48,"d":"167,287.48"},{"v":231515.68,"d":"231,515.68"}]
["ALLIANZ VIDA45777","ALLIANZ VIDA","2025-04-30",{"v":2968413.36,"d":"2,968,413.36"},{"v":55638.57,"d":"55,638.57"},834.58,{"v":225666.89,"d":"225,666.89"},{"v":5970.23,"d":"5,970.23"},{"v":6804.8099999999995,"d":"6,804.81"}]
["ALLIANZ VIDA45808","ALLIANZ VIDA","2025-05-31",{"v":2963801.67,"d":"2,963,801.67"},{"v":71045.97,"d":"71,045.97"},{"v":1065.69,"d":"1,065.69"},{"v":224690.41,"d":"224,690.41"},{"v":5572.38,"d":"5,572.38"},{"v":6638.07,"d":"6,638.07"}]
["ALLIANZ VIDA45838","ALLIANZ VIDA","2025-06-30",{"v":2952949.43,"d":"2,952,949.43"},{"v":66375.38,"d":"66,375.38"},995.63,{"v":211302.5,"d":"211,302.50"},{"v":5493.22,"d":"5,493.22"},{"v":6488.85,"d":"6,488.85"}]
["ANDINA45777","ANDINA","2025-04-30",{"v":1202281.72,"d":"1,202,281.72"},23.83,0.36,{"v":4352.19,"d":"4,352.19"},195.85,196.21]
["ANDINA45808","ANDINA","2025-05-31",{"v":1325412.64,"d":"1,325,412.64"},23.43,0.35,{"v":4384.84,"d":"4,384.84"},197.32,197.67]
["ANDINA45838","ANDINA","2025-06-30",{"v":1466038.84,"d":"1,466,038.84"},22.88,0.34,{"v":4406.77,"d":"4,406.77"},{"v":198.3,"d":"198.30"},{"v":198.64000000000001,"d":"198.64"}]
["ASULADO45777","ASULADO","2025-04-30",{"v":24862359.7,"d":"24,862,359.70"},{"v":112379.55,"d":"112,379.55"},{"v":1685.69,"d":"1,685.69"},{"v":574349.88,"d":"574,349.88"},{"v":19817.16,"d":"19,817.16"},{"v":21502.85,"d":"21,502.85"}]
["ASULADO45808","ASULADO","2025-05-31",{"v":25573826.49,"d":"25,573,826.49"},{"v":112458.36,"d":"112,458.36"},{"v":1686.88,"d":"1,686.88"},{"v":566975.34,"d":"566,975.34"},{"v":19844.59,"d":"19,844.59"},{"v":21531.47,"d":"21,531.47"}]
["ASULADO45838","ASULADO","2025-06-30",{"v":26313288.22,"d":"26,313,288.22"},{"v":109069.39,"d":"109,069.39"},{"v":1636.04,"d":"1,636.04"},{"v":565144.87,"d":"565,144.87"},{"v":19699.31,"d":"19,699.31"},{"v":21335.350000000002,"d":"21,335.35"}]
["AURORA VIDA45777","AURORA VIDA","2025-04-30",{"v":25638.91,"d":"25,638.91"},{"v":2011.46,"d":"2,011.46"},30.17,{"v":13634.55,"d":"13,634.55"},{"v":702.9,"d":"702.90"},{"v":733.0699999999999,"d":"733.07"}]
["AURORA VIDA45808","AURORA VIDA","2025-05-31",{"v":26864.43,"d":"26,864.43"},{"v":2007.54,"d":"2,007.54"},30.11,{"v":16083.07,"d":"16,083.07"},803.11,833.22]
["AURORA VIDA45838","AURORA VIDA","2025-06-30",{"v":31860.41,"d":"31,860.41"},{"v":2779.65,"d":"2,779.65"},41.69,{"v":11347.42,"d":"11,347.42"},471.01,{"v":512.7,"d":"512.70"}]
["AXA COLPATRIA VIDA45777","AXA COLPATRIA VIDA","2025-04-30",{"v":4567455.48,"d":"4,567,455.48"},{"v":197036.46,"d":"197,036.46"},{"v":2955.55,"d":"2,955.55"},{"v":1349690.11,"d":"1,349,690.11"},{"v":29042.71,"d":"29,042.71"},{"v":31998.26,"d":"31,998.26"}]
["AXA COLPATRIA VIDA45808","AXA COLPATRIA VIDA","2025-05-31",{"v":4628281.63,"d":"4,628,281.63"},{"v":207219.5,"d":"207,219.50"},{"v":3108.29,"d":"3,108.29"},{"v":1348542.09,"d":"1,348,542.09"},{"v":29139.69,"d":"29,139.69"},{"v":32247.98,"d":"32,247.98"}]
["AXA COLPATRIA VIDA45838","AXA COLPATRIA VIDA","2025-06-30",{"v":4626270.45,"d":"4,626,270.45"},{"v":205222.05,"d":"205,222.05"},{"v":3078.33,"d":"3,078.33"},{"v":1347358.98,"d":"1,347,358.98"},{"v":29099.69,"d":"29,099.69"},{"v":32178.019999999997,"d":"32,178.02"}]
["BBVA SEGUROS VIDA45777","BBVA SEGUROS VIDA","2025-04-30",{"v":3014399.14,"d":"3,014,399.14"},{"v":159848.76,"d":"159,848.76"},{"v":2397.73,"d":"2,397.73"},{"v":650817.03,"d":"650,817.03"},{"v":13199.84,"d":"13,199.84"},{"v":15597.57,"d":"15,597.57"}]
["BBVA SEGUROS VIDA45808","BBVA SEGUROS VIDA","2025-05-31",{"v":3033288.65,"d":"3,033,288.65"},{"v":160288.44,"d":"160,288.44"},{"v":2404.33,"d":"2,404.33"},{"v":647922.43,"d":"647,922.43"},{"v":12875.93,"d":"12,875.93"},{"v":15280.26,"d":"15,280.26"}]
["BBVA SEGUROS VIDA45838","BBVA SEGUROS VIDA","2025-06-30",{"v":3021541.35,"d":"3,021,541.35"},{"v":160302.94,"d":"160,302.94"},{"v":2404.54,"d":"2,404.54"},{"v":648049.03,"d":"648,049.03"},{"v":13074.06,"d":"13,074.06"},{"v":15478.599999999999,"d":"15,478.60"}]
["BMI COLOMBIA45777","BMI COLOMBIA","2025-04-30",{"v":70474.83,"d":"70,474.83"},{"v":0,"d":"0.00"},{"v":0,"d":"0.00"},{"v":126077.55,"d":"126,077.55"},{"v":1968.86,"d":"1,968.86"},{"v":1968.86,"d":"1,968.86"}]
["BMI COLOMBIA45808","BMI COLOMBIA","2025-05-31",{"v":70406.4,"d":"70,406.40"},{"v":0,"d":"0.00"},{"v":0,"d":"0.00"},{"v":115109.22,"d":"115,109.22"},{"v":1945.44,"d":"1,945.44"},{"v":1945.44,"d":"1,945.44"}]
["BMI COLOMBIA45838","BMI COLOMBIA","2025-06-30",{"v":69329.8,"d":"69,329.80"},{"v":0,"d":"0.00"},{"v":0,"d":"0.00"},{"v":98192.32,"d":"98,192.32"},261.93,261.93]
["BOLIVAR VIDA45777","BOLIVAR VIDA","2025-04-30",{"v":9868326.06,"d":"9,868,326.06"},{"v":1159945.42,"d":"1,159,945.42"},{"v":17481.3,"d":"17,481.30"},{"v":6453102.38,"d":"6,453,102.38"},{"v":109534.07,"d":"109,534.07"},{"v":127015.37000000001,"d":"127,015.37"}]
["BOLIVAR VIDA45808","BOLIVAR VIDA","2025-05-31",{"v":10504340.64,"d":"10,504,340.64"},{"v":1257241.4,"d":"1,257,241.40"},{"v":18954.91,"d":"18,954.91"},{"v":6526691.86,"d":"6,526,691.86"},{"v":108357.82,"d":"108,357.82"},{"v":127312.73000000001,"d":"127,312.73"}]
["BOLIVAR VIDA45838","BOLIVAR VIDA","2025-06-30",{"v":10779344.74,"d":"10,779,344.74"},{"v":1255711.78,"d":"1,255,711.78"},{"v":18933.76,"d":"18,933.76"},{"v":6514445.53,"d":"6,514,445.53"},{"v":110461.82,"d":"110,461.82"},{"v":129395.58,"d":"129,395.58"}]
["COLMENA ARL45777","COLMENA ARL","2025-04-30",{"v":2104895.79,"d":"2,104,895.79"},{"v":190718.07,"d":"190,718.07"},{"v":2860.77,"d":"2,860.77"},{"v":693975.22,"d":"693,975.22"},{"v":14868.21,"d":"14,868.21"},{"v":17728.98,"d":"17,728.98"}]
["COLMENA ARL45808","COLMENA ARL","2025-05-31",{"v":2132516.98,"d":"2,132,516.98"},{"v":200961,"d":"200,961.00"},{"v":3014.42,"d":"3,014.42"},{"v":702241.16,"d":"702,241.16"},{"v":15450.24,"d":"15,450.24"},{"v":18464.66,"d":"18,464.66"}]
["COLMENA ARL45838","COLMENA ARL","2025-06-30",{"v":2116597.91,"d":"2,116,597.91"},{"v":225972.35,"d":"225,972.35"},{"v":3389.59,"d":"3,389.59"},{"v":726612.91,"d":"726,612.91"},{"v":16055.69,"d":"16,055.69"},{"v":19445.28,"d":"19,445.28"}]
["COLMENA VIDA45777","COLMENA VIDA","2025-04-30",{"v":91210.22,"d":"91,210.22"},{"v":27852.52,"d":"27,852.52"},417.79,{"v":182934.2,"d":"182,934.20"},{"v":5697.39,"d":"5,697.39"},{"v":6115.18,"d":"6,115.18"}]
["COLMENA VIDA45808","COLMENA VIDA","2025-05-31",{"v":92615.32,"d":"92,615.32"},{"v":27856.56,"d":"27,856.56"},417.85,{"v":210474.33,"d":"210,474.33"},{"v":7449.89,"d":"7,449.89"},{"v":7867.740000000001,"d":"7,867.74"}]
["COLMENA VIDA45838","COLMENA VIDA","2025-06-30",{"v":94839.71,"d":"94,839.71"},{"v":27930.93,"d":"27,930.93"},418.96,{"v":203540.91,"d":"203,540.91"},{"v":6932.49,"d":"6,932.49"},{"v":7351.45,"d":"7,351.45"}]
["COLSANITAS45777","COLSANITAS","2025-04-30",{"v":55395.82,"d":"55,395.82"},{"v":21420.84,"d":"21,420.84"},321.31,{"v":47822.38,"d":"47,822.38"},{"v":2484.14,"d":"2,484.14"},{"v":2805.45,"d":"2,805.45"}]
["COLSANITAS45808","COLSANITAS","2025-05-31",{"v":65048.44,"d":"65,048.44"},{"v":23221.63,"d":"23,221.63"},348.32,{"v":45249.66,"d":"45,249.66"},{"v":2471.11,"d":"2,471.11"},{"v":2819.4300000000003,"d":"2,819.43"}]
["COLSANITAS45838","COLSANITAS","2025-06-30",{"v":65167.72,"d":"65,167.72"},{"v":26795.19,"d":"26,795.19"},401.93,{"v":68252.06,"d":"68,252.06"},{"v":3625.05,"d":"3,625.05"},{"v":4026.98,"d":"4,026.98"}]
["EQUIDAD VIDA45777","EQUIDAD VIDA","2025-04-30",{"v":570348.74,"d":"570,348.74"},{"v":41285.76,"d":"41,285.76"},619.29,{"v":260858.96,"d":"260,858.96"},{"v":5298.51,"d":"5,298.51"},{"v":5917.8,"d":"5,917.80"}]
["EQUIDAD VIDA45808","EQUIDAD VIDA","2025-05-31",{"v":568740.63,"d":"568,740.63"},{"v":43424.67,"d":"43,424.67"},651.37,{"v":261078.01,"d":"261,078.01"},{"v":5195.01,"d":"5,195.01"},{"v":5846.38,"d":"5,846.38"}]
["EQUIDAD VIDA45838","EQUIDAD VIDA","2025-06-30",{"v":572971.07,"d":"572,971.07"},{"v":43484.85,"d":"43,484.85"},652.27,{"v":264395.98,"d":"264,395.98"},{"v":5216.96,"d":"5,216.96"},{"$f":"+H41+F41","v":{"v":5869.23,"d":"5,869.23"}}]
["ESTADO VIDA45777","ESTADO VIDA","2025-04-30",{"v":27699.09,"d":"27,699.09"},{"v":42428.87,"d":"42,428.87"},636.43,{"v":120880.56,"d":"120,880.56"},{"v":4220.99,"d":"4,220.99"},{"v":4857.42,"d":"4,857.42"}]
["ESTADO VIDA45808","ESTADO VIDA","2025-05-31",{"v":40028,"d":"40,028.00"},{"v":46604.44,"d":"46,604.44"},699.07,{"v":112181.32,"d":"112,181.32"},{"v":3573.43,"d":"3,573.43"},{"v":4272.5,"d":"4,272.50"}]
["ESTADO VIDA45838","ESTADO VIDA","2025-06-30",{"v":38239.04,"d":"38,239.04"},{"v":49307.66,"d":"49,307.66"},739.61,{"v":100864.57,"d":"100,864.57"},{"v":3055.9,"d":"3,055.90"},{"v":3795.51,"d":"3,795.51"}]
["GLOBAL45777","GLOBAL","2025-04-30",{"v":3079358.89,"d":"3,079,358.89"},{"v":310746.7,"d":"310,746.70"},{"v":7691.25,"d":"7,691.25"},{"v":2998319.46,"d":"2,998,319.46"},{"v":84371.03,"d":"84,371.03"},{"v":92062.28,"d":"92,062.28"}]
["GLOBAL45808","GLOBAL","2025-05-31",{"v":3158856.07,"d":"3,158,856.07"},{"v":313781.32,"d":"313,781.32"},{"v":6480.19,"d":"6,480.19"},{"v":2981199.68,"d":"2,981,199.68"},{"v":82384.41,"d":"82,384.41"},{"v":88864.6,"d":"88,864.60"}]
["GLOBAL45838","GLOBAL","2025-06-30",{"v":3225626.81,"d":"3,225,626.81"},{"v":302713.9,"d":"302,713.90"},{"v":6116.83,"d":"6,116.83"},{"v":3002700.63,"d":"3,002,700.63"},{"v":83922.02,"d":"83,922.02"},{"v":90038.85,"d":"90,038.85"}]
["MAPFRE VIDA45777","MAPFRE VIDA","2025-04-30",{"v":5508682.88,"d":"5,508,682.88"},{"v":144137.13,"d":"144,137.13"},{"v":2142.05,"d":"2,142.05"},{"v":1415052.9,"d":"1,415,052.90"},{"v":22386.14,"d":"22,386.14"},{"v":24528.19,"d":"24,528.19"}]
["MAPFRE VIDA45808","MAPFRE VIDA","2025-05-31",{"v":5459085.44,"d":"5,459,085.44"},{"v":162834.89,"d":"162,834.89"},{"v":2422.51,"d":"2,422.51"},{"v":1405546.05,"d":"1,405,546.05"},{"v":21853.83,"d":"21,853.83"},{"v":24276.340000000004,"d":"24,276.34"}]
["MAPFRE VIDA45838","MAPFRE VIDA","2025-06-30",{"v":5488442.3,"d":"5,488,442.30"},{"v":162479.11,"d":"162,479.11"},{"v":2417.18,"d":"2,417.18"},{"v":1412880.43,"d":"1,412,880.43"},{"v":22196.64,"d":"22,196.64"},{"v":24613.82,"d":"24,613.82"}]
["METLIFE45777","METLIFE","2025-04-30",{"v":2283465.75,"d":"2,283,465.75"},{"v":7382.16,"d":"7,382.16"},110.73,{"v":372804.74,"d":"372,804.74"},{"v":12559.29,"d":"12,559.29"},{"v":12670.02,"d":"12,670.02"}]
["METLIFE45808","METLIFE","2025-05-31",{"v":2319691.96,"d":"2,319,691.96"},{"v":7421.44,"d":"7,421.44"},111.32,{"v":364560.91,"d":"364,560.91"},{"v":11663.46,"d":"11,663.46"},{"v":11774.779999999999,"d":"11,774.78"}]
["METLIFE45838","METLIFE","2025-06-30",{"v":2376290.46,"d":"2,376,290.46"},{"v":7419.11,"d":"7,419.11"},111.29,{"v":365252.35,"d":"365,252.35"},{"v":11917.98,"d":"11,917.98"},{"v":12029.27,"d":"12,029.27"}]
["PANAMERICAN VIDA45777","PANAMERICAN VIDA","2025-04-30",{"v":58833.4,"d":"58,833.40"},{"v":37833.67,"d":"37,833.67"},567.51,{"v":174404.01,"d":"174,404.01"},{"v":6806.82,"d":"6,806.82"},{"v":7374.33,"d":"7,374.33"}]
["PANAMERICAN VIDA45808","PANAMERICAN VIDA","2025-05-31",{"v":65889.67,"d":"65,889.67"},{"v":41018.61,"d":"41,018.61"},615.28,{"v":175409.03,"d":"175,409.03"},{"v":6962.36,"d":"6,962.36"},{"v":7577.639999999999,"d":"7,577.64"}]
["PANAMERICAN VIDA45838","PANAMERICAN VIDA","2025-06-30",{"v":73758.59,"d":"73,758.59"},{"v":32236.75,"d":"32,236.75"},483.55,{"v":185286.55,"d":"185,286.55"},{"v":7658.46,"d":"7,658.46"},{"v":8142.01,"d":"8,142.01"}]
["POSITIVA45777","POSITIVA","2025-04-30",{"v":8575293.05,"d":"8,575,293.05"},{"v":1024707.56,"d":"1,024,707.56"},{"v":15370.61,"d":"15,370.61"},{"v":2616809.41,"d":"2,616,809.41"},{"v":58389.49,"d":"58,389.49"},{"v":73760.1,"d":"73,760.10"}]
["POSITIVA45808","POSITIVA","2025-05-31",{"v":8723912.54,"d":"8,723,912.54"},{"v":1039472.26,"d":"1,039,472.26"},{"v":15592.08,"d":"15,592.08"},{"v":2630298.23,"d":"2,630,298.23"},{"v":58498.57,"d":"58,498.57"},{"v":74090.65,"d":"74,090.65"}]
["POSITIVA45838","POSITIVA","2025-06-30",{"v":8723271.97,"d":"8,723,271.97"},{"v":1063920.07,"d":"1,063,920.07"},{"v":15958.8,"d":"15,958.80"},{"v":2652406.53,"d":"2,652,406.53"},{"v":59077.83,"d":"59,077.83"},{"v":75036.63,"d":"75,036.63"}]
["SKANDIA45777","SKANDIA","2025-04-30",{"v":1206537.11,"d":"1,206,537.11"},{"v":319906.29,"d":"319,906.29"},{"v":4876.06,"d":"4,876.06"},{"v":203351.7,"d":"203,351.70"},{"v":8225.56,"d":"8,225.56"},{"v":13101.619999999999,"d":"13,101.62"}]
["SKANDIA45808","SKANDIA","2025-05-31",{"v":1257547.04,"d":"1,257,547.04"},{"v":328161.16,"d":"328,161.16"},{"v":5000.4,"d":"5,000.40"},{"v":194028.71,"d":"194,028.71"},{"v":7799.69,"d":"7,799.69"},{"v":12800.09,"d":"12,800.09"}]
["SKANDIA45838","SKANDIA","2025-06-30",{"v":1286559.04,"d":"1,286,559.04"},{"v":333779.92,"d":"333,779.92"},{"v":5042.27,"d":"5,042.27"},{"v":184414.95,"d":"184,414.95"},{"v":7013.47,"d":"7,013.47"},{"v":12055.740000000002,"d":"12,055.74"}]
["SURAMERICANA VIDA45777","SURAMERICANA VIDA","2025-04-30",{"v":18787126.55,"d":"18,787,126.55"},{"v":554722.15,"d":"554,722.15"},{"v":8320.61,"d":"8,320.61"},{"v":6406912.41,"d":"6,406,912.41"},{"v":193224.98,"d":"193,224.98"},{"v":201545.59000000003,"d":"201,545.59"}]
["SURAMERICANA VIDA45808","SURAMERICANA VIDA","2025-05-31",{"v":19137508.77,"d":"19,137,508.77"},{"v":461798.93,"d":"461,798.93"},{"v":6926.96,"d":"6,926.96"},{"v":6357235.29,"d":"6,357,235.29"},{"v":192454.93,"d":"192,454.93"},{"v":199381.88999999998,"d":"199,381.89"}]
["SURAMERICANA VIDA45838","SURAMERICANA VIDA","2025-06-30",{"v":19318643.52,"d":"19,318,643.52"},{"v":449635.78,"d":"449,635.78"},{"v":6744.53,"d":"6,744.53"},{"v":6397109.85,"d":"6,397,109.85"},{"v":196421.14,"d":"196,421.14"},{"v":203165.67,"d":"203,165.67"}]

{"sheet":"RA_VID","index":13,"n_rows":26,"n_cols":7,"rows_kept":26,"merged":[[0,1,0,6],[1,3,1,4],[2,3,2,4],[3,3,3,4],[4,0,5,0],[4,2,4,3],[4,4,4,5]]}
[null,"COMPAÑÍAS DE SEGUROS DE VIDA"]
[{"$nulls":3},"RIESGO DE ACTIVOS"]
[{"$nulls":3},"2025-06-30"]
[{"$nulls":3},"CIFRAS EN MILLONES DE PESOS"]
["COMPAÑÍAS","CATEGORÍA I","CATEGORÍA II",null,"CATEGORÍA III",null,"TOTAL RIESGO DE ACTIVO"]
[null,"Valor reportado en balance o formato","Valor reportado en balance o formato","Valor ponderado","Valor reportado en balance o formato","Valor ponderado","Valor Ponderado"]
["ALFA VIDA",{"$f":"+IFERROR(VLOOKUP($A7&$D$3,BaseRA_VID!$A$3:$I$910,4,0),\"N.A.\")","v":{"v":36083203.44,"d":"36,083,203"}},{"$f":"+IFERROR(VLOOKUP($A7&$D$3,BaseRA_VID!$A$3:$I$910,5,0),\"N.A.\")","v":{"v":4281880.19,"d":"4,281,880"}},{"$f":"+IFERROR(VLOOKUP($A7&$D$3,BaseRA_VID!$A$3:$I$910,6,0),\"N.A.\")","v":{"v":64228.2,"d":"64,228"}},{"$f":"+IFERROR(VLOOKUP($A7&$D$3,BaseRA_VID!$A$3:$I$910,7,0),\"N.A.\")","v":{"v":8222626.54,"d":"8,222,627"}},{"$f":"+IFERROR(VLOOKUP($A7&$D$3,BaseRA_VID!$A$3:$I$910,8,0),\"N.A.\")","v":{"v":167287.48,"d":"167,287"}},{"$f":"+IFERROR(VLOOKUP($A7&$D$3,BaseRA_VID!$A$3:$I$910,9,0),\"N.A.\")","v":{"v":231515.68,"d":"231,516"}}]
["ALLIANZ VIDA",{"$f":"+IFERROR(VLOOKUP($A8&$D$3,BaseRA_VID!$A$3:$I$910,4,0),\"N.A.\")","v":{"v":2952949.43,"d":"2,952,949"}},{"$f":"+IFERROR(VLOOKUP($A8&$D$3,BaseRA_VID!$A$3:$I$910,5,0),\"N.A.\")","v":{"v":66375.38,"d":"66,375"}},{"$f":"+IFERROR(VLOOKUP($A8&$D$3,BaseRA_VID!$A$3:$I$910,6,0),\"N.A.\")","v":{"v":995.63,"d":"996"}},{"$f":"+IFERROR(VLOOKUP($A8&$D$3,BaseRA_VID!$A$3:$I$910,7,0),\"N.A.\")","v":{"v":211302.5,"d":"211,303"}},{"$f":"+IFERROR(VLOOKUP($A8&$D$3,BaseRA_VID!$A$3:$I$910,8,0),\"N.A.\")","v":{"v":5493.22,"d":"5,493"}},{"$f":"+IFERROR(VLOOKUP($A8&$D$3,BaseRA_VID!$A$3:$I$910,9,0),\"N.A.\")","v":{"v":6488.85,"d":"6,489"}}]
["ASULADO",{"$f":"+IFERROR(VLOOKUP($A9&$D$3,BaseRA_VID!$A$3:$I$910,4,0),\"N.A.\")","v":{"v":26313288.22,"d":"26,313,288"}},{"$f":"+IFERROR(VLOOKUP($A9&$D$3,BaseRA_VID!$A$3:$I$910,5,0),\"N.A.\")","v":{"v":109069.39,"d":"109,069"}},{"$f":"+IFERROR(VLOOKUP($A9&$D$3,BaseRA_VID!$A$3:$I$910,6,0),\"N.A.\")","v":{"v":1636.04,"d":"1,636"}},{"$f":"+IFERROR(VLOOKUP($A9&$D$3,BaseRA_VID!$A$3:$I$910,7,0),\"N.A.\")","v":{"v":565144.87,"d":"565,145"}},{"$f":"+IFERROR(VLOOKUP($A9&$D$3,BaseRA_VID!$A$3:$I$910,8,0),\"N.A.\")","v":{"v":19699.31,"d":"19,699"}},{"$f":"+IFERROR(VLOOKUP($A9&$D$3,BaseRA_VID!$A$3:$I$910,9,0),\"N.A.\")","v":{"v":21335.350000000002,"d":"21,335"}}]
["AURORA VIDA",{"$f":"+IFERROR(VLOOKUP($A10&$D$3,BaseRA_VID!$A$3:$I$910,4,0),\"N.A.\")","v":{"v":31860.41,"d":"31,860"}},{"$f":"+IFERROR(VLOOKUP($A10&$D$3,BaseRA_VID!$A$3:$I$910,5,0),\"N.A.\")","v":{"v":2779.65,"d":"2,780"}},{"$f":"+IFERROR(VLOOKUP($A10&$D$3,BaseRA_VID!$A$3:$I$910,6,0),\"N.A.\")","v":{"v":41.69,"d":"42"}},{"$f":"+IFERROR(VLOOKUP($A10&$D$3,BaseRA_VID!$A$3:$I$910,7,0),\"N.A.\")","v":{"v":11347.42,"d":"11,347"}},{"$f":"+IFERROR(VLOOKUP($A10&$D$3,BaseRA_VID!$A$3:$I$910,8,0),\"N.A.\")","v":{"v":471.01,"d":"471"}},{"$f":"+IFERROR(VLOOKUP($A10&$D$3,BaseRA_VID!$A$3:$I$910,9,0),\"N.A.\")","v":{"v":512.7,"d":"513"}}]
["AXA COLPATRIA VIDA",{"$f":"+IFERROR(VLOOKUP($A11&$D$3,BaseRA_VID!$A$3:$I$910,4,0),\"N.A.\")","v":{"v":4626270.45,"d":"4,626,270"}},{"$f":"+IFERROR(VLOOKUP($A11&$D$3,BaseRA_VID!$A$3:$I$910,5,0),\"N.A.\")","v":{"v":205222.05,"d":"205,222"}},{"$f":"+IFERROR(VLOOKUP($A11&$D$3,BaseRA_VID!$A$3:$I$910,6,0),\"N.A.\")","v":{"v":3078.33,"d":"3,078"}},{"$f":"+IFERROR(VLOOKUP($A11&$D$3,BaseRA_VID!$A$3:$I$910,7,0),\"N.A.\")","v":{"v":1347358.98,"d":"1,347,359"}},{"$f":"+IFERROR(VLOOKUP($A11&$D$3,BaseRA_VID!$A$3:$I$910,8,0),\"N.A.\")","v":{"v":29099.69,"d":"29,100"}},{"$f":"+IFERROR(VLOOKUP($A11&$D$3,BaseRA_VID!$A$3:$I$910,9,0),\"N.A.\")","v":{"v":32178.019999999997,"d":"32,178"}}]
["BBVA SEGUROS VIDA",{"$f":"+IFERROR(VLOOKUP($A12&$D$3,BaseRA_VID!$A$3:$I$910,4,0),\"N.A.\")","v":{"v":3021541.35,"d":"3,021,541"}},{"$f":"+IFERROR(VLOOKUP($A12&$D$3,BaseRA_VID!$A$3:$I$910,5,0),\"N.A.\")","v":{"v":160302.94,"d":"160,303"}},{"$f":"+IFERROR(VLOOKUP($A12&$D$3,BaseRA_VID!$A$3:$I$910,6,0),\"N.A.\")","v":{"v":2404.54,"d":"2,405"}},{"$f":"+IFERROR(VLOOKUP($A12&$D$3,BaseRA_VID!$A$3:$I$910,7,0),\"N.A.\")","v":{"v":648049.03,"d":"648,049"}},{"$f":"+IFERROR(VLOOKUP($A12&$D$3,BaseRA_VID!$A$3:$I$910,8,0),\"N.A.\")","v":{"v":13074.06,"d":"13,074"}},{"$f":"+IFERROR(VLOOKUP($A12&$D$3,BaseRA_VID!$A$3:$I$910,9,0),\"N.A.\")","v":{"v":15478.599999999999,"d":"15,479"}}]
["BMI COLOMBIA",{"$f":"+IFERROR(VLOOKUP($A13&$D$3,BaseRA_VID!$A$3:$I$910,4,0),\"N.A.\")","v":{"v":69329.8,"d":"69,330"}},{"$f":"+IFERROR(VLOOKUP($A13&$D$3,BaseRA_VID!$A$3:$I$910,5,0),\"N.A.\")","v":0},{"$f":"+IFERROR(VLOOKUP($A13&$D$3,BaseRA_VID!$A$3:$I$910,6,0),\"N.A.\")","v":0},{"$f":"+IFERROR(VLOOKUP($A13&$D$3,BaseRA_VID!$A$3:$I$910,7,0),\"N.A.\")","v":{"v":98192.32,"d":"98,192"}},{"$f":"+IFERROR(VLOOKUP($A13&$D$3,BaseRA_VID!$A$3:$I$910,8,0),\"N.A.\")","v":{"v":261.93,"d":"262"}},{"$f":"+IFERROR(VLOOKUP($A13&$D$3,BaseRA_VID!$A$3:$I$910,9,0),\"N.A.\")","v":{"v":261.93,"d":"262"}}]
["BOLIVAR VIDA",{"$f":"+IFERROR(VLOOKUP($A14&$D$3,BaseRA_VID!$A$3:$I$910,4,0),\"N.A.\")","v":{"v":10779344.74,"d":"10,779,345"}},{"$f":"+IFERROR(VLOOKUP($A14&$D$3,BaseRA_VID!$A$3:$I$910,5,0),\"N.A.\")","v":{"v":1255711.78,"d":"1,255,712"}},{"$f":"+IFERROR(VLOOKUP($A14&$D$3,BaseRA_VID!$A$3:$I$910,6,0),\"N.A.\")","v":{"v":18933.76,"d":"18,934"}},{"$f":"+IFERROR(VLOOKUP($A14&$D$3,BaseRA_VID!$A$3:$I$910,7,0),\"N.A.\")","v":{"v":6514445.53,"d":"6,514,446"}},{"$f":"+IFERROR(VLOOKUP($A14&$D$3,BaseRA_VID!$A$3:$I$910,8,0),\"N.A.\")","v":{"v":110461.82,"d":"110,462"}},{"$f":"+IFERROR(VLOOKUP($A14&$D$3,BaseRA_VID!$A$3:$I$910,9,0),\"N.A.\")","v":{"v":129395.58,"d":"129,396"}}]
["COLMENA ARL",{"$f":"+IFERROR(VLOOKUP($A15&$D$3,BaseRA_VID!$A$3:$I$910,4,0),\"N.A.\")","v":{"v":2116597.91,"d":"2,116,598"}},{"$f":"+IFERROR(VLOOKUP($A15&$D$3,BaseRA_VID!$A$3:$I$910,5,0),\"N.A.\")","v":{"v":225972.35,"d":"225,972"}},{"$f":"+IFERROR(VLOOKUP($A15&$D$3,BaseRA_VID!$A$3:$I$910,6,0),\"N.A.\")","v":{"v":3389.59,"d":"3,390"}},{"$f":"+IFERROR(VLOOKUP($A15&$D$3,BaseRA_VID!$A$3:$I$910,7,0),\"N.A.\")","v":{"v":726612.91,"d":"726,613"}},{"$f":"+IFERROR(VLOOKUP($A15&$D$3,BaseRA_VID!$A$3:$I$910,8,0),\"N.A.\")","v":{"v":16055.69,"d":"16,056"}},{"$f":"+IFERROR(VLOOKUP($A15&$D$3,BaseRA_VID!$A$3:$I$910,9,0),\"N.A.\")","v":{"v":19445.28,"d":"19,445"}}]
["COLMENA VIDA",{"$f":"+IFERROR(VLOOKUP($A16&$D$3,BaseRA_VID!$A$3:$I$910,4,0),\"N.A.\")","v":{"v":94839.71,"d":"94,840"}},{"$f":"+IFERROR(VLOOKUP($A16&$D$3,BaseRA_VID!$A$3:$I$910,5,0),\"N.A.\")","v":{"v":27930.93,"d":"27,931"}},{"$f":"+IFERROR(VLOOKUP($A16&$D$3,BaseRA_VID!$A$3:$I$910,6,0),\"N.A.\")","v":{"v":418.96,"d":"419"}},{"$f":"+IFERROR(VLOOKUP($A16&$D$3,BaseRA_VID!$A$3:$I$910,7,0),\"N.A.\")","v":{"v":203540.91,"d":"203,541"}},{"$f":"+IFERROR(VLOOKUP($A16&$D$3,BaseRA_VID!$A$3:$I$910,8,0),\"N.A.\")","v":{"v":6932.49,"d":"6,932"}},{"$f":"+IFERROR(VLOOKUP($A16&$D$3,BaseRA_VID!$A$3:$I$910,9,0),\"N.A.\")","v":{"v":7351.45,"d":"7,351"}}]
["COLSANITAS",{"$f":"+IFERROR(VLOOKUP($A17&$D$3,BaseRA_VID!$A$3:$I$910,4,0),\"N.A.\")","v":{"v":65167.72,"d":"65,168"}},{"$f":"+IFERROR(VLOOKUP($A17&$D$3,BaseRA_VID!$A$3:$I$910,5,0),\"N.A.\")","v":{"v":26795.19,"d":"26,795"}},{"$f":"+IFERROR(VLOOKUP($A17&$D$3,BaseRA_VID!$A$3:$I$910,6,0),\"N.A.\")","v":{"v":401.93,"d":"402"}},{"$f":"+IFERROR(VLOOKUP($A17&$D$3,BaseRA_VID!$A$3:$I$910,7,0),\"N.A.\")","v":{"v":68252.06,"d":"68,252"}},{"$f":"+IFERROR(VLOOKUP($A17&$D$3,BaseRA_VID!$A$3:$I$910,8,0),\"N.A.\")","v":{"v":3625.05,"d":"3,625"}},{"$f":"+IFERROR(VLOOKUP($A17&$D$3,BaseRA_VID!$A$3:$I$910,9,0),\"N.A.\")","v":{"v":4026.98,"d":"4,027"}}]
["EQUIDAD VIDA",{"$f":"+IFERROR(VLOOKUP($A18&$D$3,BaseRA_VID!$A$3:$I$910,4,0),\"N.A.\")","v":{"v":572971.07,"d":"572,971"}},{"$f":"+IFERROR(VLOOKUP($A18&$D$3,BaseRA_VID!$A$3:$I$910,5,0),\"N.A.\")","v":{"v":43484.85,"d":"43,485"}},{"$f":"+IFERROR(VLOOKUP($A18&$D$3,BaseRA_VID!$A$3:$I$910,6,0),\"N.A.\")","v":{"v":652.27,"d":"652"}},{"$f":"+IFERROR(VLOOKUP($A18&$D$3,BaseRA_VID!$A$3:$I$910,7,0),\"N.A.\")","v":{"v":264395.98,"d":"264,396"}},{"$f":"+IFERROR(VLOOKUP($A18&$D$3,BaseRA_VID!$A$3:$I$910,8,0),\"N.A.\")","v":{"v":5216.96,"d":"5,217"}},{"$f":"+IFERROR(VLOOKUP($A18&$D$3,BaseRA_VID!$A$3:$I$910,9,0),\"N.A.\")","v":{"v":5869.23,"d":"5,869"}}]
["ESTADO VIDA",{"$f":"+IFERROR(VLOOKUP($A19&$D$3,BaseRA_VID!$A$3:$I$910,4,0),\"N.A.\")","v":{"v":38239.04,"d":"38,239"}},{"$f":"+IFERROR(VLOOKUP($A19&$D$3,BaseRA_VID!$A$3:$I$910,5,0),\"N.A.\")","v":{"v":49307.66,"d":"49,308"}},{"$f":"+IFERROR(VLOOKUP($A19&$D$3,BaseRA_VID!$A$3:$I$910,6,0),\"N.A.\")","v":{"v":739.61,"d":"740"}},{"$f":"+IFERROR(VLOOKUP($A19&$D$3,BaseRA_VID!$A$3:$I$910,7,0),\"N.A.\")","v":{"v":100864.57,"d":"100,865"}},{"$f":"+IFERROR(VLOOKUP($A19&$D$3,BaseRA_VID!$A$3:$I$910,8,0),\"N.A.\")","v":{"v":3055.9,"d":"3,056"}},{"$f":"+IFERROR(VLOOKUP($A19&$D$3,BaseRA_VID!$A$3:$I$910,9,0),\"N.A.\")","v":{"v":3795.51,"d":"3,796"}}]
["GLOBAL",{"$f":"+IFERROR(VLOOKUP($A20&$D$3,BaseRA_VID!$A$3:$I$910,4,0),\"N.A.\")","v":{"v":3225626.81,"d":"3,225,627"}},{"$f":"+IFERROR(VLOOKUP($A20&$D$3,BaseRA_VID!$A$3:$I$910,5,0),\"N.A.\")","v":{"v":302713.9,"d":"302,714"}},{"$f":"+IFERROR(VLOOKUP($A20&$D$3,BaseRA_VID!$A$3:$I$910,6,0),\"N.A.\")","v":{"v":6116.83,"d":"6,117"}},{"$f":"+IFERROR(VLOOKUP($A20&$D$3,BaseRA_VID!$A$3:$I$910,7,0),\"N.A.\")","v":{"v":3002700.63,"d":"3,002,701"}},{"$f":"+IFERROR(VLOOKUP($A20&$D$3,BaseRA_VID!$A$3:$I$910,8,0),\"N.A.\")","v":{"v":83922.02,"d":"83,922"}},{"$f":"+IFERROR(VLOOKUP($A20&$D$3,BaseRA_VID!$A$3:$I$910,9,0),\"N.A.\")","v":{"v":90038.85,"d":"90,039"}}]
["MAPFRE VIDA",{"$f":"+IFERROR(VLOOKUP($A21&$D$3,BaseRA_VID!$A$3:$I$910,4,0),\"N.A.\")","v":{"v":5488442.3,"d":"5,488,442"}},{"$f":"+IFERROR(VLOOKUP($A21&$D$3,BaseRA_VID!$A$3:$I$910,5,0),\"N.A.\")","v":{"v":162479.11,"d":"162,479"}},{"$f":"+IFERROR(VLOOKUP($A21&$D$3,BaseRA_VID!$A$3:$I$910,6,0),\"N.A.\")","v":{"v":2417.18,"d":"2,417"}},{"$f":"+IFERROR(VLOOKUP($A21&$D$3,BaseRA_VID!$A$3:$I$910,7,0),\"N.A.\")","v":{"v":1412880.43,"d":"1,412,880"}},{"$f":"+IFERROR(VLOOKUP($A21&$D$3,BaseRA_VID!$A$3:$I$910,8,0),\"N.A.\")","v":{"v":22196.64,"d":"22,197"}},{"$f":"+IFERROR(VLOOKUP($A21&$D$3,BaseRA_VID!$A$3:$I$910,9,0),\"N.A.\")","v":{"v":24613.82,"d":"24,614"}}]
["METLIFE",{"$f":"+IFERROR(VLOOKUP($A22&$D$3,BaseRA_VID!$A$3:$I$910,4,0),\"N.A.\")","v":{"v":2376290.46,"d":"2,376,290"}},{"$f":"+IFERROR(VLOOKUP($A22&$D$3,BaseRA_VID!$A$3:$I$910,5,0),\"N.A.\")","v":{"v":7419.11,"d":"7,419"}},{"$f":"+IFERROR(VLOOKUP($A22&$D$3,BaseRA_VID!$A$3:$I$910,6,0),\"N.A.\")","v":{"v":111.29,"d":"111"}},{"$f":"+IFERROR(VLOOKUP($A22&$D$3,BaseRA_VID!$A$3:$I$910,7,0),\"N.A.\")","v":{"v":365252.35,"d":"365,252"}},{"$f":"+IFERROR(VLOOKUP($A22&$D$3,BaseRA_VID!$A$3:$I$910,8,0),\"N.A.\")","v":{"v":11917.98,"d":"11,918"}},{"$f":"+IFERROR(VLOOKUP($A22&$D$3,BaseRA_VID!$A$3:$I$910,9,0),\"N.A.\")","v":{"v":12029.27,"d":"12,029"}}]
["PANAMERICAN VIDA",{"$f":"+IFERROR(VLOOKUP($A23&$D$3,BaseRA_VID!$A$3:$I$910,4,0),\"N.A.\")","v":{"v":73758.59,"d":"73,759"}},{"$f":"+IFERROR(VLOOKUP($A23&$D$3,BaseRA_VID!$A$3:$I$910,5,0),\"N.A.\")","v":{"v":32236.75,"d":"32,237"}},{"$f":"+IFERROR(VLOOKUP($A23&$D$3,BaseRA_VID!$A$3:$I$910,6,0),\"N.A.\")","v":{"v":483.55,"d":"484"}},{"$f":"+IFERROR(VLOOKUP($A23&$D$3,BaseRA_VID!$A$3:$I$910,7,0),\"N.A.\")","v":{"v":185286.55,"d":"185,287"}},{"$f":"+IFERROR(VLOOKUP($A23&$D$3,BaseRA_VID!$A$3:$I$910,8,0),\"N.A.\")","v":{"v":7658.46,"d":"7,658"}},{"$f":"+IFERROR(VLOOKUP($A23&$D$3,BaseRA_VID!$A$3:$I$910,9,0),\"N.A.\")","v":{"v":8142.01,"d":"8,142"}}]
["POSITIVA",{"$f":"+IFERROR(VLOOKUP($A24&$D$3,BaseRA_VID!$A$3:$I$910,4,0),\"N.A.\")","v":{"v":8723271.97,"d":"8,723,272"}},{"$f":"+IFERROR(VLOOKUP($A24&$D$3,BaseRA_VID!$A$3:$I$910,5,0),\"N.A.\")","v":{"v":1063920.07,"d":"1,063,920"}},{"$f":"+IFERROR(VLOOKUP($A24&$D$3,BaseRA_VID!$A$3:$I$910,6,0),\"N.A.\")","v":{"v":15958.8,"d":"15,959"}},{"$f":"+IFERROR(VLOOKUP($A24&$D$3,BaseRA_VID!$A$3:$I$910,7,0),\"N.A.\")","v":{"v":2652406.53,"d":"2,652,407"}},{"$f":"+IFERROR(VLOOKUP($A24&$D$3,BaseRA_VID!$A$3:$I$910,8,0),\"N.A.\")","v":{"v":59077.83,"d":"59,078"}},{"$f":"+IFERROR(VLOOKUP($A24&$D$3,BaseRA_VID!$A$3:$I$910,9,0),\"N.A.\")","v":{"v":75036.63,"d":"75,037"}}]
["SKANDIA",{"$f":"+IFERROR(VLOOKUP($A25&$D$3,BaseRA_VID!$A$3:$I$910,4,0),\"N.A.\")","v":{"v":1286559.04,"d":"1,286,559"}},{"$f":"+IFERROR(VLOOKUP($A25&$D$3,BaseRA_VID!$A$3:$I$910,5,0),\"N.A.\")","v":{"v":333779.92,"d":"333,780"}},{"$f":"+IFERROR(VLOOKUP($A25&$D$3,BaseRA_VID!$A$3:$I$910,6,0),\"N.A.\")","v":{"v":5042.27,"d":"5,042"}},{"$f":"+IFERROR(VLOOKUP($A25&$D$3,BaseRA_VID!$A$3:$I$910,7,0),\"N.A.\")","v":{"v":184414.95,"d":"184,415"}},{"$f":"+IFERROR(VLOOKUP($A25&$D$3,BaseRA_VID!$A$3:$I$910,8,0),\"N.A.\")","v":{"v":7013.47,"d":"7,013"}},{"$f":"+IFERROR(VLOOKUP($A25&$D$3,BaseRA_VID!$A$3:$I$910,9,0),\"N.A.\")","v":{"v":12055.740000000002,"d":"12,056"}}]
["SURAMERICANA VIDA",{"$f":"+IFERROR(VLOOKUP($A26&$D$3,BaseRA_VID!$A$3:$I$910,4,0),\"N.A.\")","v":{"v":19318643.52,"d":"19,318,644"}},{"$f":"+IFERROR(VLOOKUP($A26&$D$3,BaseRA_VID!$A$3:$I$910,5,0),\"N.A.\")","v":{"v":449635.78,"d":"449,636"}},{"$f":"+IFERROR(VLOOKUP($A26&$D$3,BaseRA_VID!$A$3:$I$910,6,0),\"N.A.\")","v":{"v":6744.53,"d":"6,745"}},{"$f":"+IFERROR(VLOOKUP($A26&$D$3,BaseRA_VID!$A$3:$I$910,7,0),\"N.A.\")","v":{"v":6397109.85,"d":"6,397,110"}},{"$f":"+IFERROR(VLOOKUP($A26&$D$3,BaseRA_VID!$A$3:$I$910,8,0),\"N.A.\")","v":{"v":196421.14,"d":"196,421"}},{"$f":"+IFERROR(VLOOKUP($A26&$D$3,BaseRA_VID!$A$3:$I$910,9,0),\"N.A.\")","v":{"v":203165.67,"d":"203,166"}}]

{"sheet":"BaseCM_GEN","index":14,"n_rows":86,"n_cols":7,"rows_kept":86,"hidden":true}
[{"$nulls":3},"VALOR"]
[{"$nulls":3},"CAPITAL MINIMO ACREDITADO","CAPITAL MÍNIMO  REQUERIDO","EXCESO O DEFECTO","RESULTADOS DEL EJERCICIO"]
[{"$f":"+B3&C3","v":"ALFA45777"},"ALFA","2025-04-30",{"v":159733,"d":"159,733"},{"v":31231,"d":"31,231.00"},{"v":128502,"d":"128,502"},{"v":8449,"d":"8,449"}]
[{"$f":"+B4&C4","v":"ALFA45808"},"ALFA","2025-05-31",{"v":159733,"d":"159,733"},{"v":31231,"d":"31,231.00"},{"v":128502,"d":"128,502"},{"v":9597,"d":"9,597"}]
["ALFA45838","ALFA","2025-06-30",{"v":159733,"d":"159,733"},{"v":31231,"d":"31,231.00"},{"v":128502,"d":"128,502"},{"v":10729,"d":"10,729"}]
["ALLIANZ45777","ALLIANZ","2025-04-30",{"v":321184,"d":"321,184"},{"v":63980,"d":"63,980.00"},{"v":257204,"d":"257,204"},{"v":29353,"d":"29,353"}]
["ALLIANZ45808","ALLIANZ","2025-05-31",{"v":321184,"d":"321,184"},{"v":63980,"d":"63,980.00"},{"v":257204,"d":"257,204"},{"v":40376,"d":"40,376"}]
["ALLIANZ45838","ALLIANZ","2025-06-30",{"v":321184,"d":"321,184"},{"v":63980,"d":"63,980.00"},{"v":257204,"d":"257,204"},{"v":44382,"d":"44,382"}]
["AXA COLPATRIA45777","AXA COLPATRIA","2025-04-30",{"v":536431,"d":"536,431"},{"v":63980,"d":"63,980.00"},{"v":472451,"d":"472,451"},{"v":37833,"d":"37,833"}]
["AXA COLPATRIA45808","AXA COLPATRIA","2025-05-31",{"v":536431,"d":"536,431"},{"v":63980,"d":"63,980.00"},{"v":472451,"d":"472,451"},{"v":50382,"d":"50,382"}]
["AXA COLPATRIA45838","AXA COLPATRIA","2025-06-30",{"v":536431,"d":"536,431"},{"v":63980,"d":"63,980.00"},{"v":472451,"d":"472,451"},{"v":56492,"d":"56,492"}]
["BBVA SEGUROS45777","BBVA SEGUROS","2025-04-30",{"v":146519,"d":"146,519"},{"v":31231,"d":"31,231.00"},{"v":115288,"d":"115,288"},{"v":15347,"d":"15,347"}]
["BBVA SEGUROS45808","BBVA SEGUROS","2025-05-31",{"v":146519,"d":"146,519"},{"v":31231,"d":"31,231.00"},{"v":115288,"d":"115,288"},{"v":15162,"d":"15,162"}]
["BBVA SEGUROS45838","BBVA SEGUROS","2025-06-30",{"v":146519,"d":"146,519"},{"v":31231,"d":"31,231.00"},{"v":115288,"d":"115,288"},{"v":18419,"d":"18,419"}]
["BERKLEY45777","BERKLEY","2025-04-30",{"v":37756,"d":"37,756"},{"v":26291,"d":"26,291.00"},{"v":11465,"d":"11,465"},{"v":3560,"d":"3,560"}]
["BERKLEY45808","BERKLEY","2025-05-31",{"v":37756,"d":"37,756"},{"v":26291,"d":"26,291.00"},{"v":11465,"d":"11,465"},{"v":4185,"d":"4,185"}]
["BERKLEY45838","BERKLEY","2025-06-30",{"v":37756,"d":"37,756"},{"v":26291,"d":"26,291.00"},{"v":11465,"d":"11,465"},{"v":3998,"d":"3,998"}]
["BOLIVAR45777","BOLIVAR","2025-04-30",{"v":1246958,"d":"1,246,958"},{"v":63980,"d":"63,980.00"},{"v":1182978,"d":"1,182,978"},{"v":92416,"d":"92,416"}]
["BOLIVAR45808","BOLIVAR","2025-05-31",{"v":1246924,"d":"1,246,924"},{"v":63980,"d":"63,980.00"},{"v":1182944,"d":"1,182,944"},{"v":97021,"d":"97,021"}]
["BOLIVAR45838","BOLIVAR","2025-06-30",{"v":1246924,"d":"1,246,924"},{"v":63980,"d":"63,980.00"},{"v":1182944,"d":"1,182,944"},{"v":118386,"d":"118,386"}]
["CARDIF45777","CARDIF","2025-04-30",{"v":561895,"d":"561,895"},{"v":63980,"d":"63,980.00"},{"v":497915,"d":"497,915"},{"v":21582,"d":"21,582"}]
["CARDIF45808","CARDIF","2025-05-31",{"v":437124,"d":"437,124"},{"v":63980,"d":"63,980.00"},{"v":373144,"d":"373,144"},{"v":26547,"d":"26,547"}]
["CARDIF45838","CARDIF","2025-06-30",{"v":437124,"d":"437,124"},{"v":63980,"d":"63,980.00"},{"v":373144,"d":"373,144"},{"v":35465,"d":"35,465"}]
["CHUBB45777","CHUBB","2025-04-30",{"v":283761,"d":"283,761"},{"v":63980,"d":"63,980.00"},{"v":219781,"d":"219,781"},{"v":32186,"d":"32,186"}]
["CHUBB45808","CHUBB","2025-05-31",{"v":283761,"d":"283,761"},{"v":63980,"d":"63,980.00"},{"v":219781,"d":"219,781"},{"v":32192,"d":"32,192"}]
["CHUBB45838","CHUBB","2025-06-30",{"v":283761,"d":"283,761"},{"v":63980,"d":"63,980.00"},{"v":219781,"d":"219,781"},{"v":31252,"d":"31,252"}]
["COFACE45777","COFACE","2025-04-30",{"v":95332,"d":"95,332"},{"v":20994,"d":"20,994.00"},{"v":74338,"d":"74,338"},{"v":3173,"d":"3,173"}]
["COFACE45808","COFACE","2025-05-31",{"v":95332,"d":"95,332"},{"v":20994,"d":"20,994.00"},{"v":74338,"d":"74,338"},{"v":3846,"d":"3,846"}]
["COFACE45838","COFACE","2025-06-30",{"v":95332,"d":"95,332"},{"v":20994,"d":"20,994.00"},{"v":74338,"d":"74,338"},{"v":3892,"d":"3,892"}]
["COLMENA45777","COLMENA","2025-04-30",{"v":22347,"d":"22,347"},{"v":21868,"d":"21,868.00"},479,421]
["COLMENA45808","COLMENA","2025-05-31",{"v":22347,"d":"22,347"},{"v":21868,"d":"21,868.00"},479,500]
["COLMENA45838","COLMENA","2025-06-30",{"v":25612,"d":"25,612"},{"v":21868,"d":"21,868.00"},{"v":3744,"d":"3,744"},0]
["CONFIANZA45777","CONFIANZA","2025-04-30",{"v":120634,"d":"120,634"},{"v":28906,"d":"28,906.00"},{"v":91728,"d":"91,728"},{"v":17439,"d":"17,439"}]
["CONFIANZA45808","CONFIANZA","2025-05-31",{"v":120634,"d":"120,634"},{"v":28906,"d":"28,906.00"},{"v":91728,"d":"91,728"},{"v":19455,"d":"19,455"}]
["CONFIANZA45838","CONFIANZA","2025-06-30",{"v":120634,"d":"120,634"},{"v":28906,"d":"28,906.00"},{"v":91728,"d":"91,728"},{"v":18950,"d":"18,950"}]
["EQUIDAD45777","EQUIDAD","2025-04-30",{"v":82984,"d":"82,984"},{"v":37376,"d":"37,376.00"},{"v":45608,"d":"45,608"},{"v":3414,"d":"3,414"}]
["EQUIDAD45808","EQUIDAD","2025-05-31",{"v":82986,"d":"82,986"},{"v":37376,"d":"37,376.00"},{"v":45610,"d":"45,610"},{"v":4773,"d":"4,773"}]
["EQUIDAD45838","EQUIDAD","2025-06-30",{"v":83178,"d":"83,178"},{"v":37376,"d":"37,376.00"},{"v":45802,"d":"45,802"},{"v":3855,"d":"3,855"}]
["ESTADO45777","ESTADO","2025-04-30",{"v":297698,"d":"297,698"},{"v":34449,"d":"34,449.00"},{"v":263249,"d":"263,249"},{"v":68066,"d":"68,066"}]
["ESTADO45808","ESTADO","2025-05-31",{"v":297698,"d":"297,698"},{"v":34449,"d":"34,449.00"},{"v":263249,"d":"263,249"},{"v":85962,"d":"85,962"}]
["ESTADO45838","ESTADO","2025-06-30",{"v":297698,"d":"297,698"},{"v":34449,"d":"34,449.00"},{"v":263249,"d":"263,249"},{"v":81543,"d":"81,543"}]
["EVEREST45777","EVEREST","2025-04-30",{"v":34701,"d":"34,701"},{"v":20994,"d":"20,994.00"},{"v":13707,"d":"13,707"},269]
["EVEREST45808","EVEREST","2025-05-31",{"v":34395,"d":"34,395"},{"v":20994,"d":"20,994.00"},{"v":13401,"d":"13,401"},0]
["EVEREST45838","EVEREST","2025-06-30",{"v":98255,"d":"98,255"},{"v":20994,"d":"20,994.00"},{"v":77261,"d":"77,261"},0]
["JMALUCELLI TRAVELERS45777","JMALUCELLI TRAVELERS","2025-04-30",{"v":43588,"d":"43,588"},{"v":20994,"d":"20,994.00"},{"v":22594,"d":"22,594"},0]
["JMALUCELLI TRAVELERS45808","JMALUCELLI TRAVELERS","2025-05-31",{"v":43788,"d":"43,788"},{"v":20994,"d":"20,994.00"},{"v":22794,"d":"22,794"},0]
["JMALUCELLI TRAVELERS45838","JMALUCELLI TRAVELERS","2025-06-30",{"v":43570,"d":"43,570"},{"v":20994,"d":"20,994.00"},{"v":22576,"d":"22,576"},0]
["HDI SEGUROS45777","HDI SEGUROS","2025-04-30",{"v":438483,"d":"438,483"},{"v":40303,"d":"40,303.00"},{"v":398180,"d":"398,180"},{"v":40879,"d":"40,879"}]
["HDI SEGUROS45808","HDI SEGUROS","2025-05-31",{"v":438483,"d":"438,483"},{"v":40303,"d":"40,303.00"},{"v":398180,"d":"398,180"},{"v":54200,"d":"54,200"}]
["HDI SEGUROS45838","HDI SEGUROS","2025-06-30",{"v":438483,"d":"438,483"},{"v":40303,"d":"40,303.00"},{"v":398180,"d":"398,180"},{"v":68378,"d":"68,378"}]
["MAPFRE45777","MAPFRE","2025-04-30",{"v":493258,"d":"493,258"},{"v":63980,"d":"63,980.00"},{"v":429278,"d":"429,278"},{"v":47747,"d":"47,747"}]
["MAPFRE45808","MAPFRE","2025-05-31",{"v":493258,"d":"493,258"},{"v":63980,"d":"63,980.00"},{"v":429278,"d":"429,278"},{"v":57817,"d":"57,817"}]
["MAPFRE45838","MAPFRE","2025-06-30",{"v":493258,"d":"493,258"},{"v":63980,"d":"63,980.00"},{"v":429278,"d":"429,278"},{"v":67496,"d":"67,496"}]
["MUNDIAL45777","MUNDIAL","2025-04-30",{"v":215417,"d":"215,417"},{"v":41468,"d":"41,468.00"},{"v":173949,"d":"173,949"},{"v":32601,"d":"32,601"}]
["MUNDIAL45808","MUNDIAL","2025-05-31",{"v":215417,"d":"215,417"},{"v":41468,"d":"41,468.00"},{"v":173949,"d":"173,949"},{"v":38275,"d":"38,275"}]
["MUNDIAL45838","MUNDIAL","2025-06-30",{"v":195417,"d":"195,417"},{"v":41468,"d":"41,468.00"},{"v":153949,"d":"153,949"},{"v":39704,"d":"39,704"}]
["NACIONAL45777","NACIONAL","2025-04-30",{"v":92725,"d":"92,725"},{"v":20994,"d":"20,994.00"},{"v":71731,"d":"71,731"},{"v":5663,"d":"5,663"}]
["NACIONAL45808","NACIONAL","2025-05-31",{"v":92725,"d":"92,725"},{"v":20994,"d":"20,994.00"},{"v":71731,"d":"71,731"},{"v":7167,"d":"7,167"}]
["NACIONAL45838","NACIONAL","2025-06-30",{"v":92725,"d":"92,725"},{"v":20994,"d":"20,994.00"},{"v":71731,"d":"71,731"},{"v":8618,"d":"8,618"}]
["PREVISORA45777","PREVISORA","2025-04-30",{"v":567742,"d":"567,742"},{"v":37376,"d":"37,376.00"},{"v":530366,"d":"530,366"},{"v":85538,"d":"85,538"}]
["PREVISORA45808","PREVISORA","2025-05-31",{"v":567742,"d":"567,742"},{"v":37376,"d":"37,376.00"},{"v":530366,"d":"530,366"},{"v":95421,"d":"95,421"}]
["PREVISORA45838","PREVISORA","2025-06-30",{"v":567742,"d":"567,742"},{"v":37376,"d":"37,376.00"},{"v":530366,"d":"530,366"},{"v":111179,"d":"111,179"}]
["QUALITAS45777","QUALITAS","2025-04-30",{"v":32506,"d":"32,506"},{"v":21261,"d":"21,261.00"},{"v":11245,"d":"11,245"},0]
["QUALITAS45808","QUALITAS","2025-05-31",{"v":31212,"d":"31,212"},{"v":21261,"d":"21,261.00"},{"v":9951,"d":"9,951"},0]
["QUALITAS45838","QUALITAS","2025-06-30",{"v":40233,"d":"40,233"},{"v":21261,"d":"21,261.00"},{"v":18972,"d":"18,972"},0]
["SBS SEGUROS45777","SBS SEGUROS","2025-04-30",{"v":292750,"d":"292,750"},{"v":63980,"d":"63,980.00"},{"v":228770,"d":"228,770"},{"v":7956,"d":"7,956"}]
["SBS SEGUROS45808","SBS SEGUROS","2025-05-31",{"v":292750,"d":"292,750"},{"v":63980,"d":"63,980.00"},{"v":228770,"d":"228,770"},{"v":14600,"d":"14,600"}]
[{"$f":"+B68&C68","v":"SBS SEGUROS45838"},"SBS SEGUROS","2025-06-30",{"v":292750,"d":"292,750"},{"v":63980,"d":"63,980.00"},{"v":228770,"d":"228,770"},{"v":17437,"d":"17,437"}]
["SEGUREXPO45777","SEGUREXPO","2025-04-30",{"v":32643,"d":"32,643"},{"v":25086,"d":"25,086.00"},{"v":7557,"d":"7,557"},{"v":1852,"d":"1,852"}]
["SEGUREXPO45808","SEGUREXPO","2025-05-31",{"v":32643,"d":"32,643"},{"v":25086,"d":"25,086.00"},{"v":7557,"d":"7,557"},{"v":1156,"d":"1,156"}]
["SEGUREXPO45838","SEGUREXPO","2025-06-30",{"v":32643,"d":"32,643"},{"v":25086,"d":"25,086.00"},{"v":7557,"d":"7,557"},956]
["SOLIDARIA45777","SOLIDARIA","2025-04-30",{"v":336383,"d":"336,383"},{"v":37376,"d":"37,376.00"},{"v":299007,"d":"299,007"},{"v":25908,"d":"25,908"}]
["SOLIDARIA45808","SOLIDARIA","2025-05-31",{"v":336383,"d":"336,383"},{"v":37376,"d":"37,376.00"},{"v":299007,"d":"299,007"},{"v":28424,"d":"28,424"}]
["SOLIDARIA45838","SOLIDARIA","2025-06-30",{"v":336383,"d":"336,383"},{"v":37376,"d":"37,376.00"},{"v":299007,"d":"299,007"},{"v":34050,"d":"34,050"}]
["SOLUNION45777","SOLUNION","2025-04-30",{"v":45865,"d":"45,865"},{"v":25086,"d":"25,086.00"},{"v":20779,"d":"20,779"},{"v":5035,"d":"5,035"}]
["SOLUNION45808","SOLUNION","2025-05-31",{"v":45865,"d":"45,865"},{"v":25086,"d":"25,086.00"},{"v":20779,"d":"20,779"},{"v":4434,"d":"4,434"}]
["SOLUNION45838","SOLUNION","2025-06-30",{"v":45865,"d":"45,865"},{"v":25086,"d":"25,086.00"},{"v":20779,"d":"20,779"},{"v":5355,"d":"5,355"}]
["SURAMERICANA45777","SURAMERICANA","2025-04-30",{"v":730621,"d":"730,621"},{"v":63980,"d":"63,980.00"},{"v":666641,"d":"666,641"},{"v":51225,"d":"51,225"}]
["SURAMERICANA45808","SURAMERICANA","2025-05-31",{"v":730621,"d":"730,621"},{"v":63980,"d":"63,980.00"},{"v":666641,"d":"666,641"},{"v":68474,"d":"68,474"}]
["SURAMERICANA45838","SURAMERICANA","2025-06-30",{"v":730807,"d":"730,807"},{"v":63980,"d":"63,980.00"},{"v":666827,"d":"666,827"},{"v":78622,"d":"78,622"}]
["ZURICH45777","ZURICH","2025-04-30",{"v":184138,"d":"184,138"},{"v":63980,"d":"63,980.00"},{"v":120158,"d":"120,158"},0]
["ZURICH45808","ZURICH","2025-05-31",{"v":178683,"d":"178,683"},{"v":63980,"d":"63,980.00"},{"v":114703,"d":"114,703"},0]
["ZURICH45838","ZURICH","2025-06-30",{"v":196539,"d":"196,539"},{"v":63980,"d":"63,980.00"},{"v":132559,"d":"132,559"},0]
["COMPAÑÍAS45777","COMPAÑÍAS","2025-04-30",{"v":7454051,"d":"7,454,051"},{"v":1099104,"d":"1,099,104.00"},{"v":6354947,"d":"6,354,947"},{"v":637912,"d":"637,912"}]
["COMPAÑÍAS45808","COMPAÑÍAS","2025-05-31",{"v":7322395,"d":"7,322,395"},{"v":1099104,"d":"1,099,104.00"},{"v":6223291,"d":"6,223,291"},{"v":759964,"d":"759,964"}]
["COMPAÑÍAS45838","COMPAÑÍAS","2025-06-30",{"v":7396557,"d":"7,396,557"},{"v":1099104,"d":"1,099,104.00"},{"v":6297453,"d":"6,297,453"},{"v":859159,"d":"859,159"}]

{"sheet":"CM_GEN","index":15,"n_rows":32,"n_cols":5,"rows_kept":32,"merged":[[0,1,0,4],[1,2,1,3],[2,2,2,3],[3,2,3,3],[4,0,5,0],[4,1,4,4]]}
[null,"COMPAÑÍAS DE SEGUROS GENERALES"]
[null,null,"CAPITALES MÍNIMOS"]
[null,null,"2025-06-30"]
[null,null,"CIFRAS EN MILLONES DE PESOS"]
["COMPAÑÍAS","Valor"]
[null,"Capital Mínimo Acreditado","Capital Mínimo Requerido","Exceso o defecto","Resultados del Ejecicio"]
["ALFA",{"$f":"+IFERROR(VLOOKUP($A7&$C$3,BaseCM_GEN!$A$3:$I$865,4,0),\"N.A.\")","v":{"v":159733,"d":"159,733"}},{"$f":"+IFERROR(VLOOKUP($A7&$C$3,BaseCM_GEN!$A$3:$I$865,5,0),\"N.A.\")","v":{"v":31231,"d":"31,231"}},{"$f":"+IFERROR(VLOOKUP($A7&$C$3,BaseCM_GEN!$A$3:$I$865,6,0),\"N.A.\")","v":{"v":128502,"d":"128,502"}},{"$f":"+IFERROR(VLOOKUP($A7&$C$3,BaseCM_GEN!$A$3:$I$865,7,0),\"N.A.\")","v":{"v":10729,"d":"10,729"}}]
["ALLIANZ",{"$f":"+IFERROR(VLOOKUP($A8&$C$3,BaseCM_GEN!$A$3:$I$865,4,0),\"N.A.\")","v":{"v":321184,"d":"321,184"}},{"$f":"+IFERROR(VLOOKUP($A8&$C$3,BaseCM_GEN!$A$3:$I$865,5,0),\"N.A.\")","v":{"v":63980,"d":"63,980"}},{"$f":"+IFERROR(VLOOKUP($A8&$C$3,BaseCM_GEN!$A$3:$I$865,6,0),\"N.A.\")","v":{"v":257204,"d":"257,204"}},{"$f":"+IFERROR(VLOOKUP($A8&$C$3,BaseCM_GEN!$A$3:$I$865,7,0),\"N.A.\")","v":{"v":44382,"d":"44,382"}}]
["AXA COLPATRIA",{"$f":"+IFERROR(VLOOKUP($A9&$C$3,BaseCM_GEN!$A$3:$I$865,4,0),\"N.A.\")","v":{"v":536431,"d":"536,431"}},{"$f":"+IFERROR(VLOOKUP($A9&$C$3,BaseCM_GEN!$A$3:$I$865,5,0),\"N.A.\")","v":{"v":63980,"d":"63,980"}},{"$f":"+IFERROR(VLOOKUP($A9&$C$3,BaseCM_GEN!$A$3:$I$865,6,0),\"N.A.\")","v":{"v":472451,"d":"472,451"}},{"$f":"+IFERROR(VLOOKUP($A9&$C$3,BaseCM_GEN!$A$3:$I$865,7,0),\"N.A.\")","v":{"v":56492,"d":"56,492"}}]
["BBVA SEGUROS",{"$f":"+IFERROR(VLOOKUP($A10&$C$3,BaseCM_GEN!$A$3:$I$865,4,0),\"N.A.\")","v":{"v":146519,"d":"146,519"}},{"$f":"+IFERROR(VLOOKUP($A10&$C$3,BaseCM_GEN!$A$3:$I$865,5,0),\"N.A.\")","v":{"v":31231,"d":"31,231"}},{"$f":"+IFERROR(VLOOKUP($A10&$C$3,BaseCM_GEN!$A$3:$I$865,6,0),\"N.A.\")","v":{"v":115288,"d":"115,288"}},{"$f":"+IFERROR(VLOOKUP($A10&$C$3,BaseCM_GEN!$A$3:$I$865,7,0),\"N.A.\")","v":{"v":18419,"d":"18,419"}}]
["BERKLEY",{"$f":"+IFERROR(VLOOKUP($A11&$C$3,BaseCM_GEN!$A$3:$I$865,4,0),\"N.A.\")","v":{"v":37756,"d":"37,756"}},{"$f":"+IFERROR(VLOOKUP($A11&$C$3,BaseCM_GEN!$A$3:$I$865,5,0),\"N.A.\")","v":{"v":26291,"d":"26,291"}},{"$f":"+IFERROR(VLOOKUP($A11&$C$3,BaseCM_GEN!$A$3:$I$865,6,0),\"N.A.\")","v":{"v":11465,"d":"11,465"}},{"$f":"+IFERROR(VLOOKUP($A11&$C$3,BaseCM_GEN!$A$3:$I$865,7,0),\"N.A.\")","v":{"v":3998,"d":"3,998"}}]
["BOLIVAR",{"$f":"+IFERROR(VLOOKUP($A12&$C$3,BaseCM_GEN!$A$3:$I$865,4,0),\"N.A.\")","v":{"v":1246924,"d":"1,246,924"}},{"$f":"+IFERROR(VLOOKUP($A12&$C$3,BaseCM_GEN!$A$3:$I$865,5,0),\"N.A.\")","v":{"v":63980,"d":"63,980"}},{"$f":"+IFERROR(VLOOKUP($A12&$C$3,BaseCM_GEN!$A$3:$I$865,6,0),\"N.A.\")","v":{"v":1182944,"d":"1,182,944"}},{"$f":"+IFERROR(VLOOKUP($A12&$C$3,BaseCM_GEN!$A$3:$I$865,7,0),\"N.A.\")","v":{"v":118386,"d":"118,386"}}]
["CARDIF",{"$f":"+IFERROR(VLOOKUP($A13&$C$3,BaseCM_GEN!$A$3:$I$865,4,0),\"N.A.\")","v":{"v":437124,"d":"437,124"}},{"$f":"+IFERROR(VLOOKUP($A13&$C$3,BaseCM_GEN!$A$3:$I$865,5,0),\"N.A.\")","v":{"v":63980,"d":"63,980"}},{"$f":"+IFERROR(VLOOKUP($A13&$C$3,BaseCM_GEN!$A$3:$I$865,6,0),\"N.A.\")","v":{"v":373144,"d":"373,144"}},{"$f":"+IFERROR(VLOOKUP($A13&$C$3,BaseCM_GEN!$A$3:$I$865,7,0),\"N.A.\")","v":{"v":35465,"d":"35,465"}}]
["CHUBB",{"$f":"+IFERROR(VLOOKUP($A14&$C$3,BaseCM_GEN!$A$3:$I$865,4,0),\"N.A.\")","v":{"v":283761,"d":"283,761"}},{"$f":"+IFERROR(VLOOKUP($A14&$C$3,BaseCM_GEN!$A$3:$I$865,5,0),\"N.A.\")","v":{"v":63980,"d":"63,980"}},{"$f":"+IFERROR(VLOOKUP($A14&$C$3,BaseCM_GEN!$A$3:$I$865,6,0),\"N.A.\")","v":{"v":219781,"d":"219,781"}},{"$f":"+IFERROR(VLOOKUP($A14&$C$3,BaseCM_GEN!$A$3:$I$865,7,0),\"N.A.\")","v":{"v":31252,"d":"31,252"}}]
["COFACE",{"$f":"+IFERROR(VLOOKUP($A15&$C$3,BaseCM_GEN!$A$3:$I$865,4,0),\"N.A.\")","v":{"v":95332,"d":"95,332"}},{"$f":"+IFERROR(VLOOKUP($A15&$C$3,BaseCM_GEN!$A$3:$I$865,5,0),\"N.A.\")","v":{"v":20994,"d":"20,994"}},{"$f":"+IFERROR(VLOOKUP($A15&$C$3,BaseCM_GEN!$A$3:$I$865,6,0),\"N.A.\")","v":{"v":74338,"d":"74,338"}},{"$f":"+IFERROR(VLOOKUP($A15&$C$3,BaseCM_GEN!$A$3:$I$865,7,0),\"N.A.\")","v":{"v":3892,"d":"3,892"}}]
["COLMENA",{"$f":"+IFERROR(VLOOKUP($A16&$C$3,BaseCM_GEN!$A$3:$I$865,4,0),\"N.A.\")","v":{"v":25612,"d":"25,612"}},{"$f":"+IFERROR(VLOOKUP($A16&$C$3,BaseCM_GEN!$A$3:$I$865,5,0),\"N.A.\")","v":{"v":21868,"d":"21,868"}},{"$f":"+IFERROR(VLOOKUP($A16&$C$3,BaseCM_GEN!$A$3:$I$865,6,0),\"N.A.\")","v":{"v":3744,"d":"3,744"}},{"$f":"+IFERROR(VLOOKUP($A16&$C$3,BaseCM_GEN!$A$3:$I$865,7,0),\"N.A.\")","v":0}]
["CONFIANZA",{"$f":"+IFERROR(VLOOKUP($A17&$C$3,BaseCM_GEN!$A$3:$I$865,4,0),\"N.A.\")","v":{"v":120634,"d":"120,634"}},{"$f":"+IFERROR(VLOOKUP($A17&$C$3,BaseCM_GEN!$A$3:$I$865,5,0),\"N.A.\")","v":{"v":28906,"d":"28,906"}},{"$f":"+IFERROR(VLOOKUP($A17&$C$3,BaseCM_GEN!$A$3:$I$865,6,0),\"N.A.\")","v":{"v":91728,"d":"91,728"}},{"$f":"+IFERROR(VLOOKUP($A17&$C$3,BaseCM_GEN!$A$3:$I$865,7,0),\"N.A.\")","v":{"v":18950,"d":"18,950"}}]
["EQUIDAD",{"$f":"+IFERROR(VLOOKUP($A18&$C$3,BaseCM_GEN!$A$3:$I$865,4,0),\"N.A.\")","v":{"v":83178,"d":"83,178"}},{"$f":"+IFERROR(VLOOKUP($A18&$C$3,BaseCM_GEN!$A$3:$I$865,5,0),\"N.A.\")","v":{"v":37376,"d":"37,376"}},{"$f":"+IFERROR(VLOOKUP($A18&$C$3,BaseCM_GEN!$A$3:$I$865,6,0),\"N.A.\")","v":{"v":45802,"d":"45,802"}},{"$f":"+IFERROR(VLOOKUP($A18&$C$3,BaseCM_GEN!$A$3:$I$865,7,0),\"N.A.\")","v":{"v":3855,"d":"3,855"}}]
["ESTADO",{"$f":"+IFERROR(VLOOKUP($A19&$C$3,BaseCM_GEN!$A$3:$I$865,4,0),\"N.A.\")","v":{"v":297698,"d":"297,698"}},{"$f":"+IFERROR(VLOOKUP($A19&$C$3,BaseCM_GEN!$A$3:$I$865,5,0),\"N.A.\")","v":{"v":34449,"d":"34,449"}},{"$f":"+IFERROR(VLOOKUP($A19&$C$3,BaseCM_GEN!$A$3:$I$865,6,0),\"N.A.\")","v":{"v":263249,"d":"263,249"}},{"$f":"+IFERROR(VLOOKUP($A19&$C$3,BaseCM_GEN!$A$3:$I$865,7,0),\"N.A.\")","v":{"v":81543,"d":"81,543"}}]
["HDI SEGUROS",{"$f":"+IFERROR(VLOOKUP($A20&$C$3,BaseCM_GEN!$A$3:$I$865,4,0),\"N.A.\")","v":{"v":438483,"d":"438,483"}},{"$f":"+IFERROR(VLOOKUP($A20&$C$3,BaseCM_GEN!$A$3:$I$865,5,0),\"N.A.\")","v":{"v":40303,"d":"40,303"}},{"$f":"+IFERROR(VLOOKUP($A20&$C$3,BaseCM_GEN!$A$3:$I$865,6,0),\"N.A.\")","v":{"v":398180,"d":"398,180"}},{"$f":"+IFERROR(VLOOKUP($A20&$C$3,BaseCM_GEN!$A$3:$I$865,7,0),\"N.A.\")","v":{"v":68378,"d":"68,378"}}]
["JMALUCELLI TRAVELERS",{"$f":"+IFERROR(VLOOKUP($A21&$C$3,BaseCM_GEN!$A$3:$I$865,4,0),\"N.A.\")","v":{"v":43570,"d":"43,570"}},{"$f":"+IFERROR(VLOOKUP($A21&$C$3,BaseCM_GEN!$A$3:$I$865,5,0),\"N.A.\")","v":{"v":20994,"d":"20,994"}},{"$f":"+IFERROR(VLOOKUP($A21&$C$3,BaseCM_GEN!$A$3:$I$865,6,0),\"N.A.\")","v":{"v":22576,"d":"22,576"}},{"$f":"+IFERROR(VLOOKUP($A21&$C$3,BaseCM_GEN!$A$3:$I$865,7,0),\"N.A.\")","v":0}]
["MAPFRE",{"$f":"+IFERROR(VLOOKUP($A22&$C$3,BaseCM_GEN!$A$3:$I$865,4,0),\"N.A.\")","v":{"v":493258,"d":"493,258"}},{"$f":"+IFERROR(VLOOKUP($A22&$C$3,BaseCM_GEN!$A$3:$I$865,5,0),\"N.A.\")","v":{"v":63980,"d":"63,980"}},{"$f":"+IFERROR(VLOOKUP($A22&$C$3,BaseCM_GEN!$A$3:$I$865,6,0),\"N.A.\")","v":{"v":429278,"d":"429,278"}},{"$f":"+IFERROR(VLOOKUP($A22&$C$3,BaseCM_GEN!$A$3:$I$865,7,0),\"N.A.\")","v":{"v":67496,"d":"67,496"}}]
["MUNDIAL",{"$f":"+IFERROR(VLOOKUP($A23&$C$3,BaseCM_GEN!$A$3:$I$865,4,0),\"N.A.\")","v":{"v":195417,"d":"195,417"}},{"$f":"+IFERROR(VLOOKUP($A23&$C$3,BaseCM_GEN!$A$3:$I$865,5,0),\"N.A.\")","v":{"v":41468,"d":"41,468"}},{"$f":"+IFERROR(VLOOKUP($A23&$C$3,BaseCM_GEN!$A$3:$I$865,6,0),\"N.A.\")","v":{"v":153949,"d":"153,949"}},{"$f":"+IFERROR(VLOOKUP($A23&$C$3,BaseCM_GEN!$A$3:$I$865,7,0),\"N.A.\")","v":{"v":39704,"d":"39,704"}}]
["NACIONAL",{"$f":"+IFERROR(VLOOKUP($A24&$C$3,BaseCM_GEN!$A$3:$I$865,4,0),\"N.A.\")","v":{"v":92725,"d":"92,725"}},{"$f":"+IFERROR(VLOOKUP($A24&$C$3,BaseCM_GEN!$A$3:$I$865,5,0),\"N.A.\")","v":{"v":20994,"d":"20,994"}},{"$f":"+IFERROR(VLOOKUP($A24&$C$3,BaseCM_GEN!$A$3:$I$865,6,0),\"N.A.\")","v":{"v":71731,"d":"71,731"}},{"$f":"+IFERROR(VLOOKUP($A24&$C$3,BaseCM_GEN!$A$3:$I$865,7,0),\"N.A.\")","v":{"v":8618,"d":"8,618"}}]
["PREVISORA",{"$f":"+IFERROR(VLOOKUP($A25&$C$3,BaseCM_GEN!$A$3:$I$865,4,0),\"N.A.\")","v":{"v":567742,"d":"567,742"}},{"$f":"+IFERROR(VLOOKUP($A25&$C$3,BaseCM_GEN!$A$3:$I$865,5,0),\"N.A.\")","v":{"v":37376,"d":"37,376"}},{"$f":"+IFERROR(VLOOKUP($A25&$C$3,BaseCM_GEN!$A$3:$I$865,6,0),\"N.A.\")","v":{"v":530366,"d":"530,366"}},{"$f":"+IFERROR(VLOOKUP($A25&$C$3,BaseCM_GEN!$A$3:$I$865,7,0),\"N.A.\")","v":{"v":111179,"d":"111,179"}}]
["QUALITAS",{"$f":"+IFERROR(VLOOKUP($A26&$C$3,BaseCM_GEN!$A$3:$I$865,4,0),\"N.A.\")","v":{"v":40233,"d":"40,233"}},{"$f":"+IFERROR(VLOOKUP($A26&$C$3,BaseCM_GEN!$A$3:$I$865,5,0),\"N.A.\")","v":{"v":21261,"d":"21,261"}},{"$f":"+IFERROR(VLOOKUP($A26&$C$3,BaseCM_GEN!$A$3:$I$865,6,0),\"N.A.\")","v":{"v":18972,"d":"18,972"}},{"$f":"+IFERROR(VLOOKUP($A26&$C$3,BaseCM_GEN!$A$3:$I$865,7,0),\"N.A.\")","v":0}]
["SBS SEGUROS",{"$f":"+IFERROR(VLOOKUP($A27&$C$3,BaseCM_GEN!$A$3:$I$865,4,0),\"N.A.\")","v":{"v":292750,"d":"292,750"}},{"$f":"+IFERROR(VLOOKUP($A27&$C$3,BaseCM_GEN!$A$3:$I$865,5,0),\"N.A.\")","v":{"v":63980,"d":"63,980"}},{"$f":"+IFERROR(VLOOKUP($A27&$C$3,BaseCM_GEN!$A$3:$I$865,6,0),\"N.A.\")","v":{"v":228770,"d":"228,770"}},{"$f":"+IFERROR(VLOOKUP($A27&$C$3,BaseCM_GEN!$A$3:$I$865,7,0),\"N.A.\")","v":{"v":17437,"d":"17,437"}}]
["SEGUREXPO",{"$f":"+IFERROR(VLOOKUP($A28&$C$3,BaseCM_GEN!$A$3:$I$865,4,0),\"N.A.\")","v":{"v":32643,"d":"32,643"}},{"$f":"+IFERROR(VLOOKUP($A28&$C$3,BaseCM_GEN!$A$3:$I$865,5,0),\"N.A.\")","v":{"v":25086,"d":"25,086"}},{"$f":"+IFERROR(VLOOKUP($A28&$C$3,BaseCM_GEN!$A$3:$I$865,6,0),\"N.A.\")","v":{"v":7557,"d":"7,557"}},{"$f":"+IFERROR(VLOOKUP($A28&$C$3,BaseCM_GEN!$A$3:$I$865,7,0),\"N.A.\")","v":956}]
["SOLIDARIA",{"$f":"+IFERROR(VLOOKUP($A29&$C$3,BaseCM_GEN!$A$3:$I$865,4,0),\"N.A.\")","v":{"v":336383,"d":"336,383"}},{"$f":"+IFERROR(VLOOKUP($A29&$C$3,BaseCM_GEN!$A$3:$I$865,5,0),\"N.A.\")","v":{"v":37376,"d":"37,376"}},{"$f":"+IFERROR(VLOOKUP($A29&$C$3,BaseCM_GEN!$A$3:$I$865,6,0),\"N.A.\")","v":{"v":299007,"d":"299,007"}},{"$f":"+IFERROR(VLOOKUP($A29&$C$3,BaseCM_GEN!$A$3:$I$865,7,0),\"N.A.\")","v":{"v":34050,"d":"34,050"}}]
["SOLUNION",{"$f":"+IFERROR(VLOOKUP($A30&$C$3,BaseCM_GEN!$A$3:$I$865,4,0),\"N.A.\")","v":{"v":45865,"d":"45,865"}},{"$f":"+IFERROR(VLOOKUP($A30&$C$3,BaseCM_GEN!$A$3:$I$865,5,0),\"N.A.\")","v":{"v":25086,"d":"25,086"}},{"$f":"+IFERROR(VLOOKUP($A30&$C$3,BaseCM_GEN!$A$3:$I$865,6,0),\"N.A.\")","v":{"v":20779,"d":"20,779"}},{"$f":"+IFERROR(VLOOKUP($A30&$C$3,BaseCM_GEN!$A$3:$I$865,7,0),\"N.A.\")","v":{"v":5355,"d":"5,355"}}]
["SURAMERICANA",{"$f":"+IFERROR(VLOOKUP($A31&$C$3,BaseCM_GEN!$A$3:$I$865,4,0),\"N.A.\")","v":{"v":730807,"d":"730,807"}},{"$f":"+IFERROR(VLOOKUP($A31&$C$3,BaseCM_GEN!$A$3:$I$865,5,0),\"N.A.\")","v":{"v":63980,"d":"63,980"}},{"$f":"+IFERROR(VLOOKUP($A31&$C$3,BaseCM_GEN!$A$3:$I$865,6,0),\"N.A.\")","v":{"v":666827,"d":"666,827"}},{"$f":"+IFERROR(VLOOKUP($A31&$C$3,BaseCM_GEN!$A$3:$I$865,7,0),\"N.A.\")","v":{"v":78622,"d":"78,622"}}]
["ZURICH",{"$f":"+IFERROR(VLOOKUP($A32&$C$3,BaseCM_GEN!$A$3:$I$865,4,0),\"N.A.\")","v":{"v":196539,"d":"196,539"}},{"$f":"+IFERROR(VLOOKUP($A32&$C$3,BaseCM_GEN!$A$3:$I$865,5,0),\"N.A.\")","v":{"v":63980,"d":"63,980"}},{"$f":"+IFERROR(VLOOKUP($A32&$C$3,BaseCM_GEN!$A$3:$I$865,6,0),\"N.A.\")","v":{"v":132559,"d":"132,559"}},{"$f":"+IFERROR(VLOOKUP($A32&$C$3,BaseCM_GEN!$A$3:$I$865,7,0),\"N.A.\")","v":0}]

{"sheet":"BaseCM_VID","index":16,"n_rows":68,"n_cols":7,"rows_kept":68,"hidden":true}
[{"$nulls":3},"VALOR"]
[{"$nulls":3},"CAPITAL MINIMO ACREDITADO","CAPITAL MÍNIMO  REQUERIDO","EXCESO O DEFECTO","RESULTADOS DEL EJERCICIO"]
[{"$f":"+B3&C3","v":"ALFA VIDA45777"},"ALFA VIDA","2025-04-30",{"v":2131799,"d":"2,131,799"},{"v":38220,"d":"38,220.00"},{"v":2093579,"d":"2,093,579"},{"v":176954,"d":"176,954"}]
["ALFA VIDA45808","ALFA VIDA","2025-05-31",{"v":2131799,"d":"2,131,799"},{"v":38220,"d":"38,220.00"},{"v":2093579,"d":"2,093,579"},{"v":239362,"d":"239,362"}]
["ALFA VIDA45838","ALFA VIDA","2025-06-30",{"v":2131799,"d":"2,131,799"},{"v":38220,"d":"38,220.00"},{"v":2093579,"d":"2,093,579"},{"v":268721,"d":"268,721"}]
["ALLIANZ VIDA45777","ALLIANZ VIDA","2025-04-30",{"v":284029,"d":"284,029"},{"v":43472,"d":"43,472.00"},{"v":240557,"d":"240,557"},{"v":27661,"d":"27,661"}]
["ALLIANZ VIDA45808","ALLIANZ VIDA","2025-05-31",{"v":284029,"d":"284,029"},{"v":43472,"d":"43,472.00"},{"v":240557,"d":"240,557"},{"v":46189,"d":"46,189"}]
["ALLIANZ VIDA45838","ALLIANZ VIDA","2025-06-30",{"v":284029,"d":"284,029"},{"v":43472,"d":"43,472.00"},{"v":240557,"d":"240,557"},{"v":46341,"d":"46,341"}]
["ANDINA45777","ANDINA","2025-04-30",{"v":73489,"d":"73,489"},{"v":23005,"d":"23,005.00"},{"v":50484,"d":"50,484"},{"v":3020,"d":"3,020"}]
["ANDINA45808","ANDINA","2025-05-31",{"v":73489,"d":"73,489"},{"v":23005,"d":"23,005.00"},{"v":50484,"d":"50,484"},{"v":4558,"d":"4,558"}]
["ANDINA45838","ANDINA","2025-06-30",{"v":73489,"d":"73,489"},{"v":25932,"d":"25,932.00"},{"v":47557,"d":"47,557"},{"v":7379,"d":"7,379"}]
["ASULADO45777","ASULADO","2025-04-30",{"v":1099860,"d":"1,099,860"},{"v":25932,"d":"25,932.00"},{"v":1073928,"d":"1,073,928"},{"v":81294,"d":"81,294"}]
["ASULADO45808","ASULADO","2025-05-31",{"v":1099860,"d":"1,099,860"},{"v":25932,"d":"25,932.00"},{"v":1073928,"d":"1,073,928"},{"v":100955,"d":"100,955"}]
["ASULADO45838","ASULADO","2025-06-30",{"v":1099860,"d":"1,099,860"},{"v":25932,"d":"25,932.00"},{"v":1073928,"d":"1,073,928"},{"v":112588,"d":"112,588"}]
["AURORA VIDA45777","AURORA VIDA","2025-04-30",{"v":28376,"d":"28,376"},{"v":28297,"d":"28,297.00"},79,0]
["AURORA VIDA45808","AURORA VIDA","2025-05-31",{"v":29690,"d":"29,690"},{"v":28297,"d":"28,297.00"},{"v":1393,"d":"1,393"},0]
["AURORA VIDA45838","AURORA VIDA","2025-06-30",{"v":29145,"d":"29,145"},{"v":28297,"d":"28,297.00"},848,0]
["AXA COLPATRIA VIDA45777","AXA COLPATRIA VIDA","2025-04-30",{"v":996324,"d":"996,324"},{"v":46340,"d":"46,340.00"},{"v":949984,"d":"949,984"},{"v":108260,"d":"108,260"}]
["AXA COLPATRIA VIDA45808","AXA COLPATRIA VIDA","2025-05-31",{"v":996324,"d":"996,324"},{"v":46340,"d":"46,340.00"},{"v":949984,"d":"949,984"},{"v":143033,"d":"143,033"}]
["AXA COLPATRIA VIDA45838","AXA COLPATRIA VIDA","2025-06-30",{"v":996324,"d":"996,324"},{"v":46340,"d":"46,340.00"},{"v":949984,"d":"949,984"},{"v":167879,"d":"167,879"}]
["BBVA SEGUROS VIDA45777","BBVA SEGUROS VIDA","2025-04-30",{"v":682602,"d":"682,602"},{"v":38805,"d":"38,805.00"},{"v":643797,"d":"643,797"},{"v":71763,"d":"71,763"}]
["BBVA SEGUROS VIDA45808","BBVA SEGUROS VIDA","2025-05-31",{"v":682602,"d":"682,602"},{"v":38805,"d":"38,805.00"},{"v":643797,"d":"643,797"},{"v":94529,"d":"94,529"}]
["BBVA SEGUROS VIDA45838","BBVA SEGUROS VIDA","2025-06-30",{"v":682602,"d":"682,602"},{"v":38805,"d":"38,805.00"},{"v":643797,"d":"643,797"},{"v":108638,"d":"108,638"}]
["BMI COLOMBIA45777","BMI COLOMBIA","2025-04-30",{"v":27608,"d":"27,608"},{"v":23630,"d":"23,630.00"},{"v":3978,"d":"3,978"},299]
["BMI COLOMBIA45808","BMI COLOMBIA","2025-05-31",{"v":27608,"d":"27,608"},{"v":23630,"d":"23,630.00"},{"v":3978,"d":"3,978"},{"v":2813,"d":"2,813"}]
["BMI COLOMBIA45838","BMI COLOMBIA","2025-06-30",{"v":27608,"d":"27,608"},{"v":23630,"d":"23,630.00"},{"v":3978,"d":"3,978"},{"v":3255,"d":"3,255"}]
["BOLIVAR VIDA45777","BOLIVAR VIDA","2025-04-30",{"v":3149033,"d":"3,149,033"},{"v":43472,"d":"43,472.00"},{"v":3105561,"d":"3,105,561"},{"v":210348,"d":"210,348"}]
["BOLIVAR VIDA45808","BOLIVAR VIDA","2025-05-31",{"v":3148847,"d":"3,148,847"},{"v":43472,"d":"43,472.00"},{"v":3105375,"d":"3,105,375"},{"v":317349,"d":"317,349"}]
["BOLIVAR VIDA45838","BOLIVAR VIDA","2025-06-30",{"v":3148847,"d":"3,148,847"},{"v":43472,"d":"43,472.00"},{"v":3105375,"d":"3,105,375"},{"v":247767,"d":"247,767"}]
["COLMENA ARL45777","COLMENA ARL","2025-04-30",{"v":185514,"d":"185,514"},{"v":20676,"d":"20,676.00"},{"v":164838,"d":"164,838"},{"v":99054,"d":"99,054"}]
["COLMENA ARL45808","COLMENA ARL","2025-05-31",{"v":185514,"d":"185,514"},{"v":20676,"d":"20,676.00"},{"v":164838,"d":"164,838"},{"v":123069,"d":"123,069"}]
["COLMENA ARL45838","COLMENA ARL","2025-06-30",{"v":185514,"d":"185,514"},{"v":20676,"d":"20,676.00"},{"v":164838,"d":"164,838"},{"v":141684,"d":"141,684"}]
["COLMENA VIDA45777","COLMENA VIDA","2025-04-30",{"v":143229,"d":"143,229"},{"v":23630,"d":"23,630.00"},{"v":119599,"d":"119,599"},{"v":10811,"d":"10,811"}]
["COLMENA VIDA45808","COLMENA VIDA","2025-05-31",{"v":143229,"d":"143,229"},{"v":23630,"d":"23,630.00"},{"v":119599,"d":"119,599"},{"v":13048,"d":"13,048"}]
["COLMENA VIDA45838","COLMENA VIDA","2025-06-30",{"v":143229,"d":"143,229"},{"v":23630,"d":"23,630.00"},{"v":119599,"d":"119,599"},{"v":15968,"d":"15,968"}]
["COLSANITAS45777","COLSANITAS","2025-04-30",{"v":39336,"d":"39,336"},{"v":28297,"d":"28,297.00"},{"v":11039,"d":"11,039"},197]
[{"$f":"+B37&C37","v":"COLSANITAS45808"},"COLSANITAS","2025-05-31",{"v":46836,"d":"46,836"},{"v":28297,"d":"28,297.00"},{"v":18539,"d":"18,539"},254]
["COLSANITAS45838","COLSANITAS","2025-06-30",{"v":46163,"d":"46,163"},{"v":28297,"d":"28,297.00"},{"v":17866,"d":"17,866"},0]
["EQUIDAD VIDA45777","EQUIDAD VIDA","2025-04-30",{"v":67858,"d":"67,858"},{"v":34092,"d":"34,092.00"},{"v":33766,"d":"33,766"},0]
["EQUIDAD VIDA45808","EQUIDAD VIDA","2025-05-31",{"v":71017,"d":"71,017"},{"v":34092,"d":"34,092.00"},{"v":36925,"d":"36,925"},0]
["EQUIDAD VIDA45838","EQUIDAD VIDA","2025-06-30",{"v":72300,"d":"72,300"},{"v":34092,"d":"34,092.00"},{"v":38208,"d":"38,208"},0]
["ESTADO VIDA45777","ESTADO VIDA","2025-04-30",{"v":36148,"d":"36,148"},{"v":23630,"d":"23,630.00"},{"v":12518,"d":"12,518"},{"v":8113,"d":"8,113"}]
["ESTADO VIDA45808","ESTADO VIDA","2025-05-31",{"v":36148,"d":"36,148"},{"v":23630,"d":"23,630.00"},{"v":12518,"d":"12,518"},{"v":9524,"d":"9,524"}]
["ESTADO VIDA45838","ESTADO VIDA","2025-06-30",{"v":36148,"d":"36,148"},{"v":23630,"d":"23,630.00"},{"v":12518,"d":"12,518"},{"v":7560,"d":"7,560"}]
["GLOBAL45777","GLOBAL","2025-04-30",{"v":343014,"d":"343,014"},{"v":43440,"d":"43,440.00"},{"v":299574,"d":"299,574"},{"v":4732,"d":"4,732"}]
["GLOBAL45808","GLOBAL","2025-05-31",{"v":343014,"d":"343,014"},{"v":43440,"d":"43,440.00"},{"v":299574,"d":"299,574"},{"v":9657,"d":"9,657"}]
["GLOBAL45838","GLOBAL","2025-06-30",{"v":343014,"d":"343,014"},{"v":43440,"d":"43,440.00"},{"v":299574,"d":"299,574"},{"v":9657,"d":"9,657"}]
["MAPFRE VIDA45777","MAPFRE VIDA","2025-04-30",{"v":300268,"d":"300,268"},{"v":41088,"d":"41,088.00"},{"v":259180,"d":"259,180"},0]
["MAPFRE VIDA45808","MAPFRE VIDA","2025-05-31",{"v":301048,"d":"301,048"},{"v":41088,"d":"41,088.00"},{"v":259960,"d":"259,960"},0]
["MAPFRE VIDA45838","MAPFRE VIDA","2025-06-30",{"v":285816,"d":"285,816"},{"v":41088,"d":"41,088.00"},{"v":244728,"d":"244,728"},0]
["METLIFE45777","METLIFE","2025-04-30",{"v":418444,"d":"418,444"},{"v":35878,"d":"35,878.00"},{"v":382566,"d":"382,566"},{"v":20000,"d":"20,000"}]
["METLIFE45808","METLIFE","2025-05-31",{"v":418444,"d":"418,444"},{"v":35878,"d":"35,878.00"},{"v":382566,"d":"382,566"},{"v":27138,"d":"27,138"}]
["METLIFE45838","METLIFE","2025-06-30",{"v":418444,"d":"418,444"},{"v":35878,"d":"35,878.00"},{"v":382566,"d":"382,566"},{"v":28885,"d":"28,885"}]
["PANAMERICAN VIDA45777","PANAMERICAN VIDA","2025-04-30",{"v":73504,"d":"73,504"},{"v":23630,"d":"23,630.00"},{"v":49874,"d":"49,874"},175]
["PANAMERICAN VIDA45808","PANAMERICAN VIDA","2025-05-31",{"v":72780,"d":"72,780"},{"v":23630,"d":"23,630.00"},{"v":49150,"d":"49,150"},0]
["PANAMERICAN VIDA45838","PANAMERICAN VIDA","2025-06-30",{"v":72707,"d":"72,707"},{"v":23630,"d":"23,630.00"},{"v":49077,"d":"49,077"},0]
["POSITIVA45777","POSITIVA","2025-04-30",{"v":1129259,"d":"1,129,259"},{"v":40545,"d":"40,545.00"},{"v":1088714,"d":"1,088,714"},{"v":80708,"d":"80,708"}]
["POSITIVA45808","POSITIVA","2025-05-31",{"v":1129259,"d":"1,129,259"},{"v":40545,"d":"40,545.00"},{"v":1088714,"d":"1,088,714"},{"v":111616,"d":"111,616"}]
["POSITIVA45838","POSITIVA","2025-06-30",{"v":1129259,"d":"1,129,259"},{"v":40545,"d":"40,545.00"},{"v":1088714,"d":"1,088,714"},{"v":109087,"d":"109,087"}]
["SKANDIA45777","SKANDIA","2025-04-30",{"v":116047,"d":"116,047"},{"v":24188,"d":"24,188.00"},{"v":91859,"d":"91,859"},{"v":19216,"d":"19,216"}]
["SKANDIA45808","SKANDIA","2025-05-31",{"v":116047,"d":"116,047"},{"v":24188,"d":"24,188.00"},{"v":91859,"d":"91,859"},{"v":20559,"d":"20,559"}]
["SKANDIA45838","SKANDIA","2025-06-30",{"v":116047,"d":"116,047"},{"v":24188,"d":"24,188.00"},{"v":91859,"d":"91,859"},{"v":20407,"d":"20,407"}]
["SURAMERICANA VIDA45777","SURAMERICANA VIDA","2025-04-30",{"v":2557468,"d":"2,557,468"},{"v":63980,"d":"63,980.00"},{"v":2493488,"d":"2,493,488"},{"v":338940,"d":"338,940"}]
["SURAMERICANA VIDA45808","SURAMERICANA VIDA","2025-05-31",{"v":2557496,"d":"2,557,496"},{"v":63980,"d":"63,980.00"},{"v":2493516,"d":"2,493,516"},{"v":393280,"d":"393,280"}]
["SURAMERICANA VIDA45838","SURAMERICANA VIDA","2025-06-30",{"v":2557680,"d":"2,557,680"},{"v":63980,"d":"63,980.00"},{"v":2493700,"d":"2,493,700"},{"v":453351,"d":"453,351"}]
["COMPAÑÍAS45777","COMPAÑÍAS","2025-04-30",{"v":13883212,"d":"13,883,212"},{"v":714247,"d":"714,247.00"},{"v":13168965,"d":"13,168,965"},{"v":1261547,"d":"1,261,547"}]
["COMPAÑÍAS45808","COMPAÑÍAS","2025-05-31",{"v":13895082,"d":"13,895,082"},{"v":714247,"d":"714,247.00"},{"v":13180835,"d":"13,180,835"},{"v":1656933,"d":"1,656,933"}]
["COMPAÑÍAS45838","COMPAÑÍAS","2025-06-30",{"v":13880026,"d":"13,880,026"},{"v":717174,"d":"717,174.00"},{"v":13162852,"d":"13,162,852"},{"v":1749168,"d":"1,749,168"}]

{"sheet":"CM_VID","index":17,"n_rows":27,"n_cols":5,"rows_kept":27,"merged":[[0,1,0,4],[1,2,1,3],[2,2,2,3],[3,2,3,3],[4,0,5,0],[4,1,4,4]]}
[null,"COMPAÑÍAS DE SEGUROS DE VIDA"]
[null,null,"CAPITALES MÍNIMOS"]
[null,null,"2025-06-30"]
[null,null,"CIFRAS EN MILLONES DE PESOS"]
["COMPAÑÍAS","Valor"]
[null,"Capital Mínimo Acreditado","Capital Mínimo Requerido","Exceso o defecto","Resultados del Ejecicio"]
["ALFA VIDA",{"$f":"+IFERROR(VLOOKUP($A7&$C$3,BaseCM_VID!$A$3:$I$913,4,0),\"N.A.\")","v":{"v":2131799,"d":"2,131,799"}},{"$f":"+IFERROR(VLOOKUP($A7&$C$3,BaseCM_VID!$A$3:$I$913,5,0),\"N.A.\")","v":{"v":38220,"d":"38,220"}},{"$f":"+IFERROR(VLOOKUP($A7&$C$3,BaseCM_VID!$A$3:$I$913,6,0),\"N.A.\")","v":{"v":2093579,"d":"2,093,579"}},{"$f":"+IFERROR(VLOOKUP($A7&$C$3,BaseCM_VID!$A$3:$I$913,7,0),\"N.A.\")","v":{"v":268721,"d":"268,721"}}]
["ALLIANZ VIDA",{"$f":"+IFERROR(VLOOKUP($A8&$C$3,BaseCM_VID!$A$3:$I$913,4,0),\"N.A.\")","v":{"v":284029,"d":"284,029"}},{"$f":"+IFERROR(VLOOKUP($A8&$C$3,BaseCM_VID!$A$3:$I$913,5,0),\"N.A.\")","v":{"v":43472,"d":"43,472"}},{"$f":"+IFERROR(VLOOKUP($A8&$C$3,BaseCM_VID!$A$3:$I$913,6,0),\"N.A.\")","v":{"v":240557,"d":"240,557"}},{"$f":"+IFERROR(VLOOKUP($A8&$C$3,BaseCM_VID!$A$3:$I$913,7,0),\"N.A.\")","v":{"v":46341,"d":"46,341"}}]
["ANDINA",{"$f":"+IFERROR(VLOOKUP($A9&$C$3,BaseCM_VID!$A$3:$I$913,4,0),\"N.A.\")","v":{"v":73489,"d":"73,489"}},{"$f":"+IFERROR(VLOOKUP($A9&$C$3,BaseCM_VID!$A$3:$I$913,5,0),\"N.A.\")","v":{"v":25932,"d":"25,932"}},{"$f":"+IFERROR(VLOOKUP($A9&$C$3,BaseCM_VID!$A$3:$I$913,6,0),\"N.A.\")","v":{"v":47557,"d":"47,557"}},{"$f":"+IFERROR(VLOOKUP($A9&$C$3,BaseCM_VID!$A$3:$I$913,7,0),\"N.A.\")","v":{"v":7379,"d":"7,379"}}]
["ASULADO",{"$f":"+IFERROR(VLOOKUP($A10&$C$3,BaseCM_VID!$A$3:$I$913,4,0),\"N.A.\")","v":{"v":1099860,"d":"1,099,860"}},{"$f":"+IFERROR(VLOOKUP($A10&$C$3,BaseCM_VID!$A$3:$I$913,5,0),\"N.A.\")","v":{"v":25932,"d":"25,932"}},{"$f":"+IFERROR(VLOOKUP($A10&$C$3,BaseCM_VID!$A$3:$I$913,6,0),\"N.A.\")","v":{"v":1073928,"d":"1,073,928"}},{"$f":"+IFERROR(VLOOKUP($A10&$C$3,BaseCM_VID!$A$3:$I$913,7,0),\"N.A.\")","v":{"v":112588,"d":"112,588"}}]
["AURORA VIDA",{"$f":"+IFERROR(VLOOKUP($A11&$C$3,BaseCM_VID!$A$3:$I$913,4,0),\"N.A.\")","v":{"v":29145,"d":"29,145"}},{"$f":"+IFERROR(VLOOKUP($A11&$C$3,BaseCM_VID!$A$3:$I$913,5,0),\"N.A.\")","v":{"v":28297,"d":"28,297"}},{"$f":"+IFERROR(VLOOKUP($A11&$C$3,BaseCM_VID!$A$3:$I$913,6,0),\"N.A.\")","v":848},{"$f":"+IFERROR(VLOOKUP($A11&$C$3,BaseCM_VID!$A$3:$I$913,7,0),\"N.A.\")","v":0}]
["AXA COLPATRIA VIDA",{"$f":"+IFERROR(VLOOKUP($A12&$C$3,BaseCM_VID!$A$3:$I$913,4,0),\"N.A.\")","v":{"v":996324,"d":"996,324"}},{"$f":"+IFERROR(VLOOKUP($A12&$C$3,BaseCM_VID!$A$3:$I$913,5,0),\"N.A.\")","v":{"v":46340,"d":"46,340"}},{"$f":"+IFERROR(VLOOKUP($A12&$C$3,BaseCM_VID!$A$3:$I$913,6,0),\"N.A.\")","v":{"v":949984,"d":"949,984"}},{"$f":"+IFERROR(VLOOKUP($A12&$C$3,BaseCM_VID!$A$3:$I$913,7,0),\"N.A.\")","v":{"v":167879,"d":"167,879"}}]
["BBVA SEGUROS VIDA",{"$f":"+IFERROR(VLOOKUP($A13&$C$3,BaseCM_VID!$A$3:$I$913,4,0),\"N.A.\")","v":{"v":682602,"d":"682,602"}},{"$f":"+IFERROR(VLOOKUP($A13&$C$3,BaseCM_VID!$A$3:$I$913,5,0),\"N.A.\")","v":{"v":38805,"d":"38,805"}},{"$f":"+IFERROR(VLOOKUP($A13&$C$3,BaseCM_VID!$A$3:$I$913,6,0),\"N.A.\")","v":{"v":643797,"d":"643,797"}},{"$f":"+IFERROR(VLOOKUP($A13&$C$3,BaseCM_VID!$A$3:$I$913,7,0),\"N.A.\")","v":{"v":108638,"d":"108,638"}}]
["BMI COLOMBIA",{"$f":"+IFERROR(VLOOKUP($A14&$C$3,BaseCM_VID!$A$3:$I$913,4,0),\"N.A.\")","v":{"v":27608,"d":"27,608"}},{"$f":"+IFERROR(VLOOKUP($A14&$C$3,BaseCM_VID!$A$3:$I$913,5,0),\"N.A.\")","v":{"v":23630,"d":"23,630"}},{"$f":"+IFERROR(VLOOKUP($A14&$C$3,BaseCM_VID!$A$3:$I$913,6,0),\"N.A.\")","v":{"v":3978,"d":"3,978"}},{"$f":"+IFERROR(VLOOKUP($A14&$C$3,BaseCM_VID!$A$3:$I$913,7,0),\"N.A.\")","v":{"v":3255,"d":"3,255"}}]
["BOLIVAR VIDA",{"$f":"+IFERROR(VLOOKUP($A15&$C$3,BaseCM_VID!$A$3:$I$913,4,0),\"N.A.\")","v":{"v":3148847,"d":"3,148,847"}},{"$f":"+IFERROR(VLOOKUP($A15&$C$3,BaseCM_VID!$A$3:$I$913,5,0),\"N.A.\")","v":{"v":43472,"d":"43,472"}},{"$f":"+IFERROR(VLOOKUP($A15&$C$3,BaseCM_VID!$A$3:$I$913,6,0),\"N.A.\")","v":{"v":3105375,"d":"3,105,375"}},{"$f":"+IFERROR(VLOOKUP($A15&$C$3,BaseCM_VID!$A$3:$I$913,7,0),\"N.A.\")","v":{"v":247767,"d":"247,767"}}]
["COLMENA ARL",{"$f":"+IFERROR(VLOOKUP($A16&$C$3,BaseCM_VID!$A$3:$I$913,4,0),\"N.A.\")","v":{"v":185514,"d":"185,514"}},{"$f":"+IFERROR(VLOOKUP($A16&$C$3,BaseCM_VID!$A$3:$I$913,5,0),\"N.A.\")","v":{"v":20676,"d":"20,676"}},{"$f":"+IFERROR(VLOOKUP($A16&$C$3,BaseCM_VID!$A$3:$I$913,6,0),\"N.A.\")","v":{"v":164838,"d":"164,838"}},{"$f":"+IFERROR(VLOOKUP($A16&$C$3,BaseCM_VID!$A$3:$I$913,7,0),\"N.A.\")","v":{"v":141684,"d":"141,684"}}]
["COLMENA VIDA",{"$f":"+IFERROR(VLOOKUP($A17&$C$3,BaseCM_VID!$A$3:$I$913,4,0),\"N.A.\")","v":{"v":143229,"d":"143,229"}},{"$f":"+IFERROR(VLOOKUP($A17&$C$3,BaseCM_VID!$A$3:$I$913,5,0),\"N.A.\")","v":{"v":23630,"d":"23,630"}},{"$f":"+IFERROR(VLOOKUP($A17&$C$3,BaseCM_VID!$A$3:$I$913,6,0),\"N.A.\")","v":{"v":119599,"d":"119,599"}},{"$f":"+IFERROR(VLOOKUP($A17&$C$3,BaseCM_VID!$A$3:$I$913,7,0),\"N.A.\")","v":{"v":15968,"d":"15,968"}}]
["COLSANITAS",{"$f":"+IFERROR(VLOOKUP($A18&$C$3,BaseCM_VID!$A$3:$I$913,4,0),\"N.A.\")","v":{"v":46163,"d":"46,163"}},{"$f":"+IFERROR(VLOOKUP($A18&$C$3,BaseCM_VID!$A$3:$I$913,5,0),\"N.A.\")","v":{"v":28297,"d":"28,297"}},{"$f":"+IFERROR(VLOOKUP($A18&$C$3,BaseCM_VID!$A$3:$I$913,6,0),\"N.A.\")","v":{"v":17866,"d":"17,866"}},{"$f":"+IFERROR(VLOOKUP($A18&$C$3,BaseCM_VID!$A$3:$I$913,7,0),\"N.A.\")","v":0}]
["EQUIDAD VIDA",{"$f":"+IFERROR(VLOOKUP($A19&$C$3,BaseCM_VID!$A$3:$I$913,4,0),\"N.A.\")","v":{"v":72300,"d":"72,300"}},{"$f":"+IFERROR(VLOOKUP($A19&$C$3,BaseCM_VID!$A$3:$I$913,5,0),\"N.A.\")","v":{"v":34092,"d":"34,092"}},{"$f":"+IFERROR(VLOOKUP($A19&$C$3,BaseCM_VID!$A$3:$I$913,6,0),\"N.A.\")","v":{"v":38208,"d":"38,208"}},{"$f":"+IFERROR(VLOOKUP($A19&$C$3,BaseCM_VID!$A$3:$I$913,7,0),\"N.A.\")","v":0}]
["ESTADO VIDA",{"$f":"+IFERROR(VLOOKUP($A20&$C$3,BaseCM_VID!$A$3:$I$913,4,0),\"N.A.\")","v":{"v":36148,"d":"36,148"}},{"$f":"+IFERROR(VLOOKUP($A20&$C$3,BaseCM_VID!$A$3:$I$913,5,0),\"N.A.\")","v":{"v":23630,"d":"23,630"}},{"$f":"+IFERROR(VLOOKUP($A20&$C$3,BaseCM_VID!$A$3:$I$913,6,0),\"N.A.\")","v":{"v":12518,"d":"12,518"}},{"$f":"+IFERROR(VLOOKUP($A20&$C$3,BaseCM_VID!$A$3:$I$913,7,0),\"N.A.\")","v":{"v":7560,"d":"7,560"}}]
["GLOBAL",{"$f":"+IFERROR(VLOOKUP($A21&$C$3,BaseCM_VID!$A$3:$I$913,4,0),\"N.A.\")","v":{"v":343014,"d":"343,014"}},{"$f":"+IFERROR(VLOOKUP($A21&$C$3,BaseCM_VID!$A$3:$I$913,5,0),\"N.A.\")","v":{"v":43440,"d":"43,440"}},{"$f":"+IFERROR(VLOOKUP($A21&$C$3,BaseCM_VID!$A$3:$I$913,6,0),\"N.A.\")","v":{"v":299574,"d":"299,574"}},{"$f":"+IFERROR(VLOOKUP($A21&$C$3,BaseCM_VID!$A$3:$I$913,7,0),\"N.A.\")","v":{"v":9657,"d":"9,657"}}]
["MAPFRE VIDA",{"$f":"+IFERROR(VLOOKUP($A22&$C$3,BaseCM_VID!$A$3:$I$913,4,0),\"N.A.\")","v":{"v":285816,"d":"285,816"}},{"$f":"+IFERROR(VLOOKUP($A22&$C$3,BaseCM_VID!$A$3:$I$913,5,0),\"N.A.\")","v":{"v":41088,"d":"41,088"}},{"$f":"+IFERROR(VLOOKUP($A22&$C$3,BaseCM_VID!$A$3:$I$913,6,0),\"N.A.\")","v":{"v":244728,"d":"244,728"}},{"$f":"+IFERROR(VLOOKUP($A22&$C$3,BaseCM_VID!$A$3:$I$913,7,0),\"N.A.\")","v":0}]
["METLIFE",{"$f":"+IFERROR(VLOOKUP($A23&$C$3,BaseCM_VID!$A$3:$I$913,4,0),\"N.A.\")","v":{"v":418444,"d":"418,444"}},{"$f":"+IFERROR(VLOOKUP($A23&$C$3,BaseCM_VID!$A$3:$I$913,5,0),\"N.A.\")","v":{"v":35878,"d":"35,878"}},{"$f":"+IFERROR(VLOOKUP($A23&$C$3,BaseCM_VID!$A$3:$I$913,6,0),\"N.A.\")","v":{"v":382566,"d":"382,566"}},{"$f":"+IFERROR(VLOOKUP($A23&$C$3,BaseCM_VID!$A$3:$I$913,7,0),\"N.A.\")","v":{"v":28885,"d":"28,885"}}]
["PANAMERICAN VIDA",{"$f":"+IFERROR(VLOOKUP($A24&$C$3,BaseCM_VID!$A$3:$I$913,4,0),\"N.A.\")","v":{"v":72707,"d":"72,707"}},{"$f":"+IFERROR(VLOOKUP($A24&$C$3,BaseCM_VID!$A$3:$I$913,5,0),\"N.A.\")","v":{"v":23630,"d":"23,630"}},{"$f":"+IFERROR(VLOOKUP($A24&$C$3,BaseCM_VID!$A$3:$I$913,6,0),\"N.A.\")","v":{"v":49077,"d":"49,077"}},{"$f":"+IFERROR(VLOOKUP($A24&$C$3,BaseCM_VID!$A$3:$I$913,7,0),\"N.A.\")","v":0}]
["POSITIVA",{"$f":"+IFERROR(VLOOKUP($A25&$C$3,BaseCM_VID!$A$3:$I$913,4,0),\"N.A.\")","v":{"v":1129259,"d":"1,129,259"}},{"$f":"+IFERROR(VLOOKUP($A25&$C$3,BaseCM_VID!$A$3:$I$913,5,0),\"N.A.\")","v":{"v":40545,"d":"40,545"}},{"$f":"+IFERROR(VLOOKUP($A25&$C$3,BaseCM_VID!$A$3:$I$913,6,0),\"N.A.\")","v":{"v":1088714,"d":"1,088,714"}},{"$f":"+IFERROR(VLOOKUP($A25&$C$3,BaseCM_VID!$A$3:$I$913,7,0),\"N.A.\")","v":{"v":109087,"d":"109,087"}}]
["SKANDIA",{"$f":"+IFERROR(VLOOKUP($A26&$C$3,BaseCM_VID!$A$3:$I$913,4,0),\"N.A.\")","v":{"v":116047,"d":"116,047"}},{"$f":"+IFERROR(VLOOKUP($A26&$C$3,BaseCM_VID!$A$3:$I$913,5,0),\"N.A.\")","v":{"v":24188,"d":"24,188"}},{"$f":"+IFERROR(VLOOKUP($A26&$C$3,BaseCM_VID!$A$3:$I$913,6,0),\"N.A.\")","v":{"v":91859,"d":"91,859"}},{"$f":"+IFERROR(VLOOKUP($A26&$C$3,BaseCM_VID!$A$3:$I$913,7,0),\"N.A.\")","v":{"v":20407,"d":"20,407"}}]
["SURAMERICANA VIDA",{"$f":"+IFERROR(VLOOKUP($A27&$C$3,BaseCM_VID!$A$3:$I$913,4,0),\"N.A.\")","v":{"v":2557680,"d":"2,557,680"}},{"$f":"+IFERROR(VLOOKUP($A27&$C$3,BaseCM_VID!$A$3:$I$913,5,0),\"N.A.\")","v":{"v":63980,"d":"63,980"}},{"$f":"+IFERROR(VLOOKUP($A27&$C$3,BaseCM_VID!$A$3:$I$913,6,0),\"N.A.\")","v":{"v":2493700,"d":"2,493,700"}},{"$f":"+IFERROR(VLOOKUP($A27&$C$3,BaseCM_VID!$A$3:$I$913,7,0),\"N.A.\")","v":{"v":453351,"d":"453,351"}}]